BEGIN:VCALENDAR
VERSION:2.0
PRODID:-//Elkins-Randolph County Tourism - ECPv6.15.20//NONSGML v1.0//EN
CALSCALE:GREGORIAN
METHOD:PUBLISH
X-ORIGINAL-URL:https://elkinsrandolphwv.com
X-WR-CALDESC:Events for Elkins-Randolph County Tourism
REFRESH-INTERVAL;VALUE=DURATION:PT1H
X-Robots-Tag:noindex
X-PUBLISHED-TTL:PT1H
BEGIN:VTIMEZONE
TZID:UTC
BEGIN:STANDARD
TZOFFSETFROM:+0000
TZOFFSETTO:+0000
TZNAME:UTC
DTSTART:20240101T000000
END:STANDARD
END:VTIMEZONE
BEGIN:VEVENT
DTSTART;TZID=UTC:20250221T190000
DTEND;TZID=UTC:20250221T210000
DTSTAMP:20260424T035325
CREATED:20250109T212148Z
LAST-MODIFIED:20250109T212148Z
UID:29801-1740164400-1740171600@elkinsrandolphwv.com
SUMMARY:Elkins Barn Dance Collective Square Dance
DESCRIPTION:Music and Calling TBA \nLocation: Big Timber \nDate: February 21\, 2025 7:00 – 9:00pm \nGeneral Admission: $10; Students/AmeriCorps/Fixed Income: $5 \nhttps://augustaartsandculture.org/events/elkins-barn-dance-collective-square-dance-4/
URL:https://elkinsrandolphwv.com/event/elkins-barn-dance-collective-square-dance-2/
LOCATION:Big Timber Brewing\, 2 Davis Avenue\, Elkins\, WV\, 26241\, United States
END:VEVENT
BEGIN:VEVENT
DTSTART;TZID=UTC:20250221T190000
DTEND;TZID=UTC:20250221T210000
DTSTAMP:20260424T035325
CREATED:20250219T210939Z
LAST-MODIFIED:20250219T210939Z
UID:29881-1740164400-1740171600@elkinsrandolphwv.com
SUMMARY:Family Fun Night
DESCRIPTION:Friday\, February 21st at 7:00 PM for a night of fun\, games\, and lots of laughs!\nWhether you’re in the mood for some friendly competition or just want to relax and enjoy time with the family\, there’ll be something for everyone!
URL:https://elkinsrandolphwv.com/event/family-fun-night/
LOCATION:Good Shepherd Assembly of God\, 312 Wilson St.\, Elkins\, WV\, 26241\, United States
END:VEVENT
BEGIN:VEVENT
DTSTART;TZID=UTC:20250221T193000
DTEND;TZID=UTC:20250221T220000
DTSTAMP:20260424T035325
CREATED:20250219T211645Z
LAST-MODIFIED:20250219T211645Z
UID:29889-1740166200-1740175200@elkinsrandolphwv.com
SUMMARY:Live Music at El Gran Sabor | The Ginsangers
DESCRIPTION:
URL:https://elkinsrandolphwv.com/event/live-music-at-el-gran-sabor-the-ginsangers/
LOCATION:El Gran Sabor\, 413 Kerens Ave\, Elkins\, WV 26241\, USA\, 155 Kerens Ave\, United States
GEO:38.92349;-79.848286
X-APPLE-STRUCTURED-LOCATION;VALUE=URI;X-ADDRESS=El Gran Sabor 413 Kerens Ave Elkins WV 26241 USA 155 Kerens Ave United States;X-APPLE-RADIUS=500;X-TITLE=155 Kerens Ave:geo:-79.848286,38.92349
END:VEVENT
BEGIN:VEVENT
DTSTART;TZID=UTC:20250221T200000
DTEND;TZID=UTC:20250221T220000
DTSTAMP:20260424T035325
CREATED:20250219T211520Z
LAST-MODIFIED:20250219T211520Z
UID:29887-1740168000-1740175200@elkinsrandolphwv.com
SUMMARY:Live Music at Beanders | Cody & Morgan of Beyond the Barrier
DESCRIPTION:
URL:https://elkinsrandolphwv.com/event/live-music-at-beanders-cody-morgan-of-beyond-the-barrier/
END:VEVENT
END:VCALENDAR