BEGIN:VCALENDAR
VERSION:2.0
PRODID:-//Elkins-Randolph County Tourism - ECPv6.15.20//NONSGML v1.0//EN
CALSCALE:GREGORIAN
METHOD:PUBLISH
X-WR-CALNAME:Elkins-Randolph County Tourism
X-ORIGINAL-URL:https://elkinsrandolphwv.com
X-WR-CALDESC:Events for Elkins-Randolph County Tourism
REFRESH-INTERVAL;VALUE=DURATION:PT1H
X-Robots-Tag:noindex
X-PUBLISHED-TTL:PT1H
BEGIN:VTIMEZONE
TZID:UTC
BEGIN:STANDARD
TZOFFSETFROM:+0000
TZOFFSETTO:+0000
TZNAME:UTC
DTSTART:20240101T000000
END:STANDARD
END:VTIMEZONE
BEGIN:VEVENT
DTSTART;VALUE=DATE:20250401
DTEND;VALUE=DATE:20250414
DTSTAMP:20260423T050627
CREATED:20250320T182531Z
LAST-MODIFIED:20250320T182531Z
UID:29983-1743472800-1744509599@elkinsrandolphwv.com
SUMMARY:West Virginia Gold Rush
DESCRIPTION:During this two-week period\, West Virginia Department of Natural Resources will stock 68 lakes and streams with the Mountain State’s very own golden rainbow trout. This fish is prized by anglers for its unmistakable\, bright-yellow color. 50\,000 golden trout will be entering our lakes and streams\, and this year\, 500 fish will be tagged. Catch a tagged trout and submit the information to receive a special prize from WV DNR.\n\nCLOSEST FISHING LOCATIONS:Mill Creek Reservoir – 17 miTeter Creek Lake – 18 miUpper Shavers Fork River – 20 miTygart Tailwaters – (Tygart State Park) – 44 miBlackwater River – 45 miSpruce Knob Lake – 38 mi
URL:https://elkinsrandolphwv.com/event/west-virginia-gold-rush/
END:VEVENT
BEGIN:VEVENT
DTSTART;TZID=UTC:20250411T173000
DTEND;TZID=UTC:20250411T190000
DTSTAMP:20260423T050627
CREATED:20250409T220645Z
LAST-MODIFIED:20250409T220645Z
UID:30130-1744392600-1744398000@elkinsrandolphwv.com
SUMMARY:Champions for Children | Randolph-Tucker Children’s Advocacy Center
DESCRIPTION:On Friday\, April 11th\, Randolph-Tucker Children’s Advocacy Center will be hosting the annual Champions for Children event at Orchard Hall. Social hour will begin with appetizers at 5:45 pm\, with a full dinner prepared by the men and women of St. Patrick’s Church of Coalton\, longtime supporters and dedicated volunteers for the CAC. Attendees will enjoy social hour and dinner\, followed by an awards ceremony to honor individuals and organizations in three award categories: Professional\, Community Partners\, and Samaritans. We’ll complete the evening with a live auction of arts\, crafts\, and gift packages.
URL:https://elkinsrandolphwv.com/event/champions-for-children-randolph-tucker-childrens-advocacy-center/
LOCATION:Orchard Hall\, 476 Harper Road\, Elkins\, WV\, 26241\, United States
END:VEVENT
BEGIN:VEVENT
DTSTART;TZID=UTC:20250411T180000
DTEND;TZID=UTC:20250411T200000
DTSTAMP:20260423T050627
CREATED:20250327T205744Z
LAST-MODIFIED:20250327T205744Z
UID:30021-1744394400-1744401600@elkinsrandolphwv.com
SUMMARY:Open Mic Poetry Night at The Arts Center
DESCRIPTION:Join us on April 11th\, from 6-8PM\, to celebrate National Poetry Month & our local poets!Everyone is welcome to read a poem of their choice! It can be work of your own\, or one of your favorites – we welcome it all.Entry and participation are totally free. We will have cookies and drinks for our guests to enjoy.
URL:https://elkinsrandolphwv.com/event/open-mic-poetry-night-at-the-arts-center/
LOCATION:Randolph County Community Arts Center\, 2 Park Street\, Elkins\, 26241
END:VEVENT
BEGIN:VEVENT
DTSTART;TZID=UTC:20250411T193000
DTEND;TZID=UTC:20250411T210000
DTSTAMP:20260423T050627
CREATED:20250327T222555Z
LAST-MODIFIED:20250327T222555Z
UID:30027-1744399800-1744405200@elkinsrandolphwv.com
SUMMARY:D&E Theater and Film Program Present "Peter and the Starcatcher"
DESCRIPTION:The Davis & Elkins Theater and Film Program is excited to present a magical performance of Peter and the Starcatcher\, directed by Aubrey Helene Neumann.\n\nPerformances will be held April 10th-12th @ 7:30 pm and April 13th @ 2:30 pm in the Harper McNeely Auditorium at the Myles Center for the Arts\, on the campus of Davis and Elkins College.\n\nTony-winning Peter and the Starcatcher upends the century-old story of how a miserable orphan comes to be The Boy Who Would Not Grow Up (a.k.a. Peter Pan). A wildly theatrical adaptation of Dave Barry and Ridley Pearson’s best-selling novels\, the play was conceived for the stage by directors\, Roger Rees and Alex Timbers\, and written by Rick Elice\, with music by Wayne Barker. From marauding pirates and jungle tyrants to unwilling comrades and unlikely heroes\, Peter and the Starcatcher playfully explores the depths of greed and despair… and the bonds of friendship\, duty and love.
URL:https://elkinsrandolphwv.com/event/de-theater-and-film-program-present-peter-and-the-starcatcher/2025-04-11/
LOCATION:Davis and Elkins College
END:VEVENT
END:VCALENDAR