BEGIN:VCALENDAR
VERSION:2.0
PRODID:-//Elkins-Randolph County Tourism - ECPv6.15.17.1//NONSGML v1.0//EN
CALSCALE:GREGORIAN
METHOD:PUBLISH
X-ORIGINAL-URL:https://elkinsrandolphwv.com
X-WR-CALDESC:Events for Elkins-Randolph County Tourism
REFRESH-INTERVAL;VALUE=DURATION:PT1H
X-Robots-Tag:noindex
X-PUBLISHED-TTL:PT1H
BEGIN:VTIMEZONE
TZID:UTC
BEGIN:STANDARD
TZOFFSETFROM:+0000
TZOFFSETTO:+0000
TZNAME:UTC
DTSTART:20240101T000000
END:STANDARD
END:VTIMEZONE
BEGIN:VEVENT
DTSTART;VALUE=DATE:20250401
DTEND;VALUE=DATE:20250414
DTSTAMP:20260421T160232
CREATED:20250320T182531Z
LAST-MODIFIED:20250320T182531Z
UID:29983-1743472800-1744509599@elkinsrandolphwv.com
SUMMARY:West Virginia Gold Rush
DESCRIPTION:During this two-week period\, West Virginia Department of Natural Resources will stock 68 lakes and streams with the Mountain State’s very own golden rainbow trout. This fish is prized by anglers for its unmistakable\, bright-yellow color. 50\,000 golden trout will be entering our lakes and streams\, and this year\, 500 fish will be tagged. Catch a tagged trout and submit the information to receive a special prize from WV DNR.\n\nCLOSEST FISHING LOCATIONS:Mill Creek Reservoir – 17 miTeter Creek Lake – 18 miUpper Shavers Fork River – 20 miTygart Tailwaters – (Tygart State Park) – 44 miBlackwater River – 45 miSpruce Knob Lake – 38 mi
URL:https://elkinsrandolphwv.com/event/west-virginia-gold-rush/
END:VEVENT
BEGIN:VEVENT
DTSTART;TZID=UTC:20250412T100000
DTEND;TZID=UTC:20250412T110000
DTSTAMP:20260421T160232
CREATED:20250327T205331Z
LAST-MODIFIED:20250327T205331Z
UID:30016-1744452000-1744455600@elkinsrandolphwv.com
SUMMARY:Free Egg Hunt at Camp Pioneer
DESCRIPTION:Begins at 10am. \nMeet the Easter Bunny\, fun and games\, and face painting. \n$10 breakfast (optional)
URL:https://elkinsrandolphwv.com/event/free-egg-hunt-at-camp-pioneer/
LOCATION:Camp Pioneer\, 38 Pioneer Circle\, Kings Run Rd\, Beverly\, WV 26253\, USA\, 38 Pioneer Circle\, Kings Run Road\, Beverly\, WV\, United States
GEO:38.818697;-79.853493
X-APPLE-STRUCTURED-LOCATION;VALUE=URI;X-ADDRESS=Camp Pioneer 38 Pioneer Circle Kings Run Rd Beverly WV 26253 USA 38 Pioneer Circle Kings Run Road Beverly WV United States;X-APPLE-RADIUS=500;X-TITLE=38 Pioneer Circle\, Kings Run Road:geo:-79.853493,38.818697
END:VEVENT
BEGIN:VEVENT
DTSTART;TZID=UTC:20250412T110000
DTEND;TZID=UTC:20250412T150000
DTSTAMP:20260421T160232
CREATED:20250409T200126Z
LAST-MODIFIED:20250409T200126Z
UID:30056-1744455600-1744470000@elkinsrandolphwv.com
SUMMARY:Scenic Train Excursion | New Tygart Flyer
DESCRIPTION:This wilderness excursion features mountain grades\, an “S” curve tunnel\, a high bridge and miles of unspoiled mountain views. Vintage diesel-powered locomotives climb along the cascading Shavers Fork of the Cheat River to the High Falls of Cheat. Enjoy the view relaxing aboard our comfortable climate controlled passenger coaches. \nThis vintage diesel-powered passenger train has gained a reputation as one of the most relaxing mountain wilderness excursions in our Mountain Rail Adventure portfolio. The 4-hour\, 46 mile round trip departs at 11 a.m. from the restored Elkins Depot on Railroad Avenue. \nOn the trip to the Falls\, enjoy a cold cut lunch\, which is included in the ticket price. The trip culminates at the High Falls of Cheat\, an 18′ high\, 150′ wide waterfall located in one of the most remote and pristine settings in the region. If you’re looking for comfort and spectacular views on a vintage train this is the ride for you! \nLooking for extra leg room? Adult beverages? Your own private train host? Upgrade to our Parlor Car service for these special perks and more. \nBook Tickets:  \n 
URL:https://elkinsrandolphwv.com/event/scenic-train-excursion-new-tygart-flyer/2025-04-12/
LOCATION:Durbin & Greenbrier Valley Railroad Elkins\, WV 26241 USA\, United States
GEO:38.205009;-80.526508
END:VEVENT
BEGIN:VEVENT
DTSTART;TZID=UTC:20250412T150000
DTEND;TZID=UTC:20250412T170000
DTSTAMP:20260421T160232
CREATED:20250304T012348Z
LAST-MODIFIED:20250304T012348Z
UID:29933-1744470000-1744477200@elkinsrandolphwv.com
SUMMARY:Citizens Promoting Community's Donate Life Walk
DESCRIPTION:
URL:https://elkinsrandolphwv.com/event/citizens-promoting-communitys-donate-life-walk/
LOCATION:Rotary Ampitheatre in Elkins Town Square\, 315 Railroad Avenue\, Elkins\, WV\, 26241\, United States\, 2 Railroad Ave\, United States
GEO:38.92313;-79.851004
X-APPLE-STRUCTURED-LOCATION;VALUE=URI;X-ADDRESS=Rotary Ampitheatre in Elkins Town Square 315 Railroad Avenue Elkins WV 26241 United States 2 Railroad Ave United States;X-APPLE-RADIUS=500;X-TITLE=2 Railroad Ave:geo:-79.851004,38.92313
END:VEVENT
BEGIN:VEVENT
DTSTART;TZID=UTC:20250412T163000
DTEND;TZID=UTC:20250412T190000
DTSTAMP:20260421T160232
CREATED:20250409T215737Z
LAST-MODIFIED:20250409T215737Z
UID:30128-1744475400-1744484400@elkinsrandolphwv.com
SUMMARY:Mountaineer Chapter IWLA Conservation Banquet
DESCRIPTION:Its Conservation Banquet time again!! We will be having a live auction\, silent auction\, raffles & games. We look forward to seeing you there!!
URL:https://elkinsrandolphwv.com/event/mountaineer-chapter-iwla-conservation-banquet/
LOCATION:Gandy Dancer Theatre and Conference Center\, 359 Beverly Pike\, Elkins\, WV 26241\, USA\, United States
GEO:38.918641;-79.842607
END:VEVENT
BEGIN:VEVENT
DTSTART;TZID=UTC:20250412T193000
DTEND;TZID=UTC:20250412T210000
DTSTAMP:20260421T160232
CREATED:20250327T222555Z
LAST-MODIFIED:20250327T222555Z
UID:30028-1744486200-1744491600@elkinsrandolphwv.com
SUMMARY:D&E Theater and Film Program Present "Peter and the Starcatcher"
DESCRIPTION:The Davis & Elkins Theater and Film Program is excited to present a magical performance of Peter and the Starcatcher\, directed by Aubrey Helene Neumann.\n\nPerformances will be held April 10th-12th @ 7:30 pm and April 13th @ 2:30 pm in the Harper McNeely Auditorium at the Myles Center for the Arts\, on the campus of Davis and Elkins College.\n\nTony-winning Peter and the Starcatcher upends the century-old story of how a miserable orphan comes to be The Boy Who Would Not Grow Up (a.k.a. Peter Pan). A wildly theatrical adaptation of Dave Barry and Ridley Pearson’s best-selling novels\, the play was conceived for the stage by directors\, Roger Rees and Alex Timbers\, and written by Rick Elice\, with music by Wayne Barker. From marauding pirates and jungle tyrants to unwilling comrades and unlikely heroes\, Peter and the Starcatcher playfully explores the depths of greed and despair… and the bonds of friendship\, duty and love.
URL:https://elkinsrandolphwv.com/event/de-theater-and-film-program-present-peter-and-the-starcatcher/2025-04-12/
LOCATION:Davis and Elkins College
END:VEVENT
END:VCALENDAR