BEGIN:VCALENDAR
VERSION:2.0
PRODID:-//Elkins-Randolph County Tourism - ECPv6.15.20//NONSGML v1.0//EN
CALSCALE:GREGORIAN
METHOD:PUBLISH
X-WR-CALNAME:Elkins-Randolph County Tourism
X-ORIGINAL-URL:https://elkinsrandolphwv.com
X-WR-CALDESC:Events for Elkins-Randolph County Tourism
REFRESH-INTERVAL;VALUE=DURATION:PT1H
X-Robots-Tag:noindex
X-PUBLISHED-TTL:PT1H
BEGIN:VTIMEZONE
TZID:UTC
BEGIN:STANDARD
TZOFFSETFROM:+0000
TZOFFSETTO:+0000
TZNAME:UTC
DTSTART:20240101T000000
END:STANDARD
END:VTIMEZONE
BEGIN:VEVENT
DTSTART;TZID=UTC:20250415T180000
DTEND;TZID=UTC:20250415T200000
DTSTAMP:20260422T160532
CREATED:20250409T193716Z
LAST-MODIFIED:20250409T193716Z
UID:30052-1744740000-1744747200@elkinsrandolphwv.com
SUMMARY:Community Table
DESCRIPTION:Break Bread with neighbors on Tuesday\, April 15 from 6-8pm. Local restaurants will be giving away soup and bread to the community. Tables will be set up on Davis Ave. This is an event for everyone! \nRain Date is April 16th from 6-8pm \nQuestions – 304-636-6000
URL:https://elkinsrandolphwv.com/event/community-table/
LOCATION:Downtown Elkins\, Davis Avenue\, Elkins\, WV\, 26241\, United States
END:VEVENT
END:VCALENDAR