BEGIN:VCALENDAR
VERSION:2.0
PRODID:-//Elkins-Randolph County Tourism - ECPv6.15.17.1//NONSGML v1.0//EN
CALSCALE:GREGORIAN
METHOD:PUBLISH
X-WR-CALNAME:Elkins-Randolph County Tourism
X-ORIGINAL-URL:https://elkinsrandolphwv.com
X-WR-CALDESC:Events for Elkins-Randolph County Tourism
REFRESH-INTERVAL;VALUE=DURATION:PT1H
X-Robots-Tag:noindex
X-PUBLISHED-TTL:PT1H
BEGIN:VTIMEZONE
TZID:UTC
BEGIN:STANDARD
TZOFFSETFROM:+0000
TZOFFSETTO:+0000
TZNAME:UTC
DTSTART:20240101T000000
END:STANDARD
END:VTIMEZONE
BEGIN:VEVENT
DTSTART;TZID=UTC:20250608T110000
DTEND;TZID=UTC:20250608T150000
DTSTAMP:20260421T173714
CREATED:20250409T201402Z
LAST-MODIFIED:20250409T201402Z
UID:30080-1749380400-1749394800@elkinsrandolphwv.com
SUMMARY:Scenic Train Excursion | New Tygart Flyer
DESCRIPTION:This wilderness excursion features mountain grades\, an “S” curve tunnel\, a high bridge and miles of unspoiled mountain views. Vintage diesel-powered locomotives climb along the cascading Shavers Fork of the Cheat River to the High Falls of Cheat. Enjoy the view relaxing aboard our comfortable climate controlled passenger coaches. \nThis vintage diesel-powered passenger train has gained a reputation as one of the most relaxing mountain wilderness excursions in our Mountain Rail Adventure portfolio. The 4-hour\, 46 mile round trip departs at 11 a.m. from the restored Elkins Depot on Railroad Avenue. \nOn the trip to the Falls\, enjoy a cold cut lunch\, which is included in the ticket price. The trip culminates at the High Falls of Cheat\, an 18′ high\, 150′ wide waterfall located in one of the most remote and pristine settings in the region. If you’re looking for comfort and spectacular views on a vintage train this is the ride for you! \nLooking for extra leg room? Adult beverages? Your own private train host? Upgrade to our Parlor Car service for these special perks and more. \nBook Tickets: 
URL:https://elkinsrandolphwv.com/event/scenic-train-excursion-new-tygart-flyer-5/2025-06-08/
LOCATION:Durbin & Greenbrier Valley Railroad Elkins\, WV 26241 USA\, United States
ORGANIZER;CN="Durbin & Greenbrier Valley Railroad":MAILTO:ticketinfo@mountainrail.com
GEO:38.205009;-80.526508
END:VEVENT
BEGIN:VEVENT
DTSTART;TZID=UTC:20250608T130000
DTEND;TZID=UTC:20250608T143000
DTSTAMP:20260421T173714
CREATED:20250520T213920Z
LAST-MODIFIED:20250520T213920Z
UID:30786-1749387600-1749393000@elkinsrandolphwv.com
SUMMARY:High Mountain Harmony Musical Theater Performance
DESCRIPTION:When: June 7th – 1pm & 6pm OR\nJune 8th – 1pm\nWhere: Rotary Ampitheater in the Elkins Town Square \nWhen the 10th Mountain Division comes to town to train on Seneca Rocks\, the lives of the Delmon family are turned upside down! Hijinks and romance are in the air in this original musical from our own Missy McCollam and Phil Smith\, with music by Dr. Scott Green\, performed live in the Rotary Amphitheater in downtown Elkins! \nHistorically based\, High Mountain Harmony focuses on the home front during World War II\, where the people of West Virginia banded together to support troops training\, climbing\, and mountaineering in Seneca Rocks in preparation for the Italian terrain. \nThis project is produced through a grant from the Appalachian Forest National Heritage Area \nReserve your seats here
URL:https://elkinsrandolphwv.com/event/high-mountain-harmony-musical-theater-performance/2025-06-08/
LOCATION:Rotary Ampitheatre in Elkins Town Square\, 315 Railroad Avenue\, Elkins\, WV\, 26241\, United States\, 2 Railroad Ave\, United States
GEO:38.92313;-79.851004
X-APPLE-STRUCTURED-LOCATION;VALUE=URI;X-ADDRESS=Rotary Ampitheatre in Elkins Town Square 315 Railroad Avenue Elkins WV 26241 United States 2 Railroad Ave United States;X-APPLE-RADIUS=500;X-TITLE=2 Railroad Ave:geo:-79.851004,38.92313
END:VEVENT
END:VCALENDAR