BEGIN:VCALENDAR
VERSION:2.0
PRODID:-//Elkins-Randolph County Tourism - ECPv6.15.20//NONSGML v1.0//EN
CALSCALE:GREGORIAN
METHOD:PUBLISH
X-ORIGINAL-URL:https://elkinsrandolphwv.com
X-WR-CALDESC:Events for Elkins-Randolph County Tourism
REFRESH-INTERVAL;VALUE=DURATION:PT1H
X-Robots-Tag:noindex
X-PUBLISHED-TTL:PT1H
BEGIN:VTIMEZONE
TZID:UTC
BEGIN:STANDARD
TZOFFSETFROM:+0000
TZOFFSETTO:+0000
TZNAME:UTC
DTSTART:20240101T000000
END:STANDARD
END:VTIMEZONE
BEGIN:VEVENT
DTSTART;TZID=UTC:20250705T080000
DTEND;TZID=UTC:20250705T120000
DTSTAMP:20260422T234036
CREATED:20250508T200057Z
LAST-MODIFIED:20250508T200057Z
UID:30668-1751702400-1751716800@elkinsrandolphwv.com
SUMMARY:Elkins Farmer's Market
DESCRIPTION:Market Opening Day has been set for May 3rd and will run through at least October 11th\, but we may extend the end date\, weather permitting. Saturdays 8am – Noon
URL:https://elkinsrandolphwv.com/event/elkins-farmers-market-2/2025-07-05/
LOCATION:The Rotary Ampitheatre in Elkins Town Square\, 315 Railroad Avenue\, Elkins\, WV\, 26241\, United States
ORGANIZER;CN="Elkins Farmers Market":MAILTO:elkinsfarmersmarket@gmail.com
END:VEVENT
BEGIN:VEVENT
DTSTART;TZID=UTC:20250705T090000
DTEND;TZID=UTC:20250706T150000
DTSTAMP:20260422T234036
CREATED:20250402T184239Z
LAST-MODIFIED:20250402T184239Z
UID:30040-1751706000-1751814000@elkinsrandolphwv.com
SUMMARY:Mountain State Street Machines Auto Extravaganza
DESCRIPTION:Friday\, July 4th at 5pm – Free Concert & Fireworks \nSaturday\, July 5th at 9am-3pm – Main Car Show with prizes\, trophies and plaques \nNo Show on Sunday*
URL:https://elkinsrandolphwv.com/event/mountain-state-street-machines-auto-extravaganza-4/2025-07-05/
END:VEVENT
BEGIN:VEVENT
DTSTART;TZID=UTC:20250705T110000
DTEND;TZID=UTC:20250705T120000
DTSTAMP:20260422T234036
CREATED:20250627T174222Z
LAST-MODIFIED:20250627T174222Z
UID:30878-1751713200-1751716800@elkinsrandolphwv.com
SUMMARY:Lions Club of Elkins Chicken Barbecue
DESCRIPTION:
URL:https://elkinsrandolphwv.com/event/lions-club-of-elkins-chicken-barbecue-2/
LOCATION:Old IGA Parking Lot\, 32 Randolph Ave\, Elkins\, WV\, 26241\, United States
CATEGORIES:Food
END:VEVENT
BEGIN:VEVENT
DTSTART;TZID=UTC:20250705T110000
DTEND;TZID=UTC:20250705T150000
DTSTAMP:20260422T234036
CREATED:20250409T201402Z
LAST-MODIFIED:20250409T201402Z
UID:30096-1751713200-1751727600@elkinsrandolphwv.com
SUMMARY:Scenic Train Excursion | New Tygart Flyer
DESCRIPTION:This wilderness excursion features mountain grades\, an “S” curve tunnel\, a high bridge and miles of unspoiled mountain views. Vintage diesel-powered locomotives climb along the cascading Shavers Fork of the Cheat River to the High Falls of Cheat. Enjoy the view relaxing aboard our comfortable climate controlled passenger coaches. \nThis vintage diesel-powered passenger train has gained a reputation as one of the most relaxing mountain wilderness excursions in our Mountain Rail Adventure portfolio. The 4-hour\, 46 mile round trip departs at 11 a.m. from the restored Elkins Depot on Railroad Avenue. \nOn the trip to the Falls\, enjoy a cold cut lunch\, which is included in the ticket price. The trip culminates at the High Falls of Cheat\, an 18′ high\, 150′ wide waterfall located in one of the most remote and pristine settings in the region. If you’re looking for comfort and spectacular views on a vintage train this is the ride for you! \nLooking for extra leg room? Adult beverages? Your own private train host? Upgrade to our Parlor Car service for these special perks and more. \nBook Tickets: 
URL:https://elkinsrandolphwv.com/event/scenic-train-excursion-new-tygart-flyer-5/2025-07-05/
LOCATION:Durbin & Greenbrier Valley Railroad Elkins\, WV 26241 USA\, United States
ORGANIZER;CN="Durbin & Greenbrier Valley Railroad":MAILTO:ticketinfo@mountainrail.com
GEO:38.205009;-80.526508
END:VEVENT
END:VCALENDAR