BEGIN:VCALENDAR
VERSION:2.0
PRODID:-//Elkins-Randolph County Tourism - ECPv6.15.17.1//NONSGML v1.0//EN
CALSCALE:GREGORIAN
METHOD:PUBLISH
X-WR-CALNAME:Elkins-Randolph County Tourism
X-ORIGINAL-URL:https://elkinsrandolphwv.com
X-WR-CALDESC:Events for Elkins-Randolph County Tourism
REFRESH-INTERVAL;VALUE=DURATION:PT1H
X-Robots-Tag:noindex
X-PUBLISHED-TTL:PT1H
BEGIN:VTIMEZONE
TZID:UTC
BEGIN:STANDARD
TZOFFSETFROM:+0000
TZOFFSETTO:+0000
TZNAME:UTC
DTSTART:20240101T000000
END:STANDARD
END:VTIMEZONE
BEGIN:VEVENT
DTSTART;TZID=UTC:20250729T173000
DTEND;TZID=UTC:20250729T193000
DTSTAMP:20260421T154318
CREATED:20250723T192008Z
LAST-MODIFIED:20250723T192008Z
UID:31051-1753810200-1753817400@elkinsrandolphwv.com
SUMMARY:Artifact Cleaning Party | Beverly Heritage Center
DESCRIPTION:Come learn about the often unseen work of museums\, and gain Hands-On experience in Archaeological Lab Work!This event is free to attend\, and open to anyone 18 years or older.For any questions\, please contact us by email or phone!We hope to see you there!
URL:https://elkinsrandolphwv.com/event/artifact-cleaning-party-beverly-heritage-center/
LOCATION:Beverly Heritage Center\, 4 Court Street\, Beverly\, WV\, 26253\, United States
CATEGORIES:Educational,History
ATTACH;FMTTYPE=image/jpeg:https://elkinsrandolphwv.com/wp-content/uploads/2021/02/beverly-heritage-center-logo-1-e1725977032951.jpg
GEO:38.8405774458;-79.8751789914
X-APPLE-STRUCTURED-LOCATION;VALUE=URI;X-ADDRESS=Beverly Heritage Center 4 Court Street Beverly WV 26253 United States;X-APPLE-RADIUS=500;X-TITLE=4 Court Street:geo:-79.8751789914,38.8405774458
END:VEVENT
END:VCALENDAR