BEGIN:VCALENDAR
VERSION:2.0
PRODID:-//Elkins-Randolph County Tourism - ECPv6.15.17.1//NONSGML v1.0//EN
CALSCALE:GREGORIAN
METHOD:PUBLISH
X-WR-CALNAME:Elkins-Randolph County Tourism
X-ORIGINAL-URL:https://elkinsrandolphwv.com
X-WR-CALDESC:Events for Elkins-Randolph County Tourism
REFRESH-INTERVAL;VALUE=DURATION:PT1H
X-Robots-Tag:noindex
X-PUBLISHED-TTL:PT1H
BEGIN:VTIMEZONE
TZID:UTC
BEGIN:STANDARD
TZOFFSETFROM:+0000
TZOFFSETTO:+0000
TZNAME:UTC
DTSTART:20240101T000000
END:STANDARD
END:VTIMEZONE
BEGIN:VEVENT
DTSTART;TZID=UTC:20250802T080000
DTEND;TZID=UTC:20250802T120000
DTSTAMP:20260419T201324
CREATED:20250508T200057Z
LAST-MODIFIED:20250508T200057Z
UID:30673-1754121600-1754136000@elkinsrandolphwv.com
SUMMARY:Elkins Farmer's Market
DESCRIPTION:Market Opening Day has been set for May 3rd and will run through at least October 11th\, but we may extend the end date\, weather permitting. Saturdays 8am – Noon
URL:https://elkinsrandolphwv.com/event/elkins-farmers-market-2/2025-08-02/
LOCATION:The Rotary Ampitheatre in Elkins Town Square\, 315 Railroad Avenue\, Elkins\, WV\, 26241\, United States
ORGANIZER;CN="Elkins Farmers Market":MAILTO:elkinsfarmersmarket@gmail.com
END:VEVENT
BEGIN:VEVENT
DTSTART;TZID=UTC:20250802T110000
DTEND;TZID=UTC:20250802T150000
DTSTAMP:20260419T201324
CREATED:20250409T201402Z
LAST-MODIFIED:20250409T201402Z
UID:30112-1754132400-1754146800@elkinsrandolphwv.com
SUMMARY:Scenic Train Excursion | New Tygart Flyer
DESCRIPTION:This wilderness excursion features mountain grades\, an “S” curve tunnel\, a high bridge and miles of unspoiled mountain views. Vintage diesel-powered locomotives climb along the cascading Shavers Fork of the Cheat River to the High Falls of Cheat. Enjoy the view relaxing aboard our comfortable climate controlled passenger coaches. \nThis vintage diesel-powered passenger train has gained a reputation as one of the most relaxing mountain wilderness excursions in our Mountain Rail Adventure portfolio. The 4-hour\, 46 mile round trip departs at 11 a.m. from the restored Elkins Depot on Railroad Avenue. \nOn the trip to the Falls\, enjoy a cold cut lunch\, which is included in the ticket price. The trip culminates at the High Falls of Cheat\, an 18′ high\, 150′ wide waterfall located in one of the most remote and pristine settings in the region. If you’re looking for comfort and spectacular views on a vintage train this is the ride for you! \nLooking for extra leg room? Adult beverages? Your own private train host? Upgrade to our Parlor Car service for these special perks and more. \nBook Tickets: 
URL:https://elkinsrandolphwv.com/event/scenic-train-excursion-new-tygart-flyer-5/2025-08-02/
LOCATION:Durbin & Greenbrier Valley Railroad Elkins\, WV 26241 USA\, United States
ORGANIZER;CN="Durbin & Greenbrier Valley Railroad":MAILTO:ticketinfo@mountainrail.com
GEO:38.205009;-80.526508
END:VEVENT
BEGIN:VEVENT
DTSTART;TZID=UTC:20250802T123000
DTEND;TZID=UTC:20250802T170000
DTSTAMP:20260419T201324
CREATED:20250730T182731Z
LAST-MODIFIED:20250730T182731Z
UID:31133-1754137800-1754154000@elkinsrandolphwv.com
SUMMARY:New Shooters Event | Izaak Walton League
DESCRIPTION:New Shooters Event is a FREE EVENT. Focus is to teach people with little to no experience\, firearms safety and basics of using them. The Mountaineer Chapter would like to invite anyone over 18 that is interested in learning shooting safety and hands on experience to join. This event is held on August 2nd\, at the Mountaineer Chapter IWLA’s Rifle Range\, check in is at 12:30pm\, shoot starts at 1pm. \nRegistration: https://docs.google.com/forms/d/e/1FAIpQLSdHV5-mizeeIEjGdN-2YtJH8N0jf9OJdHkM97L9DMntNqHrLw/viewform \n\nIf you are unable to use the form online\, don’t fret we will have paper registration forms available at the event. Any questions about the event can be directed to us using the Facebook page’s messages.\n\n 
URL:https://elkinsrandolphwv.com/event/new-shooters-event-izaak-walton-league/
LOCATION:Izaak Walton League\, 59 Darwin Dr\, Beverly\, WV\, 26253\, United States
CATEGORIES:Sports & Recreations
ATTACH;FMTTYPE=image/png:https://elkinsrandolphwv.com/wp-content/uploads/2019/08/Izaak-Walton-League.png
END:VEVENT
BEGIN:VEVENT
DTSTART;TZID=UTC:20250802T143000
DTEND;TZID=UTC:20250802T223000
DTSTAMP:20260419T201324
CREATED:20250708T180743Z
LAST-MODIFIED:20250709T182547Z
UID:30913-1754145000-1754173800@elkinsrandolphwv.com
SUMMARY:Farmhenge at The Charm Farm
DESCRIPTION:Farmhenge 2025 An All-Day Music & Magic Experience at The Charm Farm \nSaturday\, August 2 | 2PM–10PM The Charm Farm | 6751 Georgetown Rd.\nJoin us under the summer sky for Farmhenge—a celebration of music\, food\, and community in the heart of the mountains. Set against the wild beauty of The Charm Farm\, this one-day festival features three killer bands\, immersive kids’ activities\, locally crafted drinks\, and farm-raised BBQ from sun-up to sundown.\n LINEUP:\n2:30 PM – Opening Band (TBA)\n5:00 PM – Echoes from the Fire\n7:30 PM – Juggling Suns – Grateful Dead lovers\, don’t miss Juggling Suns\, the legendary jam band out of Philly\, bringing the magic of the Dead to the hills of West Virginia.\n DRINKS:\nMoonflower Hemp with their famous dosed drinks (non-alcoholic + infused)\nBeer & wine served all day\n FOOD:\nFarmhouse barbecue from The Charm Farm Butcher\n FOR THE KIDS:\nInteract Children’s Museum will be on site all afternoon with games and activities to spark imagination and keep little hands busy.\n A Few Notes:\nPlease leave dogs and coolers at home\nBring a blanket or chairs and settle in for the day\nParking on-site—follow signs when you arrive\n Come for the vibes\, stay for the stars. Farmhenge is where music meets the mountains—don’t miss it.
URL:https://elkinsrandolphwv.com/event/farmhenge-at-the-charm-farm/
LOCATION:The Charm Farm\, 6751 Georgetown Rd.\, Beverly\, WV\, 26253\, United States
CATEGORIES:Community,Food
END:VEVENT
BEGIN:VEVENT
DTSTART;TZID=UTC:20250802T180000
DTEND;TZID=UTC:20250802T200000
DTSTAMP:20260419T201324
CREATED:20250729T001025Z
LAST-MODIFIED:20250729T001025Z
UID:31113-1754157600-1754164800@elkinsrandolphwv.com
SUMMARY:Aloha from Elvis | Gandy Dancer Theatre
DESCRIPTION:August 1st & 2nd. Matinee on August 2nd\nBack again this year with a full night of entertainment is Robert Keefer. This amazing impersonator will be sure to make you feel like you’re reliving the true days of the ‘The King.’
URL:https://elkinsrandolphwv.com/event/aloha-from-elvis-gandy-dancer-theatre-3/
LOCATION:Gandy Dancer Theatre and Conference Center\, 359 Beverly Pike\, Elkins\, WV 26241\, USA\, United States
CATEGORIES:Entertainment
ATTACH;FMTTYPE=image/jpeg:https://elkinsrandolphwv.com/wp-content/uploads/2019/03/Gandy-Logo-1-480x335-e1727185281650.jpg
GEO:38.918641;-79.842607
END:VEVENT
BEGIN:VEVENT
DTSTART;TZID=UTC:20250802T183000
DTEND;TZID=UTC:20250802T203000
DTSTAMP:20260419T201324
CREATED:20250723T191728Z
LAST-MODIFIED:20250723T191728Z
UID:31048-1754159400-1754166600@elkinsrandolphwv.com
SUMMARY:Movies at the Mill: The Pollinators | Appalachian Forest Discovery Center
DESCRIPTION:Join us at the Appalachian Forest Discovery Center on August 2nd for a free screening of The Pollinators! \nThe Pollinators is a cinematic journey around the United States following migratory beekeepers and their truckloads of honey bees as they pollinate the flowers that become the fruits\, nuts and vegetables we all eat.\nThe many challenges the beekeepers and their bees face en route reveal flaws to our simplified chemically dependent agriculture system. Beekeepers\, farmers\, scientists\, chefs and academics give a broad perspective about the threats to honey bees\, what it means to our food security\, and how we can improve it.\nThe screening will begin at 6:30 pm\, and will be followed with a guided discussion. Light refreshments will be provided.
URL:https://elkinsrandolphwv.com/event/movies-at-the-mill-the-pollinators-appalachian-forest-discovery-center/
LOCATION:Appalachian Forest Discovery Center\, 2 Railroad Avenue\, Elkins\, WV\, 26241\, United States
CATEGORIES:Educational,Entertainment
ATTACH;FMTTYPE=image/jpeg:https://elkinsrandolphwv.com/wp-content/uploads/2023/09/AFNHA-DC-Logo-Round-Color.jpeg
END:VEVENT
BEGIN:VEVENT
DTSTART;TZID=UTC:20250802T193000
DTEND;TZID=UTC:20250802T220000
DTSTAMP:20260419T201324
CREATED:20250725T225842Z
LAST-MODIFIED:20250725T225842Z
UID:31074-1754163000-1754172000@elkinsrandolphwv.com
SUMMARY:Live Music: Josh Folmsbee
DESCRIPTION:Get ready for a night of acoustic rock with Josh Folmsbee on Saturday\, August 2nd! Grab a drink\, enjoy some delicious bites\, and vibe to an unforgettable live performance.\n Saturday\, August 2nd 7:30 PM – 10:00 PM Oxley House | Inside the Tygart Hotel\nNo cover—just great music\, craft cocktails\, and a good time. See you there! 
URL:https://elkinsrandolphwv.com/event/live-music-josh-folmsbee/
LOCATION:Oxley House\, 206 Davis Avenue\, Elkins\, WV
CATEGORIES:Music
ATTACH;FMTTYPE=image/png:https://elkinsrandolphwv.com/wp-content/uploads/2024/05/Oxley-House-Profile-Pic-e1726534174518.png
END:VEVENT
END:VCALENDAR