BEGIN:VCALENDAR
VERSION:2.0
PRODID:-//Elkins-Randolph County Tourism - ECPv6.15.17.1//NONSGML v1.0//EN
CALSCALE:GREGORIAN
METHOD:PUBLISH
X-WR-CALNAME:Elkins-Randolph County Tourism
X-ORIGINAL-URL:https://elkinsrandolphwv.com
X-WR-CALDESC:Events for Elkins-Randolph County Tourism
REFRESH-INTERVAL;VALUE=DURATION:PT1H
X-Robots-Tag:noindex
X-PUBLISHED-TTL:PT1H
BEGIN:VTIMEZONE
TZID:UTC
BEGIN:STANDARD
TZOFFSETFROM:+0000
TZOFFSETTO:+0000
TZNAME:UTC
DTSTART:20240101T000000
END:STANDARD
END:VTIMEZONE
BEGIN:VEVENT
DTSTART;TZID=UTC:20250806T163000
DTEND;TZID=UTC:20250806T193000
DTSTAMP:20260421T151222
CREATED:20250508T214247Z
LAST-MODIFIED:20250508T214247Z
UID:30730-1754497800-1754508600@elkinsrandolphwv.com
SUMMARY:Pickin' in the Park | Elkins City Park
DESCRIPTION:Where: Elkins City Park at the Sycamore Pavilion\nOpen to all.
URL:https://elkinsrandolphwv.com/event/pickin-in-the-park-elkins-city-park-3/2025-08-06/
LOCATION:Elkins City Park\, Elkins\, WV 26241\, USA\, 101 Elkins Ave\, United States
GEO:38.945377;-79.854602
X-APPLE-STRUCTURED-LOCATION;VALUE=URI;X-ADDRESS=Elkins City Park Elkins WV 26241 USA 101 Elkins Ave United States;X-APPLE-RADIUS=500;X-TITLE=101 Elkins Ave:geo:-79.854602,38.945377
END:VEVENT
BEGIN:VEVENT
DTSTART;TZID=UTC:20250806T180000
DTEND;TZID=UTC:20250806T200000
DTSTAMP:20260421T151222
CREATED:20250806T000156Z
LAST-MODIFIED:20250806T000156Z
UID:31158-1754503200-1754510400@elkinsrandolphwv.com
SUMMARY:Winedown Wednesday | Graceland
DESCRIPTION:Looking for the perfect night out? Graceland Inn & Restaurant has you covered! Join us for live music that pairs perfectly with our delicious food\, and welcoming atmosphere. For reservations call (304) 637-1600
URL:https://elkinsrandolphwv.com/event/winedown-wednesday-graceland/
LOCATION:Graceland Inn and Restaurant\, 100 Campus Drive\, Elkins\, WV\, 26241\, United States
CATEGORIES:Entertainment,Food & Drink
END:VEVENT
END:VCALENDAR