BEGIN:VCALENDAR
VERSION:2.0
PRODID:-//Elkins-Randolph County Tourism - ECPv6.15.17.1//NONSGML v1.0//EN
CALSCALE:GREGORIAN
METHOD:PUBLISH
X-ORIGINAL-URL:https://elkinsrandolphwv.com
X-WR-CALDESC:Events for Elkins-Randolph County Tourism
REFRESH-INTERVAL;VALUE=DURATION:PT1H
X-Robots-Tag:noindex
X-PUBLISHED-TTL:PT1H
BEGIN:VTIMEZONE
TZID:UTC
BEGIN:STANDARD
TZOFFSETFROM:+0000
TZOFFSETTO:+0000
TZNAME:UTC
DTSTART:20240101T000000
END:STANDARD
END:VTIMEZONE
BEGIN:VEVENT
DTSTART;TZID=UTC:20250827T163000
DTEND;TZID=UTC:20250827T193000
DTSTAMP:20260419T214316
CREATED:20250508T214247Z
LAST-MODIFIED:20250508T214247Z
UID:30734-1756312200-1756323000@elkinsrandolphwv.com
SUMMARY:Pickin' in the Park | Elkins City Park
DESCRIPTION:Where: Elkins City Park at the Sycamore Pavilion\nOpen to all.
URL:https://elkinsrandolphwv.com/event/pickin-in-the-park-elkins-city-park-3/2025-08-27/
LOCATION:Elkins City Park\, Elkins\, WV 26241\, USA\, 101 Elkins Ave\, United States
GEO:38.945377;-79.854602
X-APPLE-STRUCTURED-LOCATION;VALUE=URI;X-ADDRESS=Elkins City Park Elkins WV 26241 USA 101 Elkins Ave United States;X-APPLE-RADIUS=500;X-TITLE=101 Elkins Ave:geo:-79.854602,38.945377
END:VEVENT
BEGIN:VEVENT
DTSTART;TZID=UTC:20250827T180000
DTEND;TZID=UTC:20250827T200000
DTSTAMP:20260419T214316
CREATED:20250827T171457Z
LAST-MODIFIED:20250827T171457Z
UID:31339-1756317600-1756324800@elkinsrandolphwv.com
SUMMARY:Winedown Wednesday | Graceland Inn & Restaurant
DESCRIPTION:Midweek mood: set.  Join us for Wine Down Wednesday at Graceland Inn & Restaurant—your cozy spot to unwind\, sip\, and savor. When: Every Wednesday\, 6–8 PM Where: Graceland Inn & Restaurant Elkins\, WV What to expect:Curated wine poursRelaxed vibes\, great conversation\, and a beautiful settingLive music by Seth MaynardFor reservations call (304) 637-1600
URL:https://elkinsrandolphwv.com/event/winedown-wednesday-graceland-inn-restaurant-2/
LOCATION:Graceland Inn and Restaurant\, 100 Campus Drive\, Elkins\, WV\, 26241\, United States
CATEGORIES:Food & Drink,Music
ATTACH;FMTTYPE=image/jpeg:https://elkinsrandolphwv.com/wp-content/uploads/2025/08/graceland-logo-borderless.jpg
END:VEVENT
END:VCALENDAR