BEGIN:VCALENDAR
VERSION:2.0
PRODID:-//Elkins-Randolph County Tourism - ECPv6.15.17.1//NONSGML v1.0//EN
CALSCALE:GREGORIAN
METHOD:PUBLISH
X-WR-CALNAME:Elkins-Randolph County Tourism
X-ORIGINAL-URL:https://elkinsrandolphwv.com
X-WR-CALDESC:Events for Elkins-Randolph County Tourism
REFRESH-INTERVAL;VALUE=DURATION:PT1H
X-Robots-Tag:noindex
X-PUBLISHED-TTL:PT1H
BEGIN:VTIMEZONE
TZID:UTC
BEGIN:STANDARD
TZOFFSETFROM:+0000
TZOFFSETTO:+0000
TZNAME:UTC
DTSTART:20240101T000000
END:STANDARD
END:VTIMEZONE
BEGIN:VEVENT
DTSTART;TZID=UTC:20250828T110000
DTEND;TZID=UTC:20250831T153000
DTSTAMP:20260422T064335
CREATED:20250825T222643Z
LAST-MODIFIED:20250825T222643Z
UID:31303-1756378800-1756654200@elkinsrandolphwv.com
SUMMARY:Scenic Train Excursion-New Tygart Flyer
DESCRIPTION:
URL:https://elkinsrandolphwv.com/event/scenic-train-excursion-new-tygart-flyer-6/
LOCATION:Durbin & Greenbrier Valley Railroad Elkins\, WV 26241 USA\, United States
CATEGORIES:Train Excursions
GEO:38.205009;-80.526508
END:VEVENT
BEGIN:VEVENT
DTSTART;TZID=UTC:20250828T173000
DTEND;TZID=UTC:20250828T193000
DTSTAMP:20260422T064335
CREATED:20250805T175429Z
LAST-MODIFIED:20250805T175429Z
UID:31150-1756402200-1756409400@elkinsrandolphwv.com
SUMMARY:Artifact Cleaning Party | Beverly Heritage Center
DESCRIPTION:On Thursday\, August 28th\, from 5:30pm to 7:30pm\, come learn about the often unseen work of museums\, and gain Hands-On experience in Archaeological Lab Work!This event is free to attend\, and open to anyone 18 years or older.For any questions\, please contact us by email or phone!We hope to see you there!
URL:https://elkinsrandolphwv.com/event/artifact-cleaning-party-beverly-heritage-center-2/
LOCATION:Beverly Heritage Center\, 4 Court Street\, Beverly\, WV\, 26253\, United States
CATEGORIES:Educational,History
ATTACH;FMTTYPE=image/jpeg:https://elkinsrandolphwv.com/wp-content/uploads/2021/02/beverly-heritage-center-logo-1-e1725977032951.jpg
GEO:38.8405774458;-79.8751789914
X-APPLE-STRUCTURED-LOCATION;VALUE=URI;X-ADDRESS=Beverly Heritage Center 4 Court Street Beverly WV 26253 United States;X-APPLE-RADIUS=500;X-TITLE=4 Court Street:geo:-79.8751789914,38.8405774458
END:VEVENT
END:VCALENDAR