BEGIN:VCALENDAR
VERSION:2.0
PRODID:-//Elkins-Randolph County Tourism - ECPv6.15.17.1//NONSGML v1.0//EN
CALSCALE:GREGORIAN
METHOD:PUBLISH
X-ORIGINAL-URL:https://elkinsrandolphwv.com
X-WR-CALDESC:Events for Elkins-Randolph County Tourism
REFRESH-INTERVAL;VALUE=DURATION:PT1H
X-Robots-Tag:noindex
X-PUBLISHED-TTL:PT1H
BEGIN:VTIMEZONE
TZID:UTC
BEGIN:STANDARD
TZOFFSETFROM:+0000
TZOFFSETTO:+0000
TZNAME:UTC
DTSTART:20250101T000000
END:STANDARD
END:VTIMEZONE
BEGIN:VEVENT
DTSTART;TZID=UTC:20260117T093000
DTEND;TZID=UTC:20260117T160000
DTSTAMP:20260422T054329
CREATED:20260107T230145Z
LAST-MODIFIED:20260107T230145Z
UID:32650-1768642200-1768665600@elkinsrandolphwv.com
SUMMARY:Apertures of Appalachia: A Community Photo Exhibit | Darden Mill
DESCRIPTION:
URL:https://elkinsrandolphwv.com/event/apertures-of-appalachia-a-community-photo-exhibit-darden-mill-4/
LOCATION:The Darden Mill\, Railroad Ave.\, Elkins\, West Virginia\, 26241
CATEGORIES:Community
END:VEVENT
BEGIN:VEVENT
DTSTART;TZID=UTC:20260117T110000
DTEND;TZID=UTC:20260117T150000
DTSTAMP:20260422T054329
CREATED:20260103T234959Z
LAST-MODIFIED:20260103T235059Z
UID:32582-1768647600-1768662000@elkinsrandolphwv.com
SUMMARY:Elkins Winter Train
DESCRIPTION:Call 304-636-9477 or www.mountainrailwv.com for reservations.
URL:https://elkinsrandolphwv.com/event/elkins-winter-train/
LOCATION:Durbin & Greenbrier Valley Railroad Elkins\, WV 26241 USA\, United States
CATEGORIES:History,Train Excursions
GEO:38.205009;-80.526508
END:VEVENT
BEGIN:VEVENT
DTSTART;TZID=UTC:20260117T190000
DTEND;TZID=UTC:20260117T210000
DTSTAMP:20260422T054329
CREATED:20260108T225222Z
LAST-MODIFIED:20260108T225222Z
UID:32691-1768676400-1768683600@elkinsrandolphwv.com
SUMMARY:Music Trivia | Fox Hops Brewery
DESCRIPTION:
URL:https://elkinsrandolphwv.com/event/music-trivia-fox-hops-brewery/
CATEGORIES:Community,Competition,Food & Drink
END:VEVENT
END:VCALENDAR