BEGIN:VCALENDAR
VERSION:2.0
PRODID:-//Elkins-Randolph County Tourism - ECPv6.15.17.1//NONSGML v1.0//EN
CALSCALE:GREGORIAN
METHOD:PUBLISH
X-ORIGINAL-URL:https://elkinsrandolphwv.com
X-WR-CALDESC:Events for Elkins-Randolph County Tourism
REFRESH-INTERVAL;VALUE=DURATION:PT1H
X-Robots-Tag:noindex
X-PUBLISHED-TTL:PT1H
BEGIN:VTIMEZONE
TZID:UTC
BEGIN:STANDARD
TZOFFSETFROM:+0000
TZOFFSETTO:+0000
TZNAME:UTC
DTSTART:20250101T000000
END:STANDARD
END:VTIMEZONE
BEGIN:VEVENT
DTSTART;TZID=UTC:20260131T110000
DTEND;TZID=UTC:20260131T150000
DTSTAMP:20260422T054249
CREATED:20260104T000144Z
LAST-MODIFIED:20260104T000144Z
UID:32578-1769857200-1769871600@elkinsrandolphwv.com
SUMMARY:Elkins Winter Train
DESCRIPTION:Call 304-636-9477 or www.mountainrailwv.com for reservations.
URL:https://elkinsrandolphwv.com/event/elkins-winter-train-5/
LOCATION:Durbin & Greenbrier Valley Railroad Elkins\, WV 26241 USA\, United States
CATEGORIES:History,Train Excursions
GEO:38.205009;-80.526508
END:VEVENT
BEGIN:VEVENT
DTSTART;TZID=UTC:20260131T173000
DTEND;TZID=UTC:20260131T200000
DTSTAMP:20260422T054249
CREATED:20260107T203307Z
LAST-MODIFIED:20260122T232857Z
UID:32634-1769880600-1769889600@elkinsrandolphwv.com
SUMMARY:Burns Supper & Celebration | Beverly Fire Hall
DESCRIPTION:*rescheduled to January 31st* \nStep into a world of poetry\, pipes\, and pride\, feast\, dance\, and revel in Scottish spirit. Where stories come alive and bagpipes sing. An unforgettable evening of culture and camaraderie. Tickets and info at https://www.wvcelticfestandgames.com/event-details-registration/burns-supper-and-celebration
URL:https://elkinsrandolphwv.com/event/burns-supper-celebration-beverly-fire-hall/
LOCATION:Beverly Volunteer Fire Department\, 429 Main St\, Beverly\, WV 26253\, USA\, 25 Main St\, United States
CATEGORIES:Entertainment,Food & Drink
ORGANIZER;CN="WV Wild and Wonderful Celtic Festival and Highland Games":MAILTO:wvcelticfestandgames@gmail.com ‭
GEO:38.842835;-79.874052
X-APPLE-STRUCTURED-LOCATION;VALUE=URI;X-ADDRESS=Beverly Volunteer Fire Department 429 Main St Beverly WV 26253 USA 25 Main St United States;X-APPLE-RADIUS=500;X-TITLE=25 Main St:geo:-79.874052,38.842835
END:VEVENT
END:VCALENDAR