BEGIN:VCALENDAR
VERSION:2.0
PRODID:-//Elkins-Randolph County Tourism - ECPv6.15.20//NONSGML v1.0//EN
CALSCALE:GREGORIAN
METHOD:PUBLISH
X-WR-CALNAME:Elkins-Randolph County Tourism
X-ORIGINAL-URL:https://elkinsrandolphwv.com
X-WR-CALDESC:Events for Elkins-Randolph County Tourism
REFRESH-INTERVAL;VALUE=DURATION:PT1H
X-Robots-Tag:noindex
X-PUBLISHED-TTL:PT1H
BEGIN:VTIMEZONE
TZID:UTC
BEGIN:STANDARD
TZOFFSETFROM:+0000
TZOFFSETTO:+0000
TZNAME:UTC
DTSTART:20250101T000000
END:STANDARD
END:VTIMEZONE
BEGIN:VTIMEZONE
TZID:America/New_York
BEGIN:DAYLIGHT
TZOFFSETFROM:-0500
TZOFFSETTO:-0400
TZNAME:EDT
DTSTART:20250309T070000
END:DAYLIGHT
BEGIN:STANDARD
TZOFFSETFROM:-0400
TZOFFSETTO:-0500
TZNAME:EST
DTSTART:20251102T060000
END:STANDARD
BEGIN:DAYLIGHT
TZOFFSETFROM:-0500
TZOFFSETTO:-0400
TZNAME:EDT
DTSTART:20260308T070000
END:DAYLIGHT
BEGIN:STANDARD
TZOFFSETFROM:-0400
TZOFFSETTO:-0500
TZNAME:EST
DTSTART:20261101T060000
END:STANDARD
BEGIN:DAYLIGHT
TZOFFSETFROM:-0500
TZOFFSETTO:-0400
TZNAME:EDT
DTSTART:20270314T070000
END:DAYLIGHT
BEGIN:STANDARD
TZOFFSETFROM:-0400
TZOFFSETTO:-0500
TZNAME:EST
DTSTART:20271107T060000
END:STANDARD
END:VTIMEZONE
BEGIN:VEVENT
DTSTART;TZID=UTC:20260425T100000
DTEND;TZID=UTC:20260425T163000
DTSTAMP:20260425T092552
CREATED:20260123T215104Z
LAST-MODIFIED:20260309T211415Z
UID:32775-1777111200-1777134600@elkinsrandolphwv.com
SUMMARY:16th Annual Ramps & Rail Festival
DESCRIPTION:The 16th Annual Ramps and Rail Festival will be held on April 25\, 2026 at the Elkins Depot Welcome Center. The festival continues to grow each year and the Depot hopes everyone will come again this year! You can try different ramp-themed foods and listen to live music\, enjoy the craft vendors\, and vote for your favorite vendors. \nEach year the festivities start at 10am and continue until 4pm. For the second year\, we are expanding from the Town Square onto Railroad Ave and 3rd St\, making even more room for vendors. Ramp lovers and first-timers alike can find something delicious to enjoy\, from ramp-burgers and hotdogs to dumplings and eggrolls. There will be over 75 food and craft booths at the festival. The Durbin & Greenbrier Valley Railroad has train rides available to those who want to take one of the first rides of the year. \nCome enjoy the spring season as we celebrate this unique wild edible with a one-of-a-kind Appalachian culinary experience! \nSchedule: \n9:30am: Registration for the Highlands Trail Foundation bike ride (ride begins at 10am).\n10:00am – 4:00pm: Food & craft vendors open\n10:00am: Announcements and introductions\n11:00am and 1:00pm: Train rides depart (see mountainrailwv.com for tickets)\n11:00am – 3:30pm: Live music and entertainment\n11:00am – 1:00pm: Perfect Third (Tiffany\, Joel\, & Seth)\n1:30pm – 3:30pm: The Lucky Devils\n4:00pm: Presentation of award plaques \nVENDOR INFORMATION:\nUnfortunately\, we will be unable to accommodate any additional vendors at the 2026 Ramps & Rail Festival. Applications are accepted with receipt of payment on a first-come-first-serve basis. For questions regarding a submitted application\, please email elkinsdepotmanager@gmail.com or call 304-635-7803.
URL:https://elkinsrandolphwv.com/event/16th-annual-ramps-rail-festival/
LOCATION:Elkins Depot Welcome Center\, 315 Railroad Ave\, Elkins\, WV 26241\, USA\, 2 Railroad Ave\, United States
CATEGORIES:Art & Culture,Fairs & Festivals,Food & Drink
ATTACH;FMTTYPE=image/jpeg:https://elkinsrandolphwv.com/wp-content/uploads/2026/01/ERT01204-scaled.jpg
GEO:38.92313;-79.851004
X-APPLE-STRUCTURED-LOCATION;VALUE=URI;X-ADDRESS=Elkins Depot Welcome Center 315 Railroad Ave Elkins WV 26241 USA 2 Railroad Ave United States;X-APPLE-RADIUS=500;X-TITLE=2 Railroad Ave:geo:-79.851004,38.92313
END:VEVENT
BEGIN:VEVENT
DTSTART;TZID=America/New_York:20260425T103000
DTEND;TZID=America/New_York:20260425T120000
DTSTAMP:20260425T092552
CREATED:20260422T181934Z
LAST-MODIFIED:20260422T182841Z
UID:34102-1777113000-1777118400@elkinsrandolphwv.com
SUMMARY:Lions Club Chicken Dinner
DESCRIPTION:
URL:https://elkinsrandolphwv.com/event/lions-club-chicken-dinner-2/
END:VEVENT
BEGIN:VEVENT
DTSTART;TZID=America/New_York:20260425T110000
DTEND;TZID=America/New_York:20260425T143000
DTSTAMP:20260425T092552
CREATED:20260315T155729Z
LAST-MODIFIED:20260315T160110Z
UID:33266-1777114800-1777127400@elkinsrandolphwv.com
SUMMARY:Ramps & Rail Train | Elkins Depot
DESCRIPTION:Ramps & Rails Train\nSaturday\, April 25\, 2026 at 11:00 AM – 12:15 PM \n                                              1:00 PM – 2:15 PM \n Elkins-to-Nova Scotia Rocks (Roundtrip)
URL:https://elkinsrandolphwv.com/event/ramps-rail-train-elkins-depot/
LOCATION:Durbin & Greenbrier Valley Railroad Elkins\, WV 26241 USA\, United States
CATEGORIES:Community,Kids & Family,Train Excursions
GEO:38.205009;-80.526508
END:VEVENT
BEGIN:VEVENT
DTSTART;TZID=America/New_York:20260425T150000
DTEND;TZID=America/New_York:20260425T190000
DTSTAMP:20260425T092552
CREATED:20260410T144704Z
LAST-MODIFIED:20260410T144704Z
UID:33779-1777129200-1777143600@elkinsrandolphwv.com
SUMMARY:Planetarium Show | Davis & Elkins College
DESCRIPTION:Mark your calendars for the upcoming shows in April. We will have shows at 3pm and 5pm on Saturday\, April 25th\, and a third at 1pm on Sunday\, April 26th. Instead of a Google form\, we are working on an online RSVP system where you can reserve and make your donations in advance. This will also provide you with a confirmation that you will show at the door. A link will be posted when the site is ready. Thanks! See you in April!!
URL:https://elkinsrandolphwv.com/event/planetarium-show-davis-elkins-college-2/2026-04-25/
LOCATION:Davis & Elkins College
CATEGORIES:Educational,Kids & Family
END:VEVENT
END:VCALENDAR