BEGIN:VCALENDAR
VERSION:2.0
PRODID:-//Elkins-Randolph County Tourism - ECPv6.15.17.1//NONSGML v1.0//EN
CALSCALE:GREGORIAN
METHOD:PUBLISH
X-ORIGINAL-URL:https://elkinsrandolphwv.com
X-WR-CALDESC:Events for Elkins-Randolph County Tourism
REFRESH-INTERVAL;VALUE=DURATION:PT1H
X-Robots-Tag:noindex
X-PUBLISHED-TTL:PT1H
BEGIN:VTIMEZONE
TZID:UTC
BEGIN:STANDARD
TZOFFSETFROM:+0000
TZOFFSETTO:+0000
TZNAME:UTC
DTSTART:20210101T000000
END:STANDARD
END:VTIMEZONE
BEGIN:VEVENT
DTSTART;TZID=UTC:20240928T150000
DTEND;TZID=UTC:20240928T160000
DTSTAMP:20260420T003608
CREATED:20240906T230411Z
LAST-MODIFIED:20240906T230411Z
UID:29160-1727535600-1727539200@elkinsrandolphwv.com
SUMMARY:MSFF - Bass Fishing Classic: Weigh In
DESCRIPTION:
URL:https://elkinsrandolphwv.com/event/msff-bass-fishing-classic-weigh-in/
LOCATION:Scott Ford Boat Ramp\, Scotts Ford Road\, Elkins\, WV\, 26241
CATEGORIES:Bass Fishing,Community,Competition,Kids & Family,Outdoors
ATTACH;FMTTYPE=image/jpeg:https://elkinsrandolphwv.com/wp-content/uploads/2019/10/MSFF-e1661781904912.jpg
END:VEVENT
BEGIN:VEVENT
DTSTART;TZID=UTC:20240928T060000
DTEND;TZID=UTC:20240928T090000
DTSTAMP:20260420T003608
CREATED:20240905T230514Z
LAST-MODIFIED:20240905T230514Z
UID:29149-1727503200-1727514000@elkinsrandolphwv.com
SUMMARY:MSFF - Bass Fishing Classic: Boat Launch
DESCRIPTION:Scott Ford Boat Ramp
URL:https://elkinsrandolphwv.com/event/msff-bass-fishing-classic-boat-launch-2/
LOCATION:Scott Ford Boat Ramp\, Scotts Ford Road\, Elkins\, WV\, 26241
CATEGORIES:Bass Fishing,Community,Kids & Family,Outdoors
ATTACH;FMTTYPE=image/jpeg:https://elkinsrandolphwv.com/wp-content/uploads/2019/10/MSFF-e1661781904912.jpg
END:VEVENT
BEGIN:VEVENT
DTSTART;TZID=UTC:20230930T060000
DTEND;TZID=UTC:20230930T090000
DTSTAMP:20260420T003608
CREATED:20230925T182253Z
LAST-MODIFIED:20230925T182253Z
UID:27631-1696053600-1696064400@elkinsrandolphwv.com
SUMMARY:Bass Fishing Classic: "Boat Launch"
DESCRIPTION:The start of the Bass Fishing Classic\, with the launching of the anglers boats; then later in the day the anglers will have weigh ins at 3:00 PM.
URL:https://elkinsrandolphwv.com/event/bass-fishing-classic-boat-launch-2/
LOCATION:Scott Ford Boat Ramp\, Scotts Ford Road\, Elkins\, WV\, 26241
CATEGORIES:Bass Fishing,Competition
END:VEVENT
BEGIN:VEVENT
DTSTART;TZID=UTC:20220917T150000
DTEND;TZID=UTC:20220917T170000
DTSTAMP:20260420T003608
CREATED:20220901T180944Z
LAST-MODIFIED:20220907T043732Z
UID:26141-1663426800-1663434000@elkinsrandolphwv.com
SUMMARY:MSFF Bass Fishing Classic: Weigh In
DESCRIPTION:
URL:https://elkinsrandolphwv.com/event/bass-fishing-classic-boat-launch/
LOCATION:Scott Ford Boat Ramp\, Scotts Ford Road\, Elkins\, WV\, 26241
CATEGORIES:Bass Fishing,Community,Competition,Outdoor Activities,Sports & Recreations
ATTACH;FMTTYPE=image/jpeg:https://elkinsrandolphwv.com/wp-content/uploads/2019/10/MSFF-e1661781904912.jpg
END:VEVENT
BEGIN:VEVENT
DTSTART;TZID=UTC:20220917T060000
DTEND;TZID=UTC:20220917T140000
DTSTAMP:20260420T003608
CREATED:20220901T184527Z
LAST-MODIFIED:20220901T184527Z
UID:26140-1663394400-1663423200@elkinsrandolphwv.com
SUMMARY:MSFF Bass Fishing Classic: Boat Launch
DESCRIPTION:
URL:https://elkinsrandolphwv.com/event/msff-bass-fishing-classic-boat-launch/
LOCATION:Scott Ford Boat Ramp\, Scotts Ford Road\, Elkins\, WV\, 26241
CATEGORIES:Bass Fishing,Fairs & Festivals,Outdoor Activities
ATTACH;FMTTYPE=image/jpeg:https://elkinsrandolphwv.com/wp-content/uploads/2019/10/MSFF-e1661781904912.jpg
END:VEVENT
END:VCALENDAR