BEGIN:VCALENDAR
VERSION:2.0
PRODID:-//Elkins-Randolph County Tourism - ECPv6.15.17.1//NONSGML v1.0//EN
CALSCALE:GREGORIAN
METHOD:PUBLISH
X-WR-CALNAME:Elkins-Randolph County Tourism
X-ORIGINAL-URL:https://elkinsrandolphwv.com
X-WR-CALDESC:Events for Elkins-Randolph County Tourism
REFRESH-INTERVAL;VALUE=DURATION:PT1H
X-Robots-Tag:noindex
X-PUBLISHED-TTL:PT1H
BEGIN:VTIMEZONE
TZID:UTC
BEGIN:STANDARD
TZOFFSETFROM:+0000
TZOFFSETTO:+0000
TZNAME:UTC
DTSTART:20180101T000000
END:STANDARD
END:VTIMEZONE
BEGIN:VEVENT
DTSTART;TZID=UTC:20190907T110000
DTEND;TZID=UTC:20190907T160000
DTSTAMP:20260421T191719
CREATED:20190904T183202Z
LAST-MODIFIED:20190904T183202Z
UID:15458-1567854000-1567872000@elkinsrandolphwv.com
SUMMARY:Ford Drive 4 UR Community & RAYS Chicken Burn @ Randolph Ave (old IGA)
DESCRIPTION:Support the Y this Saturday at our Ford Drive 4 UR Community fundraiser. For every person who takes a test-drive in an Elkins Fordland vehicle during our event\, Ford Motor Company will donate $20 to the YMCA. In total\, as much as $6\,000 could be raised!\nWe will be set up on Randolph Avenue in the old IGA parking lot\, across from the 911 center from 11 am until 4 pm.\nOur RAYS competitive swim team will be on site as well\, selling chicken dinners to support their upcoming season. Advanced sale tickets are $8.00 and are available at the YMCA front desk. The dinners will be ready for pick-up around 4 pm.
URL:https://elkinsrandolphwv.com/event/ford-drive-4-ur-community-rays-chicken-burn-randolph-ave-old-iga/
LOCATION:104 Randolph Avenue\, 104 Randolph Avenue\, Elkins\, WV\, 26241\, United States
CATEGORIES:Community
END:VEVENT
BEGIN:VEVENT
DTSTART;TZID=UTC:20190907T140000
DTEND;TZID=UTC:20190907T170000
DTSTAMP:20260421T191719
CREATED:20190905T182024Z
LAST-MODIFIED:20190905T182024Z
UID:15505-1567864800-1567875600@elkinsrandolphwv.com
SUMMARY:Spaghetti Dinner @ Mill Creek Methodist Church
DESCRIPTION:Spaghetti\, coleslaw\, roll\, dessert\, and drink: \n$8 adults – $5 Children age 10 and under \nCarryouts will be available and all proceeds will benefit Huttonsville Rebekah Lodge
URL:https://elkinsrandolphwv.com/event/spaghetti-dinner-mill-creek-methodist-church/
LOCATION:WV
CATEGORIES:Community
END:VEVENT
BEGIN:VEVENT
DTSTART;TZID=UTC:20190912T070000
DTEND;TZID=UTC:20190912T090000
DTSTAMP:20260421T191719
CREATED:20190909T175835Z
LAST-MODIFIED:20190909T175835Z
UID:15567-1568271600-1568278800@elkinsrandolphwv.com
SUMMARY:Rotary Blood Screens @ Davis Medical Center
DESCRIPTION:Join us at DMC on September 12th from 7-10 am for discounted blood screenings through a partnership with the Elkins Rotary! \nPlease fast overnight for best results. \n• Executive Profile $35.00\n(Includes CBC\, Comprehensive Metabolic Panel\, Lipid Panel\, Uric Acid) \n• TSH (Thyroid Stimulating Hormone) $10.00 \n• Thyroid Profile- Includes TSH\, T3\, Free T4 $30.00 \n• PSA (Prostate Specific Antigen) $15.00 \n• Testosterone $25.00 \n• Vitamin D\, 25-Hydroxy $30.00 \n• HbA1c (Diabetic 3 month screen) $25.00 \n• C-Reactive Protein\, Cardiac $15.00 \n• Iron\, TIBC $20.00 \n• Vitamin B12\, Folate $20.00
URL:https://elkinsrandolphwv.com/event/rotary-blood-screens-davis-medical-center/
LOCATION:Davis Medical Center\, 812 Gorman Avenue\, Elkins\, WV\, 26241\, United States
CATEGORIES:Community
ATTACH;FMTTYPE=image/jpeg:https://elkinsrandolphwv.com/wp-content/uploads/2019/06/Davis-Medical-Center.jpg
END:VEVENT
BEGIN:VEVENT
DTSTART;TZID=UTC:20190915T170000
DTEND;TZID=UTC:20190915T190000
DTSTAMP:20260421T191719
CREATED:20190910T181928Z
LAST-MODIFIED:20190910T181928Z
UID:15606-1568566800-1568574000@elkinsrandolphwv.com
SUMMARY:Family Movie Night @ First United Methodist Church
DESCRIPTION:Everyone is invited to join us in the Parlor for a family friendly movie and snacks on Sunday\, September 15 at 5 p.m. Movie TBA.
URL:https://elkinsrandolphwv.com/event/family-movie-night-first-united-methodist-church/
LOCATION:First United Methodist Church\, 315 Kerens Avenue\, Elkins\, WV\, 26241\, United States
CATEGORIES:Community
END:VEVENT
BEGIN:VEVENT
DTSTART;TZID=UTC:20190919T160000
DTEND;TZID=UTC:20190919T190000
DTSTAMP:20260421T191719
CREATED:20190916T205715Z
LAST-MODIFIED:20190916T205715Z
UID:15669-1568908800-1568919600@elkinsrandolphwv.com
SUMMARY:National Gymnastics Day Celebration @ Mountain Gymnastics Academy
DESCRIPTION:To celebrate National Gymnastics Day\, we will be hosting an open gym. Come tour our facility\, get a look at our equipment\, meet our team gymnasts\, and participate in some gymnastics fun! Anyone is welcome.
URL:https://elkinsrandolphwv.com/event/national-gymnastics-day-celebration-mountain-gymnastics-academy/
LOCATION:Mountain Gymnastics Academy\, 136 Grant Street\, Elkins\, WV\, 26241\, United States
CATEGORIES:Community
END:VEVENT
BEGIN:VEVENT
DTSTART;TZID=UTC:20190919T173000
DTEND;TZID=UTC:20190919T183000
DTSTAMP:20260421T191719
CREATED:20190911T165306Z
LAST-MODIFIED:20190911T165306Z
UID:15610-1568914200-1568917800@elkinsrandolphwv.com
SUMMARY:Generation Randolph Open House
DESCRIPTION:Hey y’all! Generation Randolph is planning an interest meeting and open house for next week\, September 19th. Please join us and invite others who might be interested! We are part of Generation West Virginia\, a nonprofit dedicated to attracting\, retaining\, and advancing young talent in the Mountain State. We are led by and for young people in communities across the state\, roughly ages 18 to 40.
URL:https://elkinsrandolphwv.com/event/generation-randolph-open-house/
LOCATION:Elkins Main Street\, 204 Davis Avenue\, Elkins\, WV\, 26241\, United States
CATEGORIES:Community
ATTACH;FMTTYPE=image/jpeg:https://elkinsrandolphwv.com/wp-content/uploads/2019/04/Generation-Randolph-Logo.jpg
ORGANIZER;CN="Generation Randolph":MAILTO:info@generationwv.org
END:VEVENT
BEGIN:VEVENT
DTSTART;TZID=UTC:20190920T190000
DTEND;TZID=UTC:20190920T200000
DTSTAMP:20260421T191719
CREATED:20190905T173902Z
LAST-MODIFIED:20190905T173902Z
UID:15480-1569006000-1569009600@elkinsrandolphwv.com
SUMMARY:POW/MIA Ceremony @ All Veterans Monument
DESCRIPTION:The POW/MIA recognition ceremony will be held at the All Veterans Monument on Friday\, September 20th @ 7:00 PM. Everyone is invited to come out and join us in paying tribute to those who gave so much. It is fitting that we continue to show them that “YOU ARE NOT FORGOTTEN.” In the event of inclement weather\, the alternate site is the VFW Post Hall.
URL:https://elkinsrandolphwv.com/event/pow-mia-ceremony-all-veterans-monument/
LOCATION:American Legion Post 29\, 326 Railroad Avenue\, Elkins\, WV\, 26241\, United States
CATEGORIES:Community
ATTACH;FMTTYPE=image/png:https://elkinsrandolphwv.com/wp-content/uploads/2019/03/american-legion.png
END:VEVENT
BEGIN:VEVENT
DTSTART;TZID=UTC:20190921T103000
DTEND;TZID=UTC:20190921T150000
DTSTAMP:20260421T191719
CREATED:20190905T180402Z
LAST-MODIFIED:20190905T180405Z
UID:15491-1569061800-1569078000@elkinsrandolphwv.com
SUMMARY:Mommy and Me Pageant @ Phil Gainer Community Center
DESCRIPTION:Come join The Rising Stars Twirlettes in our Mommy & Me pageant! Daughters Ages 0-14 and their mothers can compete for the title of Rising Stars Queen and Princess!
URL:https://elkinsrandolphwv.com/event/mommy-and-me-pageant-phil-gainer-community-center/
LOCATION:Phil Gainer Community Center\, 142 Robert E Lee Ave Ext\, Elkins\, WV 26241\, USA\, 149 Robert E Lee Ave Exd\, United States
CATEGORIES:Community
GEO:38.925764;-79.864059
X-APPLE-STRUCTURED-LOCATION;VALUE=URI;X-ADDRESS=Phil Gainer Community Center 142 Robert E Lee Ave Ext Elkins WV 26241 USA 149 Robert E Lee Ave Exd United States;X-APPLE-RADIUS=500;X-TITLE=149 Robert E Lee Ave Exd:geo:-79.864059,38.925764
END:VEVENT
BEGIN:VEVENT
DTSTART;TZID=UTC:20190921T120000
DTEND;TZID=UTC:20190921T180000
DTSTAMP:20260421T191719
CREATED:20190905T182806Z
LAST-MODIFIED:20190905T182806Z
UID:15509-1569067200-1569088800@elkinsrandolphwv.com
SUMMARY:Fall Super Bash @ Beverly Vol. Fire Department
DESCRIPTION:
URL:https://elkinsrandolphwv.com/event/fall-super-bash-beverly-vol-fire-department/
LOCATION:Beverly Volunteer Fire Department\, 429 Main St\, Beverly\, WV 26253\, USA\, 25 Main St\, United States
CATEGORIES:Community
ATTACH;FMTTYPE=image/jpeg:https://elkinsrandolphwv.com/wp-content/uploads/2019/03/1896758_270008899830934_1020197295_n-e1553786133690.jpg
GEO:38.842835;-79.874052
X-APPLE-STRUCTURED-LOCATION;VALUE=URI;X-ADDRESS=Beverly Volunteer Fire Department 429 Main St Beverly WV 26253 USA 25 Main St United States;X-APPLE-RADIUS=500;X-TITLE=25 Main St:geo:-79.874052,38.842835
END:VEVENT
BEGIN:VEVENT
DTSTART;TZID=UTC:20190927T090000
DTEND;TZID=UTC:20190927T160000
DTSTAMP:20260421T191719
CREATED:20190905T212625Z
LAST-MODIFIED:20190905T212625Z
UID:15513-1569574800-1569600000@elkinsrandolphwv.com
SUMMARY:Humane Society Celebration @ Mountain Valley Bank
DESCRIPTION:4th Annual Humane Society Celebration will benefit both the Randolph County Humane Society and the Tucker County Animal Shelter. If you would like to help\, please bring in pet supplies or monetary donations to any of our four locations.
URL:https://elkinsrandolphwv.com/event/humane-society-celebration-mountain-valley-bank/
LOCATION:Mountain Valley Bank\, N.A.\, 317 Davis Avenue\, Elkins\, WV\, 26241\, United States
CATEGORIES:Community
ATTACH;FMTTYPE=image/png:https://elkinsrandolphwv.com/wp-content/uploads/2019/05/randolph-county-humane-society.png
END:VEVENT
END:VCALENDAR