BEGIN:VCALENDAR
VERSION:2.0
PRODID:-//Elkins-Randolph County Tourism - ECPv6.15.17.1//NONSGML v1.0//EN
CALSCALE:GREGORIAN
METHOD:PUBLISH
X-ORIGINAL-URL:https://elkinsrandolphwv.com
X-WR-CALDESC:Events for Elkins-Randolph County Tourism
REFRESH-INTERVAL;VALUE=DURATION:PT1H
X-Robots-Tag:noindex
X-PUBLISHED-TTL:PT1H
BEGIN:VTIMEZONE
TZID:UTC
BEGIN:STANDARD
TZOFFSETFROM:+0000
TZOFFSETTO:+0000
TZNAME:UTC
DTSTART:20180101T000000
END:STANDARD
END:VTIMEZONE
BEGIN:VEVENT
DTSTART;TZID=UTC:20191201T130000
DTEND;TZID=UTC:20191201T170000
DTSTAMP:20260420T144227
CREATED:20191119T000818Z
LAST-MODIFIED:20191119T000818Z
UID:16605-1575205200-1575219600@elkinsrandolphwv.com
SUMMARY:Opening Day @ Chenoweth Christmas Tree Farm
DESCRIPTION:Looking for that perfect Christmas tree? Bring a saw and cut your own or choose one and they’ll cut it for you. Call 304-636-6677 or 304-642-1891 to schedule a time for us to meet you. Prices for White Pines are $20 and the Fraser Firs are $25\, any size!
URL:https://elkinsrandolphwv.com/event/opening-day-chenoweth-christmas-tree-farm/
LOCATION:Chenoweth Christmas Tree Farm\, Chenoweth Creek Road\, Elkins\, WV\, 26241\, United States
CATEGORIES:Community
END:VEVENT
BEGIN:VEVENT
DTSTART;VALUE=DATE:20191203
DTEND;VALUE=DATE:20191205
DTSTAMP:20260420T144227
CREATED:20191126T213957Z
LAST-MODIFIED:20191126T213957Z
UID:16682-1575338400-1575424799@elkinsrandolphwv.com
SUMMARY:Giving Tuesday @ United Way of Randolph County
DESCRIPTION:The United Way of Randolph County gears up for Giving Tuesday on Tuesday\, December\, 2019! Did you know that about a quarter of all donations to charities are given during December? GivingTuesday—the first Tuesday following Thanksgiving and the new “Black Friday” of philanthropic giving—was established in 2012 to serve as a celebratory kickoff day to the giving season. This year\, GivingTuesday will be on December 3\, 2019.\nGivingTuesday doesn’t have to be about giving a lot of money. Yes\, you can give.  But you can give in many ways\, such as volunteering your time.  Every act of kindness\, no matter how small\, adds together with others and can change the world for the better. Thank you for your consideration in donating to the United Way of Randolph County. Checks can be made payable to the United Way of Randolph County and mailed to 10 Eleventh Street Suite 4 Elkins\, WV 26241.  You can also make a donation via PayPal to info@unitedwayrandolphwv.com .
URL:https://elkinsrandolphwv.com/event/giving-tuesday-united-way-of-randolph-county/
LOCATION:WV
CATEGORIES:Community
END:VEVENT
BEGIN:VEVENT
DTSTART;TZID=UTC:20191204T100000
DTEND;TZID=UTC:20191204T103000
DTSTAMP:20260420T144227
CREATED:20191126T225716Z
LAST-MODIFIED:20191126T225716Z
UID:16711-1575453600-1575455400@elkinsrandolphwv.com
SUMMARY:Randolph County Tree Lighting @ Davis Trust Bank
DESCRIPTION:Join us in honoring our family members\, loved ones and friends with a tree lighting at the Davis Trust Bank on December 4 at 10 AM. \nHonor your loved one\, family member or friend with an ornament here: https://wvcaring.org/light-up-a-life/ \nAll orders received at least two days prior to tree events will be available for loved ones to hang personally. \nThe keepsake ornaments can be picked up at the trees\, or your local WV Caring office after the New Year.
URL:https://elkinsrandolphwv.com/event/randolph-county-tree-lighting-davis-trust-bank/
LOCATION:Davis Trust Company\, 227 Davis Avenue\, Elkins\, WV\, 26241\, United States
CATEGORIES:Community
END:VEVENT
BEGIN:VEVENT
DTSTART;TZID=UTC:20191204T183000
DTEND;TZID=UTC:20191204T203000
DTSTAMP:20260420T144227
CREATED:20191114T214917Z
LAST-MODIFIED:20191114T214917Z
UID:16543-1575484200-1575491400@elkinsrandolphwv.com
SUMMARY:Whoville Tours & Pictures w/ the Grinch @ The Elkins Public Library
DESCRIPTION:Join us for the Community Christmas Tree lightiing\, then follow us the library for Whoville at the Library Tours and get your picture taken with the Grinch!
URL:https://elkinsrandolphwv.com/event/whoville-tours-pictures-w-the-grinch-the-elkins-public-library/
LOCATION:Elkins-Randolph County Library\, 416 Davis Ave\, Elkins\, WV 26241\, USA\, 348 S Davis Ave\, United States\, 101 F St\, United States
CATEGORIES:Community
ATTACH;FMTTYPE=image/png:https://elkinsrandolphwv.com/wp-content/uploads/2019/05/elkins-randolph-county-public-library.png
GEO:38.542138;-121.739593
X-APPLE-STRUCTURED-LOCATION;VALUE=URI;X-ADDRESS=Elkins-Randolph County Library 416 Davis Ave Elkins WV 26241 USA 348 S Davis Ave United States 101 F St United States;X-APPLE-RADIUS=500;X-TITLE=101 F St:geo:-121.739593,38.542138
END:VEVENT
BEGIN:VEVENT
DTSTART;TZID=UTC:20191205T180000
DTEND;TZID=UTC:20191205T190000
DTSTAMP:20260420T144227
CREATED:20190508T004059Z
LAST-MODIFIED:20191211T003842Z
UID:12645-1575568800-1575572400@elkinsrandolphwv.com
SUMMARY:Chess Club @ Elkins Public Library
DESCRIPTION:All chess nuts are welcome to join. This group meets every Thursday to play chess.
URL:https://elkinsrandolphwv.com/event/chess-club-elkins-public-library-2019-12-05/2019-12-05/
LOCATION:Elkins-Randolph County Library\, 416 Davis Ave\, Elkins\, WV 26241\, USA\, 348 S Davis Ave\, United States
CATEGORIES:Community
ATTACH;FMTTYPE=image/png:https://elkinsrandolphwv.com/wp-content/uploads/2019/03/15965842_1262266873842507_8146662073453241384_n.png
GEO:38.920648;-79.850239
X-APPLE-STRUCTURED-LOCATION;VALUE=URI;X-ADDRESS=Elkins-Randolph County Library 416 Davis Ave Elkins WV 26241 USA 348 S Davis Ave United States;X-APPLE-RADIUS=500;X-TITLE=348 S Davis Ave:geo:-79.850239,38.920648
END:VEVENT
BEGIN:VEVENT
DTSTART;TZID=UTC:20191206T100000
DTEND;TZID=UTC:20191206T200000
DTSTAMP:20260420T144227
CREATED:20191125T205945Z
LAST-MODIFIED:20191125T205945Z
UID:16640-1575626400-1575662400@elkinsrandolphwv.com
SUMMARY:Customer Apprecation Celebration @ U.S. Cellular
DESCRIPTION:Happy holidays from U.S. Cellular! The Elkins store at 79 Valley Pointe Drive is hosting a holiday-themed Customer Appreciation Celebration from Dec. 6 – Dec. 8. During this time\, everyone who visits the store will receive a free tumbler*\, and customers can access a mobile prize game on their smartphone to spin to win prizes that include bill credits of up to $20 and accessory discounts of up to 20%. \n“We are excited to show our appreciation for our customers this holiday season\, and we encourage the entire community to visit our store for the celebration\,” said Nathan Waddell\, director of sales for U.S. Cellular in the Mid-South. “In addition\, we want to ensure our customers have a great wireless experience year-round\, so we invest in the latest network technology and offer plans that our customers can customize to fit their needs. When you choose U.S. Cellular this holiday season\, you are choosing a wireless company that treats you fairly and always puts you first.” \nThe Customer Appreciation Celebration coincides with deals on the latest smartphones and holiday gifts. For more information\, call and visit the store at: 79 Valley Pointe Drive\, Elkins\, W. Va. 26241\, 304-636-9311. \n*While supplies last. See uscellular.com for details.\nIn-Store Contests: NO PURCHASE NECESSARY TO ENTER OR WIN. See store for Official Rules. \nAbout U.S. Cellular\nU.S. Cellular is the fifth-largest full-service wireless carrier in the United States\, providing national network coverage and industry-leading innovations designed to elevate the customer experience. The Chicago-based carrier is building a stronger network with the latest 5G technology and offers a wide range of communication services that enhance consumers’ lives\, increase the competitiveness of local businesses and improve the efficiency of government operations. To learn more about U.S. Cellular\, visit one of its retail stores or www.uscellular.com. To get the latest news\, promos and videos\, connect with U.S. Cellular on Facebook.com/uscellular\, Twitter.com/uscellular and YouTube.com/uscellularcorp.
URL:https://elkinsrandolphwv.com/event/customer-apprecation-celebration-u-s-cellular/2019-12-06/
LOCATION:U.S. Cellular\, 79 Valley Pointe Drive\, Elkins\, WV\, 26241\, United States
CATEGORIES:Community
END:VEVENT
BEGIN:VEVENT
DTSTART;TZID=UTC:20191207T100000
DTEND;TZID=UTC:20191207T150000
DTSTAMP:20260420T144227
CREATED:20191114T200725Z
LAST-MODIFIED:20191114T200725Z
UID:16524-1575712800-1575730800@elkinsrandolphwv.com
SUMMARY:Christmas Open House @ Fancy Paws
DESCRIPTION:Christmas Open House 2019\n~ Snap a selfie at our Christmas photo op!\n~ Do you have matching Ugly Christmas Sweaters with your pet? Put them on and let’s party!\n~ RCHS will be here with your new best friend. Come out and meet them.\n~ Surprise sales to be announced closer to time of event!\n~ Come out and try your hand at or your pet’s paw at one of our games and win a prize!\n~ Dog/cat and Human treats will be available.
URL:https://elkinsrandolphwv.com/event/christmas-open-house-fancy-paws/
LOCATION:Fancy Paws\, LLC\, 105 3rd Street\, Elkins\, WV\, 26241\, United States
CATEGORIES:Community
ATTACH;FMTTYPE=image/jpeg:https://elkinsrandolphwv.com/wp-content/uploads/2019/04/fancyPaws-logo.jpg
END:VEVENT
BEGIN:VEVENT
DTSTART;TZID=UTC:20191207T130000
DTEND;TZID=UTC:20191207T180000
DTSTAMP:20260420T144227
CREATED:20191112T200258Z
LAST-MODIFIED:20191204T210322Z
UID:16485-1575723600-1575741600@elkinsrandolphwv.com
SUMMARY:Spaghetti Dinner @ Beverly United Methodist Church
DESCRIPTION:
URL:https://elkinsrandolphwv.com/event/spaghetti-dinner-beverly-united-methodist-church/
LOCATION:Beverly United Methodist Church\, 531 Main Street\, Beverly\, WV\, 26241\, United States
CATEGORIES:Community
END:VEVENT
BEGIN:VEVENT
DTSTART;TZID=UTC:20191208T140000
DTEND;TZID=UTC:20191208T153000
DTSTAMP:20260420T144227
CREATED:20191107T201842Z
LAST-MODIFIED:20191107T201842Z
UID:16443-1575813600-1575819000@elkinsrandolphwv.com
SUMMARY:Annual Christmas Parade @ Mill Creek
DESCRIPTION:The lineup is at 1:30 on Adolph Road\, starting at 2:00.\nThe Parade will end at George Ward School. Santa will be at George Ward School after the parade with cookies and hot chocolate for everyone.
URL:https://elkinsrandolphwv.com/event/annual-christmas-parade-mill-creek/
LOCATION:Tygarts Valley Fairs & Festivals\, Route 219 South\, Mill Creek\, WV\, 26280\, United States
CATEGORIES:Community
END:VEVENT
BEGIN:VEVENT
DTSTART;TZID=UTC:20191213T180000
DTEND;TZID=UTC:20191213T210000
DTSTAMP:20260420T144227
CREATED:20191210T234353Z
LAST-MODIFIED:20191210T234353Z
UID:16881-1576260000-1576270800@elkinsrandolphwv.com
SUMMARY:Christmas Party @ Joey's Bike Shop
DESCRIPTION:Come to our 90th annual Christmas party and help us celebrate the holiday and the conclusion of another RAD year at JBS! BYOB. Bring food if you like. JBS will be furnishing pizza and some booze.
URL:https://elkinsrandolphwv.com/event/christmas-party-joeys-bike-shop/
LOCATION:Joey’s Bike Shop LLC\, 19 3rd Street\, Elkins\, WV\, 26241\, United States
CATEGORIES:Community
ATTACH;FMTTYPE=image/jpeg:https://elkinsrandolphwv.com/wp-content/uploads/2019/03/414076_10150547953051670_2090875970_o.jpg
END:VEVENT
BEGIN:VEVENT
DTSTART;TZID=UTC:20191215T140000
DTEND;TZID=UTC:20191215T160000
DTSTAMP:20260420T144227
CREATED:20191015T203517Z
LAST-MODIFIED:20191015T203517Z
UID:15928-1576418400-1576425600@elkinsrandolphwv.com
SUMMARY:Free Shop Day @ God's Closet
DESCRIPTION:At this PRE-CHRISTMAS Free Shop Day we will be offering new and gently used CLOTHES for children ages newborn-teen\, including WINTER GEAR (snow suits\, winter coats\, gloves\, hats\, boots\, etc.). We will also have an assortment of nice new and gently used TOYS for all ages. While we don’t usually give out toys\, we thought it would be a nice thing just before Christmas! \nIn order to make your experience with God’s Closet a delightful one\, we ask that you please be aware and respectful of God’s Closet’s rules. \nIMPORTANT THINGS TO KNOW:\n1. Before each event\, we determine the amount of bags each family can receive.\n2. The amount of bags per family each family can have is based on the number of donations God’s Closet receives.\n3. In fairness to everyone\, and to ensure that each family leaves with the same amount of donations\, bags ARE ALWAYS CHECKED AT THE EXIT.\n4. You are unable to pay extra to receive additional bags.\n5. The amount of bags is not based on the number of family members. Every family receives the same amount of bags.\n6. It’s our desire that each family that shops at God’s Closet leave with donations!\n7. Please support us by being honest.\n8. Family members are not ALLOWED to shop for the same child. Remember… honesty is the best policy! AND if you abuse the system…you will break it. \nIf you have any further questions or need additional information please let us know. \nbeccajacko@gmail.com – Email\n(304) 636-4274 – Phone\nMessage us here on facebook \nWe hope you will be able to come ‘shop’ with us and we look forward to meeting you!
URL:https://elkinsrandolphwv.com/event/free-shop-day-gods-closet-2/
LOCATION:God’s Closet\, 777 Kennedy Street\, Elkins\, WV\, 26241\, United States
CATEGORIES:Community
END:VEVENT
BEGIN:VEVENT
DTSTART;TZID=UTC:20191219T173000
DTEND;TZID=UTC:20191219T190000
DTSTAMP:20260420T144227
CREATED:20191211T211120Z
LAST-MODIFIED:20191211T211219Z
UID:17001-1576776600-1576782000@elkinsrandolphwv.com
SUMMARY:Elkins-Randolph County Chamber After Hours @ Mountaineer Insurance
DESCRIPTION:Elkins-Randolph County Chamber presents a Christmas After Hours hosted by Mountaineer Insurance of Elkins. Chamber members and the community-at-large is welcome. Come join the fun\, network with business and community leaders\, and learn what Mountaineer Insurance has to offer.
URL:https://elkinsrandolphwv.com/event/elkins-randolph-county-chmaber-after-hours-mountaineer-insurance/
LOCATION:Mountaineer Insurance Services Dailey\, 3154 Seneca Trail\, Beverly\, WV\, 26241\, United States
CATEGORIES:Community
ATTACH;FMTTYPE=image/jpeg:https://elkinsrandolphwv.com/wp-content/uploads/2019/03/ERCCC_Logo_Stacked-01-e1561493887892.jpg
ORGANIZER;CN="Elkins-Randolph County Chamber of Commerce":MAILTO:chamber@erccc.com
END:VEVENT
BEGIN:VEVENT
DTSTART;TZID=UTC:20191221T170000
DTEND;TZID=UTC:20191221T200000
DTSTAMP:20260420T144227
CREATED:20191211T233203Z
LAST-MODIFIED:20191211T233203Z
UID:17086-1576947600-1576958400@elkinsrandolphwv.com
SUMMARY:Christmas Bingo @ Junior Volunteer Fire Department
DESCRIPTION:Come join us for our annual Christmas Special Bingo. We will be giving away exta door prizes and raffle ticket prizes along with our normal game cash prizes and growing raffle and crazy diamond jackpots.\nDoors open at 5:00pm.\nCard sales and raffles start at 5:30pm.\nGames start at 6:45pm.\nCome early to get a seat and bring a friend!\nAll proceeds benefit the JVFD.
URL:https://elkinsrandolphwv.com/event/christmas-bingo-junior-volunteer-fire-department/
LOCATION:Junior\, West Virginia
CATEGORIES:Community
END:VEVENT
END:VCALENDAR