BEGIN:VCALENDAR
VERSION:2.0
PRODID:-//Elkins-Randolph County Tourism - ECPv6.15.20//NONSGML v1.0//EN
CALSCALE:GREGORIAN
METHOD:PUBLISH
X-WR-CALNAME:Elkins-Randolph County Tourism
X-ORIGINAL-URL:https://elkinsrandolphwv.com
X-WR-CALDESC:Events for Elkins-Randolph County Tourism
REFRESH-INTERVAL;VALUE=DURATION:PT1H
X-Robots-Tag:noindex
X-PUBLISHED-TTL:PT1H
BEGIN:VTIMEZONE
TZID:UTC
BEGIN:STANDARD
TZOFFSETFROM:+0000
TZOFFSETTO:+0000
TZNAME:UTC
DTSTART:20200101T000000
END:STANDARD
END:VTIMEZONE
BEGIN:VEVENT
DTSTART;TZID=UTC:20210802T123000
DTEND;TZID=UTC:20210802T123000
DTSTAMP:20260423T110248
CREATED:20210614T202913Z
LAST-MODIFIED:20210614T202913Z
UID:24376-1627907400-1627907400@elkinsrandolphwv.com
SUMMARY:20th Gala Fine Arts Exhibition @ The Arts Center
DESCRIPTION:Mon\, Aug 2\, 2021 12:30 PM  Fri\, Sep 24\, 20211:30 PM \n\n\n\n\n\n\nJoin us to celebrate our 20th year! The Annual Gala Exhibition is a fine arts benefit and exhibition to celebrate years of providing accessible arts programming for artists\, and our community. This exhibit coincides with our largest fundraiser of the year\, and provides artists the chance to showcase their art work. The Arts Center is committed to presenting and promoting ‘excellence in arts.’
URL:https://elkinsrandolphwv.com/event/20th-gala-fine-arts-exhibition-the-arts-center/2021-08-02/
LOCATION:Randolph County Community Arts Center\, 2 Park Street\, Elkins\, 26241
CATEGORIES:Art & Culture,Community
ATTACH;FMTTYPE=image/png:https://elkinsrandolphwv.com/wp-content/uploads/2019/03/the-arts-center-e1726534520618.png
END:VEVENT
BEGIN:VEVENT
DTSTART;TZID=UTC:20210805T083000
DTEND;TZID=UTC:20210805T083000
DTSTAMP:20260423T110248
CREATED:20210610T175948Z
LAST-MODIFIED:20210610T175948Z
UID:24317-1628152200-1628152200@elkinsrandolphwv.com
SUMMARY:Chamber of Commerce Bi-Monthly Meeting
DESCRIPTION:The Chamber is happy to announce the return of Bi-Monthly Meetings! The next Bi-Monthly Meeting is scheduled for 8:30 AM at Graceland on the campus of D&E on August 5th. It’s been so long since we could catch up with one another\, the agenda will be a “potpourri” of short informational updates from various groups/organizations/initiatives in our community. We will also be surveying our members to determine your needs for learning and informational opportunities in the future.\n\nTo register for this free monthly meeting\, click the button below. Join your Chamber friends and the business community at Graceland on August 5th!\n\nRegister here!
URL:https://elkinsrandolphwv.com/event/chamber-of-commerce-bi-monthly-meeting/
LOCATION:Graceland Inn and Conference Center\, 100 Campus Drive\, Elkins\, WV\, 26241\, United States\, United States
CATEGORIES:Community
ATTACH;FMTTYPE=image/jpeg:https://elkinsrandolphwv.com/wp-content/uploads/2019/03/ERCCC_Logo_Stacked-01-e1561493887892.jpg
ORGANIZER;CN="Elkins-Randolph County Chamber of Commerce":MAILTO:chamber@erccc.com
GEO:38.937829;-79.846134
END:VEVENT
BEGIN:VEVENT
DTSTART;TZID=UTC:20210806T173000
DTEND;TZID=UTC:20210806T190000
DTSTAMP:20260423T110248
CREATED:20210803T194721Z
LAST-MODIFIED:20210805T171346Z
UID:24769-1628271000-1628276400@elkinsrandolphwv.com
SUMMARY:Lions Club Chicken BBQ @ Citizens Bank\, Elkins
DESCRIPTION:Chicken Barbecue by Elkins Lions Club at Citizens Bank of WV former drive-through on Friday August 6\, 2021.  Meal includes 1/2 chicken\, two sides\, cookie\, roll\, and bottle of water. $8.00 per meal ready at 5:30pm.
URL:https://elkinsrandolphwv.com/event/lions-club-chicken-bbq-citizens-bank-elkins/
LOCATION:WV
CATEGORIES:Community,Food & Drink
END:VEVENT
BEGIN:VEVENT
DTSTART;TZID=UTC:20210808T140000
DTEND;TZID=UTC:20210808T170000
DTSTAMP:20260423T110248
CREATED:20210716T175940Z
LAST-MODIFIED:20210716T175940Z
UID:24724-1628431200-1628442000@elkinsrandolphwv.com
SUMMARY:Picture This! Elkins: A HubCAP Community Engagement Event
DESCRIPTION:The Elkins WV Community Development HubCAP Leadership Team invites the community to Picture This! Elkins. \nWe are sharing current and future community projects. This is your opportunity to interact with and influence what is happening! \nBring your vision for the future\, ideas for new projects\, and questions about current initiatives.
URL:https://elkinsrandolphwv.com/event/picture-this-elkins-a-hubcap-community-engagement-event/
LOCATION:Elkins Town Square Ampitheatre\, 315 Railroad Avenue\, Elkins\, WV\, 26241\, United States
CATEGORIES:Community
END:VEVENT
BEGIN:VEVENT
DTSTART;TZID=UTC:20210814T120000
DTEND;TZID=UTC:20210814T210000
DTSTAMP:20260423T110248
CREATED:20210709T225601Z
LAST-MODIFIED:20210803T182207Z
UID:24705-1628942400-1628974800@elkinsrandolphwv.com
SUMMARY:Follow Your Bliss Festival @ Helvetia
DESCRIPTION:We will have a full day event Saturday\, August 14th\, kicking off at noon with a Friday evening acoustic bonfire starting at 7pm.
URL:https://elkinsrandolphwv.com/event/follow-your-bliss-festival-helvetia/2021-08-14/
LOCATION:Helvetia\, WV 26234\, USA\, 100 Old Helvetia Rd\, United States
CATEGORIES:Community,Entertainment,Kids & Family,Music
ATTACH;FMTTYPE=image/jpeg:https://elkinsrandolphwv.com/wp-content/uploads/2021/07/image1.jpeg
GEO:38.760148;-80.25278
X-APPLE-STRUCTURED-LOCATION;VALUE=URI;X-ADDRESS=Helvetia WV 26234 USA 100 Old Helvetia Rd United States;X-APPLE-RADIUS=500;X-TITLE=100 Old Helvetia Rd:geo:-80.25278,38.760148
END:VEVENT
END:VCALENDAR