BEGIN:VCALENDAR
VERSION:2.0
PRODID:-//Elkins-Randolph County Tourism - ECPv6.15.17.1//NONSGML v1.0//EN
CALSCALE:GREGORIAN
METHOD:PUBLISH
X-WR-CALNAME:Elkins-Randolph County Tourism
X-ORIGINAL-URL:https://elkinsrandolphwv.com
X-WR-CALDESC:Events for Elkins-Randolph County Tourism
REFRESH-INTERVAL;VALUE=DURATION:PT1H
X-Robots-Tag:noindex
X-PUBLISHED-TTL:PT1H
BEGIN:VTIMEZONE
TZID:UTC
BEGIN:STANDARD
TZOFFSETFROM:+0000
TZOFFSETTO:+0000
TZNAME:UTC
DTSTART:20180101T000000
END:STANDARD
END:VTIMEZONE
BEGIN:VEVENT
DTSTART;TZID=UTC:20191019T183000
DTEND;TZID=UTC:20191019T203000
DTSTAMP:20260421T202827
CREATED:20190826T190010Z
LAST-MODIFIED:20190826T190010Z
UID:15316-1571509800-1571517000@elkinsrandolphwv.com
SUMMARY:Mommy & Me Craft Class @ Center Stage
DESCRIPTION:Come enjoy a fun night with your kids and have a handmade craft to take home. $20 per mommy and kid\, $5 for additional children. \nPlease contact 304-704-7824 for ticket purchase
URL:https://elkinsrandolphwv.com/event/mommy-me-craft-class-center-stage/
LOCATION:Center Stage\, 2357 Seneca Trail\, Beverly\, WV\, 26241\, United States
CATEGORIES:Art & Culture,Community
END:VEVENT
END:VCALENDAR