BEGIN:VCALENDAR
VERSION:2.0
PRODID:-//Elkins-Randolph County Tourism - ECPv6.15.17.1//NONSGML v1.0//EN
CALSCALE:GREGORIAN
METHOD:PUBLISH
X-WR-CALNAME:Elkins-Randolph County Tourism
X-ORIGINAL-URL:https://elkinsrandolphwv.com
X-WR-CALDESC:Events for Elkins-Randolph County Tourism
REFRESH-INTERVAL;VALUE=DURATION:PT1H
X-Robots-Tag:noindex
X-PUBLISHED-TTL:PT1H
BEGIN:VTIMEZONE
TZID:UTC
BEGIN:STANDARD
TZOFFSETFROM:+0000
TZOFFSETTO:+0000
TZNAME:UTC
DTSTART:20180101T000000
END:STANDARD
END:VTIMEZONE
BEGIN:VEVENT
DTSTART;TZID=UTC:20191029T173000
DTEND;TZID=UTC:20191029T190000
DTSTAMP:20260421T040411
CREATED:20190930T182116Z
LAST-MODIFIED:20190930T182147Z
UID:15801-1572370200-1572375600@elkinsrandolphwv.com
SUMMARY:Safe Trick or Treat Night @ Clayton Homes
DESCRIPTION:Going on it’s 30th year\, Don’t miss bringing your kids to the Annual Safe Trick or Treat Night at Clayton Homes of Elkins
URL:https://elkinsrandolphwv.com/event/safe-trick-or-treat-night-clayton-homes/
LOCATION:Clayton Homes of Elkins\, 1865 Beverly Pike\, Elkins\, WV\, 26241\, United States
CATEGORIES:Community
END:VEVENT
END:VCALENDAR