BEGIN:VCALENDAR
VERSION:2.0
PRODID:-//Elkins-Randolph County Tourism - ECPv6.15.20//NONSGML v1.0//EN
CALSCALE:GREGORIAN
METHOD:PUBLISH
X-ORIGINAL-URL:https://elkinsrandolphwv.com
X-WR-CALDESC:Events for Elkins-Randolph County Tourism
REFRESH-INTERVAL;VALUE=DURATION:PT1H
X-Robots-Tag:noindex
X-PUBLISHED-TTL:PT1H
BEGIN:VTIMEZONE
TZID:UTC
BEGIN:STANDARD
TZOFFSETFROM:+0000
TZOFFSETTO:+0000
TZNAME:UTC
DTSTART:20190101T000000
END:STANDARD
END:VTIMEZONE
BEGIN:VEVENT
DTSTART;TZID=UTC:20200120T153000
DTEND;TZID=UTC:20200120T173000
DTSTAMP:20260422T140041
CREATED:20200118T005009Z
LAST-MODIFIED:20200118T005009Z
UID:18076-1579534200-1579541400@elkinsrandolphwv.com
SUMMARY:MLK Jr. Day Convocation\, March & Reflection @ Davis & Elkins College
DESCRIPTION:Davis & Elkins College will celebrate Martin Luther King Jr. Day with a convocation\, march and reflection on Monday\, January 20. The convocation will begin at 3:30 p.m. in Myles Center for the Arts Harper-McNeeley Auditorium. The march highlighting Dr. King’s life will take place immediately afterward\, winding through campus to Madden Student Center. A reflection in Timms Lounge will conclude the program and a birthday cake will be served to guests. The event is free and open to the public.
URL:https://elkinsrandolphwv.com/event/mlk-jr-day-convocation-march-reflection-davis-elkins-college/
LOCATION:Davis & Elkins College\, 100 Campus Dr\, Elkins\, WV 26241\, USA – Harper McNeeley Auditorium\, United States
CATEGORIES:Community,Davis & Elkins College
ATTACH;FMTTYPE=image/jpeg:https://elkinsrandolphwv.com/wp-content/uploads/2019/03/1916779_232589465984_856477_n.jpg
GEO:38.921503;-79.844583
END:VEVENT
END:VCALENDAR