BEGIN:VCALENDAR
VERSION:2.0
PRODID:-//Elkins-Randolph County Tourism - ECPv6.15.17.1//NONSGML v1.0//EN
CALSCALE:GREGORIAN
METHOD:PUBLISH
X-WR-CALNAME:Elkins-Randolph County Tourism
X-ORIGINAL-URL:https://elkinsrandolphwv.com
X-WR-CALDESC:Events for Elkins-Randolph County Tourism
REFRESH-INTERVAL;VALUE=DURATION:PT1H
X-Robots-Tag:noindex
X-PUBLISHED-TTL:PT1H
BEGIN:VTIMEZONE
TZID:UTC
BEGIN:STANDARD
TZOFFSETFROM:+0000
TZOFFSETTO:+0000
TZNAME:UTC
DTSTART:20190101T000000
END:STANDARD
END:VTIMEZONE
BEGIN:VEVENT
DTSTART;TZID=UTC:20200214T180000
DTEND;TZID=UTC:20200214T200000
DTSTAMP:20260419T185248
CREATED:20200211T220519Z
LAST-MODIFIED:20200211T220519Z
UID:18597-1581703200-1581710400@elkinsrandolphwv.com
SUMMARY:Community Sidewalk Supper @ First United Methodist Church
DESCRIPTION:FUMC is hosting a community dinner in the Family Life Center of the Church on Friday\, February 14. If you would like to come and help serve or just visit\, please join us. It is a blessing for you to be able serve dinner\, to sit down and eat with those who come and hear their stories\, pray with them\, hand out coats\, hats\, etc.
URL:https://elkinsrandolphwv.com/event/community-sidewalk-supper-first-united-methodist-church-2/
LOCATION:First United Methodist Church\, 315 Kerens Avenue\, Elkins\, WV\, 26241\, United States
CATEGORIES:Community
END:VEVENT
END:VCALENDAR