BEGIN:VCALENDAR
VERSION:2.0
PRODID:-//Elkins-Randolph County Tourism - ECPv6.15.17.1//NONSGML v1.0//EN
CALSCALE:GREGORIAN
METHOD:PUBLISH
X-WR-CALNAME:Elkins-Randolph County Tourism
X-ORIGINAL-URL:https://elkinsrandolphwv.com
X-WR-CALDESC:Events for Elkins-Randolph County Tourism
REFRESH-INTERVAL;VALUE=DURATION:PT1H
X-Robots-Tag:noindex
X-PUBLISHED-TTL:PT1H
BEGIN:VTIMEZONE
TZID:UTC
BEGIN:STANDARD
TZOFFSETFROM:+0000
TZOFFSETTO:+0000
TZNAME:UTC
DTSTART:20200101T000000
END:STANDARD
END:VTIMEZONE
BEGIN:VEVENT
DTSTART;TZID=UTC:20210503T080000
DTEND;TZID=UTC:20210503T170000
DTSTAMP:20260422T023811
CREATED:20210503T222321Z
LAST-MODIFIED:20210503T222321Z
UID:24062-1620028800-1620061200@elkinsrandolphwv.com
SUMMARY:Augusta Singers’ Circle (online event)
DESCRIPTION:Bring your favorite songs to share\, and sing along at home with songs led by others in the circle. This event is hosted by Flawn Williams\, coordinator of Augusta’s Vocal Week programs.
URL:https://elkinsrandolphwv.com/event/augusta-singers-circle-online-event-3/
LOCATION:WV
CATEGORIES:Community,Music
ATTACH;FMTTYPE=image/jpeg:https://elkinsrandolphwv.com/wp-content/uploads/2019/03/augusta.jpg
END:VEVENT
BEGIN:VEVENT
DTSTART;TZID=UTC:20210503T170000
DTEND;TZID=UTC:20210503T190000
DTSTAMP:20260422T023811
CREATED:20210429T232647Z
LAST-MODIFIED:20210429T232647Z
UID:23999-1620061200-1620068400@elkinsrandolphwv.com
SUMMARY:Grand Opening Celebration @ Wyld Lyfe Apothecary
DESCRIPTION:Join us for our opening celebration on Monday\, May 3rd from 5-7pm. While you are here\, you can browse our offerings and inquire about services. Light refreshments provided.
URL:https://elkinsrandolphwv.com/event/grand-opening-celebration-wyld-lyfe-apothecary/
LOCATION:Wyld Lyfe Apothecary\, 100 2nd Street\, Elkins\, WV\, 26241\, United States
CATEGORIES:Community
ATTACH;FMTTYPE=image/jpeg:https://elkinsrandolphwv.com/wp-content/uploads/2021/04/wyld-lyfe-apothecary-logo.jpg
END:VEVENT
END:VCALENDAR