BEGIN:VCALENDAR
VERSION:2.0
PRODID:-//Elkins-Randolph County Tourism - ECPv6.15.20//NONSGML v1.0//EN
CALSCALE:GREGORIAN
METHOD:PUBLISH
X-ORIGINAL-URL:https://elkinsrandolphwv.com
X-WR-CALDESC:Events for Elkins-Randolph County Tourism
REFRESH-INTERVAL;VALUE=DURATION:PT1H
X-Robots-Tag:noindex
X-PUBLISHED-TTL:PT1H
BEGIN:VTIMEZONE
TZID:UTC
BEGIN:STANDARD
TZOFFSETFROM:+0000
TZOFFSETTO:+0000
TZNAME:UTC
DTSTART:20200101T000000
END:STANDARD
END:VTIMEZONE
BEGIN:VEVENT
DTSTART;TZID=UTC:20210613T193000
DTEND;TZID=UTC:20210613T203000
DTSTAMP:20260422T223820
CREATED:20210503T220347Z
LAST-MODIFIED:20210503T220347Z
UID:24051-1623612600-1623616200@elkinsrandolphwv.com
SUMMARY:Augusta Singers’ Circle (online event)
DESCRIPTION:Bring your favorite songs to share\, and sing along at home with songs led by others in the circle. This event is hosted by Flawn Williams\, coordinator of Augusta’s Vocal Week programs.
URL:https://elkinsrandolphwv.com/event/augusta-singers-circle-online-event-2/
LOCATION:WV
CATEGORIES:Community,Music
ATTACH;FMTTYPE=image/jpeg:https://elkinsrandolphwv.com/wp-content/uploads/2019/03/augusta.jpg
END:VEVENT
END:VCALENDAR