BEGIN:VCALENDAR
VERSION:2.0
PRODID:-//Elkins-Randolph County Tourism - ECPv6.15.20//NONSGML v1.0//EN
CALSCALE:GREGORIAN
METHOD:PUBLISH
X-ORIGINAL-URL:https://elkinsrandolphwv.com
X-WR-CALDESC:Events for Elkins-Randolph County Tourism
REFRESH-INTERVAL;VALUE=DURATION:PT1H
X-Robots-Tag:noindex
X-PUBLISHED-TTL:PT1H
BEGIN:VTIMEZONE
TZID:UTC
BEGIN:STANDARD
TZOFFSETFROM:+0000
TZOFFSETTO:+0000
TZNAME:UTC
DTSTART:20200101T000000
END:STANDARD
END:VTIMEZONE
BEGIN:VEVENT
DTSTART;TZID=UTC:20210624T163000
DTEND;TZID=UTC:20210624T163000
DTSTAMP:20260422T225955
CREATED:20210610T175717Z
LAST-MODIFIED:20210610T175717Z
UID:24314-1624552200-1624552200@elkinsrandolphwv.com
SUMMARY:Chamber of Commerce After Hours
DESCRIPTION:This networking event proves to be extra special\, since it’s been so long since we had an After Hours in person! Starting at 4:30 on the 24th\, Christy Hines and the team at Performance Chevy will host this After Hours “under the big tent” next to their showroom at 3222 Beverly Pike. Beander’s is catering the event\, and everyone is invited! Registration is encouraged\, but there is no cost to attend. We hope to see you at Performance Chevrolet on June 24th! \nRegister here!
URL:https://elkinsrandolphwv.com/event/chamber-of-commerce-after-hours/
LOCATION:WV
CATEGORIES:Community
ATTACH;FMTTYPE=image/jpeg:https://elkinsrandolphwv.com/wp-content/uploads/2019/03/ERCCC_Logo_Stacked-01-e1561493887892.jpg
ORGANIZER;CN="Elkins-Randolph County Chamber of Commerce":MAILTO:chamber@erccc.com
END:VEVENT
BEGIN:VEVENT
DTSTART;TZID=UTC:20210624T190000
DTEND;TZID=UTC:20210624T210000
DTSTAMP:20260422T225955
CREATED:20210503T220552Z
LAST-MODIFIED:20210610T180938Z
UID:24053-1624561200-1624568400@elkinsrandolphwv.com
SUMMARY:Augusta Concert with Chance McCoy and Justin Golden @ Elkins Town Square Amphitheater
DESCRIPTION:Join us at the Elkins Railyard Amphitheater for performances by Chance McCoy (GRAMMY-winning multi-instrumentalist formerly of Old Crow Medicine Show) and Justin Golden (traditional blues from Richmond VA). \nOur Town\, Inc is hosting Summer Concert Series kicking off in May.  Join us at the newly built town square amphitheater\, for one-of-a-kind FREE experiences featuring some of your favorite artists – plus weather that can’t be beat! These summer concerts are in conjunction with the Mountain State Street Machines Cruise-Ins. Bring yourself\, your friends and family\, a chair and sit back and relax to the sound of good music.
URL:https://elkinsrandolphwv.com/event/augusta-concert-with-chance-mccoy-and-justin-golden-elkins-town-square-amphitheater/
LOCATION:WV
CATEGORIES:Community,Entertainment,Music
ATTACH;FMTTYPE=image/jpeg:https://elkinsrandolphwv.com/wp-content/uploads/2019/03/augusta.jpg
END:VEVENT
END:VCALENDAR