BEGIN:VCALENDAR
VERSION:2.0
PRODID:-//Elkins-Randolph County Tourism - ECPv6.15.20//NONSGML v1.0//EN
CALSCALE:GREGORIAN
METHOD:PUBLISH
X-WR-CALNAME:Elkins-Randolph County Tourism
X-ORIGINAL-URL:https://elkinsrandolphwv.com
X-WR-CALDESC:Events for Elkins-Randolph County Tourism
REFRESH-INTERVAL;VALUE=DURATION:PT1H
X-Robots-Tag:noindex
X-PUBLISHED-TTL:PT1H
BEGIN:VTIMEZONE
TZID:UTC
BEGIN:STANDARD
TZOFFSETFROM:+0000
TZOFFSETTO:+0000
TZNAME:UTC
DTSTART:20200101T000000
END:STANDARD
END:VTIMEZONE
BEGIN:VEVENT
DTSTART;TZID=UTC:20210626T090000
DTEND;TZID=UTC:20210626T130000
DTSTAMP:20260422T234257
CREATED:20210624T182143Z
LAST-MODIFIED:20210624T182143Z
UID:24495-1624698000-1624712400@elkinsrandolphwv.com
SUMMARY:Beverly Farmer's Market @ Main Street (Beverly)
DESCRIPTION:Join us for the Farmer’s Market on Beverly’s Main Street\, Saturdays form 9-1!
URL:https://elkinsrandolphwv.com/event/beverly-farmers-market-main-street-beverly/2021-06-26/
LOCATION:Beverly\, WV\, USA\, United States
CATEGORIES:Community
ATTACH;FMTTYPE=image/png:https://elkinsrandolphwv.com/wp-content/uploads/2020/10/town-of-beverly.png
GEO:38.836615;-79.872553
END:VEVENT
BEGIN:VEVENT
DTSTART;TZID=UTC:20210626T110000
DTEND;TZID=UTC:20210626T140000
DTSTAMP:20260422T234257
CREATED:20210614T230507Z
LAST-MODIFIED:20210614T230507Z
UID:24413-1624705200-1624716000@elkinsrandolphwv.com
SUMMARY:Pride in the Park @ Elkins City Park
DESCRIPTION:Grab a lawn chair and join us at the 3rd annual Pride in the park. With live music\, food\, games\, and prizes\, it’s sure to be a good time. Free\, family-friendly\, and open to the public. For more information or how to get involved\, call 304-636-8433.
URL:https://elkinsrandolphwv.com/event/pride-in-the-park-elkins-city-park/
LOCATION:Elkins City Park\, Elkins\, WV 26241\, USA\, 101 Elkins Ave\, United States
CATEGORIES:Community
GEO:38.945377;-79.854602
X-APPLE-STRUCTURED-LOCATION;VALUE=URI;X-ADDRESS=Elkins City Park Elkins WV 26241 USA 101 Elkins Ave United States;X-APPLE-RADIUS=500;X-TITLE=101 Elkins Ave:geo:-79.854602,38.945377
END:VEVENT
END:VCALENDAR