BEGIN:VCALENDAR
VERSION:2.0
PRODID:-//Elkins-Randolph County Tourism - ECPv6.15.20//NONSGML v1.0//EN
CALSCALE:GREGORIAN
METHOD:PUBLISH
X-WR-CALNAME:Elkins-Randolph County Tourism
X-ORIGINAL-URL:https://elkinsrandolphwv.com
X-WR-CALDESC:Events for Elkins-Randolph County Tourism
REFRESH-INTERVAL;VALUE=DURATION:PT1H
X-Robots-Tag:noindex
X-PUBLISHED-TTL:PT1H
BEGIN:VTIMEZONE
TZID:UTC
BEGIN:STANDARD
TZOFFSETFROM:+0000
TZOFFSETTO:+0000
TZNAME:UTC
DTSTART:20200101T000000
END:STANDARD
END:VTIMEZONE
BEGIN:VEVENT
DTSTART;TZID=UTC:20210723T090000
DTEND;TZID=UTC:20210723T190000
DTSTAMP:20260425T121351
CREATED:20210702T004929Z
LAST-MODIFIED:20210702T004929Z
UID:24655-1627030800-1627066800@elkinsrandolphwv.com
SUMMARY:Friends of the Library Book Sale @ Elkins YMCA
DESCRIPTION:
URL:https://elkinsrandolphwv.com/event/friends-of-the-library-book-sale-elkins-ymca/2021-07-23/
LOCATION:Elkins Randolph County YMCA\, 400 Davis Avenue\, Elkins\, WV\, 26241\, United States
CATEGORIES:Community
ATTACH;FMTTYPE=image/png:https://elkinsrandolphwv.com/wp-content/uploads/2019/05/elkins-randolph-county-public-library.png
END:VEVENT
BEGIN:VEVENT
DTSTART;TZID=UTC:20210723T200000
DTEND;TZID=UTC:20210723T200000
DTSTAMP:20260425T121351
CREATED:20210503T222600Z
LAST-MODIFIED:20210503T222600Z
UID:24064-1627070400-1627070400@elkinsrandolphwv.com
SUMMARY:Augusta Festival Downtown Block Party
DESCRIPTION:Join us for a downtown hoedown Augusta style. This concert will feature a dance area and beer garden. Partners include El Gran Sabor and the City of Elkins. More information about the musical acts coming soon!
URL:https://elkinsrandolphwv.com/event/augusta-festival-downtown-block-party/
LOCATION:WV
CATEGORIES:Art & Culture,Community,Music
ATTACH;FMTTYPE=image/jpeg:https://elkinsrandolphwv.com/wp-content/uploads/2019/03/augusta.jpg
END:VEVENT
END:VCALENDAR