BEGIN:VCALENDAR
VERSION:2.0
PRODID:-//Elkins-Randolph County Tourism - ECPv6.15.20//NONSGML v1.0//EN
CALSCALE:GREGORIAN
METHOD:PUBLISH
X-ORIGINAL-URL:https://elkinsrandolphwv.com
X-WR-CALDESC:Events for Elkins-Randolph County Tourism
REFRESH-INTERVAL;VALUE=DURATION:PT1H
X-Robots-Tag:noindex
X-PUBLISHED-TTL:PT1H
BEGIN:VTIMEZONE
TZID:UTC
BEGIN:STANDARD
TZOFFSETFROM:+0000
TZOFFSETTO:+0000
TZNAME:UTC
DTSTART:20200101T000000
END:STANDARD
END:VTIMEZONE
BEGIN:VEVENT
DTSTART;TZID=UTC:20210906T120000
DTEND;TZID=UTC:20210906T120000
DTSTAMP:20260424T043808
CREATED:20210709T225917Z
LAST-MODIFIED:20210709T225917Z
UID:24708-1630929600-1630929600@elkinsrandolphwv.com
SUMMARY:Rosie the Riveter Celebration @ Elkins Town Square Amphitheater
DESCRIPTION:Our Town is planning a Rosie the Riveter celebration on Labor Day\, Monday\, September 6 to celebrate those women who were the backbone of our homefront military effort during WW II.  The event is scheduled to occur at the Rotary Amphitheater beginning at 12 noon.  Those of all ages who are attending are welcome to bring a chair\, a blanket\, a sun umbrella and a lunch as we celebrate this day. .  There will be presentations\, music\, dance and participant involvement. Everyone will be asked to bring a bell of any size to join in the world wide bell ringing ceremony at  1 pm.  Those coming dressed as the stereotypical Rosie will be eligible for door prizes.  This event is a national and international celebration and Elkins wants to be part of the recognition for these special women\, many from our area and a few who still live among us. See our flyer which will be forthcoming in the near future.
URL:https://elkinsrandolphwv.com/event/rosie-the-riveter-celebration-elkins-town-square-amphitheater/
LOCATION:Elkins Town Square Ampitheatre\, 315 Railroad Avenue\, Elkins\, WV\, 26241\, United States
CATEGORIES:Community
ATTACH;FMTTYPE=image/jpeg:https://elkinsrandolphwv.com/wp-content/uploads/2021/03/our-town-logo.jpg
END:VEVENT
END:VCALENDAR