BEGIN:VCALENDAR
VERSION:2.0
PRODID:-//Elkins-Randolph County Tourism - ECPv6.15.20//NONSGML v1.0//EN
CALSCALE:GREGORIAN
METHOD:PUBLISH
X-WR-CALNAME:Elkins-Randolph County Tourism
X-ORIGINAL-URL:https://elkinsrandolphwv.com
X-WR-CALDESC:Events for Elkins-Randolph County Tourism
REFRESH-INTERVAL;VALUE=DURATION:PT1H
X-Robots-Tag:noindex
X-PUBLISHED-TTL:PT1H
BEGIN:VTIMEZONE
TZID:UTC
BEGIN:STANDARD
TZOFFSETFROM:+0000
TZOFFSETTO:+0000
TZNAME:UTC
DTSTART:20200101T000000
END:STANDARD
END:VTIMEZONE
BEGIN:VEVENT
DTSTART;TZID=UTC:20210909T170000
DTEND;TZID=UTC:20210912T170000
DTSTAMP:20260425T071105
CREATED:20210709T231120Z
LAST-MODIFIED:20210709T231120Z
UID:24711-1631206800-1631466000@elkinsrandolphwv.com
SUMMARY:Helvetia Community Fair @ Helvetia
DESCRIPTION:Helvetia Community Fair Dates 2021 –Thursday\, 9/9/21:\n5p to 8p – Enter exhibits at the Community Hall.\nFriday\, 9/10/21:\n8a to 12p – Enter exhibits at the Community Hall.\nSaturday\, 9/11/21:\n10a to 5p – Exhibits open at the Community Hall.\n10a to 6p – Arts & Crafts at the Star Band Hall. Quilts\, paintings\, wood work\, candles\, homemade jellies\, baskets\, and more of your past favorites.\n**MANY NEW VENDORS THIS YEAR!\n11a – Marionette show at Gazebo\n1p to 2p – Registration for the Horseshoe Contest.\n– Marionette show at Gazebo\n2p – Alpine Parade.\n2:30p – Swiss folk dancing & singing\, Alp horns\, yodeling\, and Fahnenschwingen (swinging of the Swiss flag) in the Meadow.\n4p – 6p – Horseshoe Contest and Field events\, Live music at the stage\, food available at the Community Hall.\n6p – 7p – Square Dance Lessons at Community Hall\n7p to 10p – Square dance at the Community Hall. $5 adults\, $2 students.\nSunday\, 9/12/21:\nhttps://www.wvmtr.org/races/helvetia/\n8:45a – Helvetia Mountain Kid’s Run\n9a – Helvetia Mountain Run & 2 Mile Walk.\n11a to 3p – Exhibits open at the Community Hall.\n11a to 3p – Arts & Crafts at the Star Band Hall. **MANY NEW VENDORS THIS YEAR.\n12p – William Tell Archery Shoot.\n1p – Program in the Meadow.\nBoth Saturday and Sunday\nRefreshments at the Community Hall.\nBook Sale at the Library.\nSpecial Stamp Cancellation at Post Office.\nArchives at the Schoolhouse.
URL:https://elkinsrandolphwv.com/event/helvetia-community-fair-helvetia/
LOCATION:Helvetia\, WV 26234\, USA\, 100 Old Helvetia Rd\, United States
CATEGORIES:Community,Fairs & Festivals
ATTACH;FMTTYPE=image/jpeg:https://elkinsrandolphwv.com/wp-content/uploads/2019/03/IMG_0040.jpg
GEO:38.760148;-80.25278
X-APPLE-STRUCTURED-LOCATION;VALUE=URI;X-ADDRESS=Helvetia WV 26234 USA 100 Old Helvetia Rd United States;X-APPLE-RADIUS=500;X-TITLE=100 Old Helvetia Rd:geo:-80.25278,38.760148
END:VEVENT
END:VCALENDAR