BEGIN:VCALENDAR
VERSION:2.0
PRODID:-//Elkins-Randolph County Tourism - ECPv6.15.20//NONSGML v1.0//EN
CALSCALE:GREGORIAN
METHOD:PUBLISH
X-ORIGINAL-URL:https://elkinsrandolphwv.com
X-WR-CALDESC:Events for Elkins-Randolph County Tourism
REFRESH-INTERVAL;VALUE=DURATION:PT1H
X-Robots-Tag:noindex
X-PUBLISHED-TTL:PT1H
BEGIN:VTIMEZONE
TZID:UTC
BEGIN:STANDARD
TZOFFSETFROM:+0000
TZOFFSETTO:+0000
TZNAME:UTC
DTSTART:20210101T000000
END:STANDARD
END:VTIMEZONE
BEGIN:VEVENT
DTSTART;TZID=UTC:20220430T120000
DTEND;TZID=UTC:20220430T140000
DTSTAMP:20260424T172456
CREATED:20220401T195823Z
LAST-MODIFIED:20220401T195823Z
UID:25601-1651320000-1651327200@elkinsrandolphwv.com
SUMMARY:Earth Day Celebration @ Elkins City Park
DESCRIPTION:Join us in celebrating the planet with an afternoon of kid’s activities and crafts\, information and exhibits\, and free giveaways such as tree seedlings\, flower packets\, and reusable totes.
URL:https://elkinsrandolphwv.com/event/earth-day-celebration-elkins-city-park/
LOCATION:Elkins City Park\, Elkins\, WV 26241\, USA\, 101 Elkins Ave\, United States
CATEGORIES:Community,Sports & Recreations
ATTACH;FMTTYPE=image/png:https://elkinsrandolphwv.com/wp-content/uploads/2022/03/EPRC001-Logo_Color.png
GEO:38.945377;-79.854602
X-APPLE-STRUCTURED-LOCATION;VALUE=URI;X-ADDRESS=Elkins City Park Elkins WV 26241 USA 101 Elkins Ave United States;X-APPLE-RADIUS=500;X-TITLE=101 Elkins Ave:geo:-79.854602,38.945377
END:VEVENT
BEGIN:VEVENT
DTSTART;TZID=UTC:20220430T140000
DTEND;TZID=UTC:20220430T180000
DTSTAMP:20260424T172456
CREATED:20220401T202449Z
LAST-MODIFIED:20220401T202449Z
UID:25608-1651327200-1651341600@elkinsrandolphwv.com
SUMMARY:Helvetia Ramp Supper @ Helvetia
DESCRIPTION:This year\, the supper is slightly altered in that we will not offer table service inside our Community Hall\, but rather we will serve generous portions that you are welcome to enjoy at tables provided inside or outside the building. \nHam\, cornbread\, ramps (prepared with bacon)\, beans\, fried potatoes\, coleslaw\, applesauce\, dessert\, coffee\, lemonade. \n$17 for adults\, $8 for children
URL:https://elkinsrandolphwv.com/event/helvetia-ramp-supper-helvetia/
LOCATION:WV
CATEGORIES:Community,Food & Drink
ATTACH;FMTTYPE=image/jpeg:https://elkinsrandolphwv.com/wp-content/uploads/2020/09/71087931_1336835173152427_5995645955758620672_o.jpg
END:VEVENT
BEGIN:VEVENT
DTSTART;TZID=UTC:20220430T180000
DTEND;TZID=UTC:20220430T210000
DTSTAMP:20260424T172456
CREATED:20220304T005750Z
LAST-MODIFIED:20220304T005913Z
UID:25384-1651341600-1651352400@elkinsrandolphwv.com
SUMMARY:Gala Fundraiser Event & Reception @ The Arts Center
DESCRIPTION:RSVP Deadline\, April 8. Gala Garden Party. The Annual Gala Exhibition is a fine arts benefit and exhibition to celebrate years of providing accessible arts programming for artists\, and our community. The Arts Center is committed to presenting and promoting ‘excellence in arts.’ This event takes place inside and outside. \nSilent auction\, music\, dinner and good company! \nRSVP Deadline is April 8\, and that is the last day to purchase tickets online. There are no phone calls to purchase tickets. We need an accurate headcount to provide the caterers. Any tickets purchased at the door\, cost $5 more. \nhttp://www.randolpharts.org/new-events
URL:https://elkinsrandolphwv.com/event/gala-fine-arts-exhibition-reception-the-arts-center/
LOCATION:The Arts Center\, aka Randolph Co. Community Arts Council\, 2 Park St\, Elkins\, WV\, 26241\, United States
CATEGORIES:Art & Culture,Community
ATTACH;FMTTYPE=image/png:https://elkinsrandolphwv.com/wp-content/uploads/2019/03/the-arts-center-e1726534520618.png
GEO:38.924095;-79.850318
X-APPLE-STRUCTURED-LOCATION;VALUE=URI;X-ADDRESS=The Arts Center aka Randolph Co. Community Arts Council 2 Park St Elkins WV 26241 United States;X-APPLE-RADIUS=500;X-TITLE=2 Park St:geo:-79.850318,38.924095
END:VEVENT
END:VCALENDAR