BEGIN:VCALENDAR
VERSION:2.0
PRODID:-//Elkins-Randolph County Tourism - ECPv6.15.17.1//NONSGML v1.0//EN
CALSCALE:GREGORIAN
METHOD:PUBLISH
X-WR-CALNAME:Elkins-Randolph County Tourism
X-ORIGINAL-URL:https://elkinsrandolphwv.com
X-WR-CALDESC:Events for Elkins-Randolph County Tourism
REFRESH-INTERVAL;VALUE=DURATION:PT1H
X-Robots-Tag:noindex
X-PUBLISHED-TTL:PT1H
BEGIN:VTIMEZONE
TZID:UTC
BEGIN:STANDARD
TZOFFSETFROM:+0000
TZOFFSETTO:+0000
TZNAME:UTC
DTSTART:20210101T000000
END:STANDARD
END:VTIMEZONE
BEGIN:VEVENT
DTSTART;TZID=UTC:20220604T090000
DTEND;TZID=UTC:20220604T120000
DTSTAMP:20260419T214938
CREATED:20220514T183800Z
LAST-MODIFIED:20220514T183800Z
UID:25866-1654333200-1654344000@elkinsrandolphwv.com
SUMMARY:Guiding You Home Community Fair @ Elkins Town Square
DESCRIPTION:Participating Organizations: HomeOwnership Center\, Randolph County Humane Society\, Randolph County Housing Authority’s Supportive Services Department and Burlington United Methodist Family Services’ Safe at Home Program and Foster Care Program\nDate: Saturday\, June 4\, 2022 – 9 a.m. until noon\nLocation: Elkins Town Square\nPhone: 304-636-9115
URL:https://elkinsrandolphwv.com/event/guiding-you-home-community-fair-elkins-town-square/
LOCATION:Rotary Ampitheatre in Elkins Town Square\, 315 Railroad Avenue\, Elkins\, WV\, 26241\, United States\, 2 Railroad Ave\, United States
CATEGORIES:Community
GEO:38.92313;-79.851004
X-APPLE-STRUCTURED-LOCATION;VALUE=URI;X-ADDRESS=Rotary Ampitheatre in Elkins Town Square 315 Railroad Avenue Elkins WV 26241 United States 2 Railroad Ave United States;X-APPLE-RADIUS=500;X-TITLE=2 Railroad Ave:geo:-79.851004,38.92313
END:VEVENT
END:VCALENDAR