BEGIN:VCALENDAR
VERSION:2.0
PRODID:-//Elkins-Randolph County Tourism - ECPv6.15.17.1//NONSGML v1.0//EN
CALSCALE:GREGORIAN
METHOD:PUBLISH
X-ORIGINAL-URL:https://elkinsrandolphwv.com
X-WR-CALDESC:Events for Elkins-Randolph County Tourism
REFRESH-INTERVAL;VALUE=DURATION:PT1H
X-Robots-Tag:noindex
X-PUBLISHED-TTL:PT1H
BEGIN:VTIMEZONE
TZID:UTC
BEGIN:STANDARD
TZOFFSETFROM:+0000
TZOFFSETTO:+0000
TZNAME:UTC
DTSTART:20210101T000000
END:STANDARD
END:VTIMEZONE
BEGIN:VEVENT
DTSTART;VALUE=DATE:20220625
DTEND;VALUE=DATE:20220627
DTSTAMP:20260420T082850
CREATED:20220502T182919Z
LAST-MODIFIED:20220502T182919Z
UID:25823-1656122400-1656208799@elkinsrandolphwv.com
SUMMARY:Coalton Days @ Coalton
DESCRIPTION:Free event\, donations accepted for use of the park
URL:https://elkinsrandolphwv.com/event/coalton-days-coalton/
LOCATION:Coalton\, WV
CATEGORIES:Community,Fairs & Festivals
END:VEVENT
BEGIN:VEVENT
DTSTART;TZID=UTC:20220625T110000
DTEND;TZID=UTC:20220625T110000
DTSTAMP:20260420T082850
CREATED:20220502T183034Z
LAST-MODIFIED:20220502T183034Z
UID:25824-1656154800-1656154800@elkinsrandolphwv.com
SUMMARY:Pride in the Park @ Elkins City Park
DESCRIPTION:
URL:https://elkinsrandolphwv.com/event/pride-in-the-park-elkins-city-park-2/
LOCATION:Elkins City Park\, Elkins\, WV 26241\, USA\, 101 Elkins Ave\, United States
CATEGORIES:Community
GEO:38.945377;-79.854602
X-APPLE-STRUCTURED-LOCATION;VALUE=URI;X-ADDRESS=Elkins City Park Elkins WV 26241 USA 101 Elkins Ave United States;X-APPLE-RADIUS=500;X-TITLE=101 Elkins Ave:geo:-79.854602,38.945377
END:VEVENT
BEGIN:VEVENT
DTSTART;TZID=UTC:20220625T140000
DTEND;TZID=UTC:20220625T170000
DTSTAMP:20260420T082850
CREATED:20220313T183211Z
LAST-MODIFIED:20220313T183211Z
UID:25505-1656165600-1656176400@elkinsrandolphwv.com
SUMMARY:"Something Old\, Something New” Open House @ The Kump House
DESCRIPTION:The Kump Education Center will be sponsoring a “Something Old\, Something New” Open House at the Gov. Kump House Saturday-Sunday June 25-26 from 2-5 p.m. This event will feature a Kump Family Wedding Traditions display with Edna Scott Kump’s (1907) and Peggy Kump Roberts’ wedding dresses (1936)\, as well as new interpretive exhibits related to other aspects of the Kump House history. The two-day event is free and open to the public. Donations are encouraged. \nThe Gov. Kump House is located at 401 S. Randolph Avenue\, Elkins\, WV (across from Kroger).
URL:https://elkinsrandolphwv.com/event/something-old-something-new-open-house-the-kump-house/2022-06-25/
LOCATION:Kump Education Center\, 401 Davis Avenue\, Elkins\, WV\, 26241\, United States
CATEGORIES:Community,Educational
ATTACH;FMTTYPE=image/jpeg:https://elkinsrandolphwv.com/wp-content/uploads/2019/05/Kump-Education-Center.jpg
END:VEVENT
END:VCALENDAR