BEGIN:VCALENDAR
VERSION:2.0
PRODID:-//Elkins-Randolph County Tourism - ECPv6.15.17.1//NONSGML v1.0//EN
CALSCALE:GREGORIAN
METHOD:PUBLISH
X-WR-CALNAME:Elkins-Randolph County Tourism
X-ORIGINAL-URL:https://elkinsrandolphwv.com
X-WR-CALDESC:Events for Elkins-Randolph County Tourism
REFRESH-INTERVAL;VALUE=DURATION:PT1H
X-Robots-Tag:noindex
X-PUBLISHED-TTL:PT1H
BEGIN:VTIMEZONE
TZID:America/New_York
BEGIN:DAYLIGHT
TZOFFSETFROM:-0500
TZOFFSETTO:-0400
TZNAME:EDT
DTSTART:20250309T070000
END:DAYLIGHT
BEGIN:STANDARD
TZOFFSETFROM:-0400
TZOFFSETTO:-0500
TZNAME:EST
DTSTART:20251102T060000
END:STANDARD
BEGIN:DAYLIGHT
TZOFFSETFROM:-0500
TZOFFSETTO:-0400
TZNAME:EDT
DTSTART:20260308T070000
END:DAYLIGHT
BEGIN:STANDARD
TZOFFSETFROM:-0400
TZOFFSETTO:-0500
TZNAME:EST
DTSTART:20261101T060000
END:STANDARD
BEGIN:DAYLIGHT
TZOFFSETFROM:-0500
TZOFFSETTO:-0400
TZNAME:EDT
DTSTART:20270314T070000
END:DAYLIGHT
BEGIN:STANDARD
TZOFFSETFROM:-0400
TZOFFSETTO:-0500
TZNAME:EST
DTSTART:20271107T060000
END:STANDARD
END:VTIMEZONE
BEGIN:VEVENT
DTSTART;TZID=America/New_York:20260505T130000
DTEND;TZID=America/New_York:20260505T160000
DTSTAMP:20260419T201712
CREATED:20260419T152735Z
LAST-MODIFIED:20260419T152735Z
UID:34079-1777986000-1777996800@elkinsrandolphwv.com
SUMMARY:Canning Class- Camp Pioneer-4-H Camp
DESCRIPTION:Classes are BOTH DAYS – May 4th and 5th.  You may choose the 1-4pm or 5-8pm time slots\, and you will attend both days during that time.  It is possible to attend the first day and not the second\, but it is NOT possible to attend the second day without attending the first. \nMay 4th – Science of Canning and Boiling Water Canning \nMay 5th – Pressure Canning \nCost: $10 for each two-day session (payment is due by April 30th to WVU Extension office) \n\n\n\n\n\n\n Date\n05/04/2026 (Mon.)\n05/05/2026 (Tues.)\n\n\n\n\n Location\n4-H Camp Pioneer
URL:https://elkinsrandolphwv.com/event/canning-class-camp-pioneer-4-h-camp/2026-05-05/
LOCATION:Camp Pioneer\, 38 Pioneer Circle\, Kings Run Rd\, Beverly\, WV 26253\, USA\, 38 Pioneer Circle\, Kings Run Road\, Beverly\, WV\, United States
CATEGORIES:Community,Educational
GEO:38.818697;-79.853493
X-APPLE-STRUCTURED-LOCATION;VALUE=URI;X-ADDRESS=Camp Pioneer 38 Pioneer Circle Kings Run Rd Beverly WV 26253 USA 38 Pioneer Circle Kings Run Road Beverly WV United States;X-APPLE-RADIUS=500;X-TITLE=38 Pioneer Circle\, Kings Run Road:geo:-79.853493,38.818697
END:VEVENT
BEGIN:VEVENT
DTSTART;TZID=America/New_York:20260505T170000
DTEND;TZID=America/New_York:20260505T200000
DTSTAMP:20260419T201712
CREATED:20260419T152735Z
LAST-MODIFIED:20260419T152735Z
UID:34080-1778000400-1778011200@elkinsrandolphwv.com
SUMMARY:Canning Class- Camp Pioneer-4-H Camp
DESCRIPTION:Classes are BOTH DAYS – May 4th and 5th.  You may choose the 1-4pm or 5-8pm time slots\, and you will attend both days during that time.  It is possible to attend the first day and not the second\, but it is NOT possible to attend the second day without attending the first. \nMay 4th – Science of Canning and Boiling Water Canning \nMay 5th – Pressure Canning \nCost: $10 for each two-day session (payment is due by April 30th to WVU Extension office) \n\n\n\n\n\n\n Date\n05/04/2026 (Mon.)\n05/05/2026 (Tues.)\n\n\n\n\n Location\n4-H Camp Pioneer
URL:https://elkinsrandolphwv.com/event/canning-class-camp-pioneer-4-h-camp/2026-05-05/2/
LOCATION:Camp Pioneer\, 38 Pioneer Circle\, Kings Run Rd\, Beverly\, WV 26253\, USA\, 38 Pioneer Circle\, Kings Run Road\, Beverly\, WV\, United States
CATEGORIES:Community,Educational
GEO:38.818697;-79.853493
X-APPLE-STRUCTURED-LOCATION;VALUE=URI;X-ADDRESS=Camp Pioneer 38 Pioneer Circle Kings Run Rd Beverly WV 26253 USA 38 Pioneer Circle Kings Run Road Beverly WV United States;X-APPLE-RADIUS=500;X-TITLE=38 Pioneer Circle\, Kings Run Road:geo:-79.853493,38.818697
END:VEVENT
END:VCALENDAR