BEGIN:VCALENDAR
VERSION:2.0
PRODID:-//Elkins-Randolph County Tourism - ECPv6.15.17.1//NONSGML v1.0//EN
CALSCALE:GREGORIAN
METHOD:PUBLISH
X-ORIGINAL-URL:https://elkinsrandolphwv.com
X-WR-CALDESC:Events for Elkins-Randolph County Tourism
REFRESH-INTERVAL;VALUE=DURATION:PT1H
X-Robots-Tag:noindex
X-PUBLISHED-TTL:PT1H
BEGIN:VTIMEZONE
TZID:America/New_York
BEGIN:DAYLIGHT
TZOFFSETFROM:-0500
TZOFFSETTO:-0400
TZNAME:EDT
DTSTART:20250309T070000
END:DAYLIGHT
BEGIN:STANDARD
TZOFFSETFROM:-0400
TZOFFSETTO:-0500
TZNAME:EST
DTSTART:20251102T060000
END:STANDARD
BEGIN:DAYLIGHT
TZOFFSETFROM:-0500
TZOFFSETTO:-0400
TZNAME:EDT
DTSTART:20260308T070000
END:DAYLIGHT
BEGIN:STANDARD
TZOFFSETFROM:-0400
TZOFFSETTO:-0500
TZNAME:EST
DTSTART:20261101T060000
END:STANDARD
BEGIN:DAYLIGHT
TZOFFSETFROM:-0500
TZOFFSETTO:-0400
TZNAME:EDT
DTSTART:20270314T070000
END:DAYLIGHT
BEGIN:STANDARD
TZOFFSETFROM:-0400
TZOFFSETTO:-0500
TZNAME:EST
DTSTART:20271107T060000
END:STANDARD
END:VTIMEZONE
BEGIN:VEVENT
DTSTART;TZID=America/New_York:20260806T193000
DTEND;TZID=America/New_York:20260806T213000
DTSTAMP:20260420T234501
CREATED:20260313T183743Z
LAST-MODIFIED:20260313T183743Z
UID:33257-1786044600-1786051800@elkinsrandolphwv.com
SUMMARY:Augusta Concert Series: Bluegrass Concert
DESCRIPTION:Augusta events summer ’26
URL:https://elkinsrandolphwv.com/event/augusta-concert-series-bluegrass-concert/
LOCATION:Rotary Ampitheatre in Elkins Town Square\, 315 Railroad Avenue\, Elkins\, WV\, 26241\, United States\, 2 Railroad Ave\, United States
CATEGORIES:Community,Music,Outdoors
GEO:38.92313;-79.851004
X-APPLE-STRUCTURED-LOCATION;VALUE=URI;X-ADDRESS=Rotary Ampitheatre in Elkins Town Square 315 Railroad Avenue Elkins WV 26241 United States 2 Railroad Ave United States;X-APPLE-RADIUS=500;X-TITLE=2 Railroad Ave:geo:-79.851004,38.92313
END:VEVENT
BEGIN:VEVENT
DTSTART;TZID=America/New_York:20260807T180000
DTEND;TZID=America/New_York:20260807T210000
DTSTAMP:20260420T234501
CREATED:20260412T144426Z
LAST-MODIFIED:20260412T144931Z
UID:33822-1786125600-1786136400@elkinsrandolphwv.com
SUMMARY:Gandy Dancer- Aloha from Elvis
DESCRIPTION:A two hour tribute to the King himself. Enjoy the music of Elvis and relive his memories from yesteryear. \nAugust 7\, 2026 Evening Performance Only \nDinner: 6pm \nShow Time: 7pm
URL:https://elkinsrandolphwv.com/event/gandy-dancer-aloha-from-elivis/
LOCATION:Gandy Dancer Theatre and Conference Center\, 359 Beverly Pike\, Elkins\, WV 26241\, USA\, United States
CATEGORIES:Community,Entertainment,Food & Drink,Music
GEO:38.918641;-79.842607
END:VEVENT
BEGIN:VEVENT
DTSTART;TZID=America/New_York:20260808T120000
DTEND;TZID=America/New_York:20260808T210000
DTSTAMP:20260420T234501
CREATED:20260412T144854Z
LAST-MODIFIED:20260412T144854Z
UID:33824-1786190400-1786222800@elkinsrandolphwv.com
SUMMARY:Gandy Dancer- Aloha from Elvis (Matinee/Dinner)
DESCRIPTION:A two hour tribute to the King himself. Enjoy the music of Elvis and relive his memories from yesteryear. \nMatinee: Lunch 12 pm -Show time: 1pm \nDinner: 6pm \nShow Time: 7pm
URL:https://elkinsrandolphwv.com/event/gandy-dancer-aloha-from-elvis-matinee-dinner/
LOCATION:Gandy Dancer Theatre and Conference Center\, 359 Beverly Pike\, Elkins\, WV 26241\, USA\, United States
CATEGORIES:Community,Entertainment,Food & Drink,Music
GEO:38.918641;-79.842607
END:VEVENT
END:VCALENDAR