BEGIN:VCALENDAR
VERSION:2.0
PRODID:-//Elkins-Randolph County Tourism - ECPv6.15.17.1//NONSGML v1.0//EN
CALSCALE:GREGORIAN
METHOD:PUBLISH
X-ORIGINAL-URL:https://elkinsrandolphwv.com
X-WR-CALDESC:Events for Elkins-Randolph County Tourism
REFRESH-INTERVAL;VALUE=DURATION:PT1H
X-Robots-Tag:noindex
X-PUBLISHED-TTL:PT1H
BEGIN:VTIMEZONE
TZID:America/New_York
BEGIN:DAYLIGHT
TZOFFSETFROM:-0500
TZOFFSETTO:-0400
TZNAME:EDT
DTSTART:20250309T070000
END:DAYLIGHT
BEGIN:STANDARD
TZOFFSETFROM:-0400
TZOFFSETTO:-0500
TZNAME:EST
DTSTART:20251102T060000
END:STANDARD
BEGIN:DAYLIGHT
TZOFFSETFROM:-0500
TZOFFSETTO:-0400
TZNAME:EDT
DTSTART:20260308T070000
END:DAYLIGHT
BEGIN:STANDARD
TZOFFSETFROM:-0400
TZOFFSETTO:-0500
TZNAME:EST
DTSTART:20261101T060000
END:STANDARD
BEGIN:DAYLIGHT
TZOFFSETFROM:-0500
TZOFFSETTO:-0400
TZNAME:EDT
DTSTART:20270314T070000
END:DAYLIGHT
BEGIN:STANDARD
TZOFFSETFROM:-0400
TZOFFSETTO:-0500
TZNAME:EST
DTSTART:20271107T060000
END:STANDARD
END:VTIMEZONE
BEGIN:VEVENT
DTSTART;VALUE=DATE:20260605
DTEND;VALUE=DATE:20260607
DTSTAMP:20260420T023516
CREATED:20260330T144011Z
LAST-MODIFIED:20260330T144011Z
UID:33418-1780624800-1780711199@elkinsrandolphwv.com
SUMMARY:The Street Stock Extravaganza | Elkins Speedway
DESCRIPTION:Street Stock Extravaganza – June 5\, 2026\nThe Street Stock Extravaganza roars into Elkins Speedway on June 5 for a night dedicated to one of the most competitive and fan-favorite divisions in dirt track racing. Street Stock drivers from across the region will battle it out on the clay for bragging rights and a $1\,000 winner’s purse. Known for tight racing\, aggressive slide jobs\, and door-to-door action\, the Street Stock class consistently delivers some of the most exciting racing of the night. \nFans can expect a full field of hard-charging competitors putting everything on the line as they chase the checkered flag in this special event. With the raw power of Street Stock machines and the high-energy atmosphere of Elkins Speedway\, the Street Stock Extravaganza promises a thrilling night of grassroots dirt track racing for drivers and fans alike. \nEvent Schedule\nFriday\, June 5\, 2026 \nElkins Speedway – 74 Speedway Dr Kerens\, West Virginia \n$1\,000 to win Street Stock Class
URL:https://elkinsrandolphwv.com/event/the-street-stock-extravaganza-elkins-speedway/
LOCATION:Elkins Speedway\, 74 Speedway Dr\, Kerens\, WV\, 26276\, United States
CATEGORIES:Competition,Sports & Recreations
END:VEVENT
BEGIN:VEVENT
DTSTART;VALUE=DATE:20260725
DTEND;VALUE=DATE:20260727
DTSTAMP:20260420T023516
CREATED:20260330T143532Z
LAST-MODIFIED:20260330T143532Z
UID:33411-1784944800-1785031199@elkinsrandolphwv.com
SUMMARY:Bobby Hart Classic | Elkins Speedway
DESCRIPTION:Bobby Hart Classic – July 25\, 2026\nElkins Speedway will host the first-ever Bobby Hart Classic on Saturday\, July 25th\, honoring a racing legend with more than 40 years in the sport. The event will feature a full day of activities beginning at noon\, including live music from Donnie Barney\, a Wall of Legends meet and greet\, a special dinner\, and the 2026 Wall of Legends induction ceremony celebrating individuals who have made lasting contributions to the local racing community. \nThe evening will transition into a full night of racing highlighted by the Bobby Hart Classic for Super Late Models paying $5\,000 to win. Fans can expect throwback race cars\, classic racing style\, and exciting on-track action\, followed by a fireworks show to close out the night. This special event celebrates the history\, tradition\, and excitement of dirt track racing at Elkins Speedway and promises to be one of the biggest race nights of the season. \nEvent Schedule\nSaturday\, July 25\, 2026 \nElkins Speedway – 74 Speedway Dr Kerens\, WV \n$5\,000 to win Super Late Models
URL:https://elkinsrandolphwv.com/event/bobby-hart-classic-elkins-speedway-2/
LOCATION:Elkins Speedway\, 74 Speedway Dr\, Kerens\, WV\, 26276\, United States
CATEGORIES:Competition,Sports & Recreations
END:VEVENT
END:VCALENDAR