BEGIN:VCALENDAR
VERSION:2.0
PRODID:-//Elkins-Randolph County Tourism - ECPv6.15.17.1//NONSGML v1.0//EN
CALSCALE:GREGORIAN
METHOD:PUBLISH
X-ORIGINAL-URL:https://elkinsrandolphwv.com
X-WR-CALDESC:Events for Elkins-Randolph County Tourism
REFRESH-INTERVAL;VALUE=DURATION:PT1H
X-Robots-Tag:noindex
X-PUBLISHED-TTL:PT1H
BEGIN:VTIMEZONE
TZID:UTC
BEGIN:STANDARD
TZOFFSETFROM:+0000
TZOFFSETTO:+0000
TZNAME:UTC
DTSTART:20230101T000000
END:STANDARD
END:VTIMEZONE
BEGIN:VEVENT
DTSTART;TZID=UTC:20241004T090000
DTEND;TZID=UTC:20241004T190000
DTSTAMP:20260419T194427
CREATED:20240911T173641Z
LAST-MODIFIED:20240911T173641Z
UID:29219-1728032400-1728068400@elkinsrandolphwv.com
SUMMARY:MSFF - GFWC Woman’s Club of Elkins Juried Arts & Craft Show
DESCRIPTION:Martin Fieldhouse
URL:https://elkinsrandolphwv.com/event/msff-gfwc-womans-club-of-elkins-juried-arts-craft-show-2/
LOCATION:Davis and Elkins College
CATEGORIES:Art & Culture,Community,Davis & Elkins College,Entertainment,Kids & Family,Shopping
ATTACH;FMTTYPE=image/jpeg:https://elkinsrandolphwv.com/wp-content/uploads/2019/10/MSFF-e1661781904912.jpg
END:VEVENT
BEGIN:VEVENT
DTSTART;TZID=UTC:20241004T130000
DTEND;TZID=UTC:20241004T134500
DTSTAMP:20260419T194427
CREATED:20240911T175310Z
LAST-MODIFIED:20240911T175310Z
UID:29226-1728046800-1728049500@elkinsrandolphwv.com
SUMMARY:MSFF - Pre-Coronation Music & Entertainment
DESCRIPTION:
URL:https://elkinsrandolphwv.com/event/msff-pre-coronation-music-entertainment/
LOCATION:Citizens Bank of WV Amphitheater\, Davis & Elkins College\, 100 Campus Dr\, Elkins\, WV\, 26241
CATEGORIES:Community,Davis & Elkins College,Entertainment,Kids & Family,Outdoors
ATTACH;FMTTYPE=image/jpeg:https://elkinsrandolphwv.com/wp-content/uploads/2019/10/MSFF-e1661781904912.jpg
END:VEVENT
BEGIN:VEVENT
DTSTART;TZID=UTC:20241004T140000
DTEND;TZID=UTC:20241004T160000
DTSTAMP:20260419T194427
CREATED:20240911T175541Z
LAST-MODIFIED:20240911T175541Z
UID:29228-1728050400-1728057600@elkinsrandolphwv.com
SUMMARY:MSFF - Coronation of Maid Silvia LXXXVI
DESCRIPTION:
URL:https://elkinsrandolphwv.com/event/msff-coronation-of-maid-silvia-lxxxvi/
LOCATION:Citizens Bank of WV Amphitheater\, Davis & Elkins College\, 100 Campus Dr\, Elkins\, WV\, 26241
CATEGORIES:Community,Davis & Elkins College,Entertainment,Kids & Family,Outdoors
ATTACH;FMTTYPE=image/jpeg:https://elkinsrandolphwv.com/wp-content/uploads/2019/10/MSFF-e1661781904912.jpg
END:VEVENT
END:VCALENDAR