BEGIN:VCALENDAR
VERSION:2.0
PRODID:-//Elkins-Randolph County Tourism - ECPv6.15.20//NONSGML v1.0//EN
CALSCALE:GREGORIAN
METHOD:PUBLISH
X-ORIGINAL-URL:https://elkinsrandolphwv.com
X-WR-CALDESC:Events for Elkins-Randolph County Tourism
REFRESH-INTERVAL;VALUE=DURATION:PT1H
X-Robots-Tag:noindex
X-PUBLISHED-TTL:PT1H
BEGIN:VTIMEZONE
TZID:UTC
BEGIN:STANDARD
TZOFFSETFROM:+0000
TZOFFSETTO:+0000
TZNAME:UTC
DTSTART:20240101T000000
END:STANDARD
END:VTIMEZONE
BEGIN:VEVENT
DTSTART;TZID=UTC:20251001T090000
DTEND;TZID=UTC:20251004T200000
DTSTAMP:20260424T013013
CREATED:20250903T184024Z
LAST-MODIFIED:20250909T173105Z
UID:31432-1759309200-1759608000@elkinsrandolphwv.com
SUMMARY:Primitive Campers Exhibit
DESCRIPTION:Davis & Elkins College Front Lawn
URL:https://elkinsrandolphwv.com/event/primitive-campers-exhibit-2/
LOCATION:Davis & Elkins College
CATEGORIES:Art & Culture,Community,Davis & Elkins College
END:VEVENT
END:VCALENDAR