BEGIN:VCALENDAR
VERSION:2.0
PRODID:-//Elkins-Randolph County Tourism - ECPv6.15.20//NONSGML v1.0//EN
CALSCALE:GREGORIAN
METHOD:PUBLISH
X-WR-CALNAME:Elkins-Randolph County Tourism
X-ORIGINAL-URL:https://elkinsrandolphwv.com
X-WR-CALDESC:Events for Elkins-Randolph County Tourism
REFRESH-INTERVAL;VALUE=DURATION:PT1H
X-Robots-Tag:noindex
X-PUBLISHED-TTL:PT1H
BEGIN:VTIMEZONE
TZID:UTC
BEGIN:STANDARD
TZOFFSETFROM:+0000
TZOFFSETTO:+0000
TZNAME:UTC
DTSTART:20250101T000000
END:STANDARD
END:VTIMEZONE
BEGIN:VEVENT
DTSTART;TZID=UTC:20260103T100000
DTEND;TZID=UTC:20260103T130000
DTSTAMP:20260423T061139
CREATED:20260104T010053Z
LAST-MODIFIED:20260104T010053Z
UID:32613-1767434400-1767445200@elkinsrandolphwv.com
SUMMARY:Love Your Machine | Elkins Sewing Center
DESCRIPTION:Call 304-636-9480  for  more information.
URL:https://elkinsrandolphwv.com/event/love-your-machine-elkins-sewing-center/
LOCATION:Elkins Sewing Center\, 300 Davis Avenue\, Elkins\, WV\, 26241\, United States
CATEGORIES:Community,Educational
END:VEVENT
BEGIN:VEVENT
DTSTART;TZID=UTC:20260109T100000
DTEND;TZID=UTC:20260109T130000
DTSTAMP:20260423T061139
CREATED:20260104T005843Z
LAST-MODIFIED:20260104T005843Z
UID:32611-1767952800-1767963600@elkinsrandolphwv.com
SUMMARY:Begin to Sew- Totebag | Elkins Sewing Center
DESCRIPTION:For more information call 304-636-9480
URL:https://elkinsrandolphwv.com/event/begin-to-sew-totebag-elkins-sewing-center/
LOCATION:Elkins Sewing Center\, 300 Davis Avenue\, Elkins\, WV\, 26241\, United States
CATEGORIES:Community,Educational
END:VEVENT
BEGIN:VEVENT
DTSTART;TZID=UTC:20260110T100000
DTEND;TZID=UTC:20260110T130000
DTSTAMP:20260423T061139
CREATED:20260104T004746Z
LAST-MODIFIED:20260104T004746Z
UID:32607-1768039200-1768050000@elkinsrandolphwv.com
SUMMARY:Quilting 101 Class @ Elkins Sewing Center
DESCRIPTION:
URL:https://elkinsrandolphwv.com/event/quilting-101-class-elkins-sewing-center-2/
LOCATION:Elkins Sewing Center\, 300 Davis Avenue\, Elkins\, WV\, 26241\, United States
CATEGORIES:Community,Educational
ATTACH;FMTTYPE=image/png:https://elkinsrandolphwv.com/wp-content/uploads/2019/04/Elkins-Sewing-Center-Logo-e1725478612708.png
END:VEVENT
BEGIN:VEVENT
DTSTART;TZID=UTC:20260113T100000
DTEND;TZID=UTC:20260113T130000
DTSTAMP:20260423T061139
CREATED:20260104T005404Z
LAST-MODIFIED:20260104T005404Z
UID:32606-1768298400-1768309200@elkinsrandolphwv.com
SUMMARY:Quilting 101 Class @ Elkins Sewing Center
DESCRIPTION:4 week class \nFor more information please call 304-636-9480
URL:https://elkinsrandolphwv.com/event/quilting-101-class-elkins-sewing-center-3/
LOCATION:Elkins Sewing Center\, 300 Davis Avenue\, Elkins\, WV\, 26241\, United States
CATEGORIES:Educational
ATTACH;FMTTYPE=image/png:https://elkinsrandolphwv.com/wp-content/uploads/2019/04/Elkins-Sewing-Center-Logo-e1725478612708.png
END:VEVENT
BEGIN:VEVENT
DTSTART;TZID=UTC:20260114T173000
DTEND;TZID=UTC:20260114T193000
DTSTAMP:20260423T061139
CREATED:20260104T011252Z
LAST-MODIFIED:20260104T011252Z
UID:32615-1768411800-1768419000@elkinsrandolphwv.com
SUMMARY:Garment 101 Workshop-Elkins Sewing Center
DESCRIPTION:4 Week Class. \nFor more information call 304-636-9480
URL:https://elkinsrandolphwv.com/event/garment-101-workshop-elkins-sewing-center/
LOCATION:Elkins Sewing Center\, 300 Davis Avenue\, Elkins\, WV\, 26241\, United States
CATEGORIES:Educational
END:VEVENT
BEGIN:VEVENT
DTSTART;TZID=UTC:20260116T180000
DTEND;TZID=UTC:20260116T200000
DTSTAMP:20260423T061139
CREATED:20260103T231607Z
LAST-MODIFIED:20260105T200301Z
UID:32567-1768586400-1768593600@elkinsrandolphwv.com
SUMMARY:Wine 101 Series-Break out the Bubbles | Lukestone Legacy
DESCRIPTION:Discover the magic of sparkling wines in our first event of the Wine 101 series! \nInterested? \nLukestonelegacy@gmail.com
URL:https://elkinsrandolphwv.com/event/wine-101-series-break-out-the-bubbles-lukestone-legacy/
LOCATION:Lukestone Legacy\, 220 Davis Avenue\, Elkins\, WV\, 26241
CATEGORIES:Educational
END:VEVENT
BEGIN:VEVENT
DTSTART;TZID=UTC:20260119T100000
DTEND;TZID=UTC:20260119T130000
DTSTAMP:20260423T061139
CREATED:20260104T014637Z
LAST-MODIFIED:20260104T014637Z
UID:32620-1768816800-1768827600@elkinsrandolphwv.com
SUMMARY:Edge to Edge | Elkins Sewing Center
DESCRIPTION:Interested ? \nCall 304-636-9480 for more information.
URL:https://elkinsrandolphwv.com/event/edge-to-edge-elkins-sewing-center/
LOCATION:Elkins Sewing Center\, 300 Davis Avenue\, Elkins\, WV\, 26241\, United States
CATEGORIES:Community,Educational
END:VEVENT
END:VCALENDAR