BEGIN:VCALENDAR
VERSION:2.0
PRODID:-//Elkins-Randolph County Tourism - ECPv6.15.20//NONSGML v1.0//EN
CALSCALE:GREGORIAN
METHOD:PUBLISH
X-WR-CALNAME:Elkins-Randolph County Tourism
X-ORIGINAL-URL:https://elkinsrandolphwv.com
X-WR-CALDESC:Events for Elkins-Randolph County Tourism
REFRESH-INTERVAL;VALUE=DURATION:PT1H
X-Robots-Tag:noindex
X-PUBLISHED-TTL:PT1H
BEGIN:VTIMEZONE
TZID:UTC
BEGIN:STANDARD
TZOFFSETFROM:+0000
TZOFFSETTO:+0000
TZNAME:UTC
DTSTART:20250101T000000
END:STANDARD
END:VTIMEZONE
BEGIN:VEVENT
DTSTART;TZID=UTC:20260321T100000
DTEND;TZID=UTC:20260321T160000
DTSTAMP:20260422T212400
CREATED:20260307T211434Z
LAST-MODIFIED:20260307T211434Z
UID:33147-1774087200-1774108800@elkinsrandolphwv.com
SUMMARY:Table Runner Class-Elkins Sewing Center
DESCRIPTION:
URL:https://elkinsrandolphwv.com/event/table-runner-class-elkins-sewing-center/
LOCATION:Elkins Sewing Center\, 300 Davis Avenue\, Elkins\, WV\, 26241\, United States
CATEGORIES:Community,Educational
END:VEVENT
END:VCALENDAR