BEGIN:VCALENDAR
VERSION:2.0
PRODID:-//Elkins-Randolph County Tourism - ECPv6.15.17.1//NONSGML v1.0//EN
CALSCALE:GREGORIAN
METHOD:PUBLISH
X-WR-CALNAME:Elkins-Randolph County Tourism
X-ORIGINAL-URL:https://elkinsrandolphwv.com
X-WR-CALDESC:Events for Elkins-Randolph County Tourism
REFRESH-INTERVAL;VALUE=DURATION:PT1H
X-Robots-Tag:noindex
X-PUBLISHED-TTL:PT1H
BEGIN:VTIMEZONE
TZID:America/New_York
BEGIN:DAYLIGHT
TZOFFSETFROM:-0500
TZOFFSETTO:-0400
TZNAME:EDT
DTSTART:20250309T070000
END:DAYLIGHT
BEGIN:STANDARD
TZOFFSETFROM:-0400
TZOFFSETTO:-0500
TZNAME:EST
DTSTART:20251102T060000
END:STANDARD
BEGIN:DAYLIGHT
TZOFFSETFROM:-0500
TZOFFSETTO:-0400
TZNAME:EDT
DTSTART:20260308T070000
END:DAYLIGHT
BEGIN:STANDARD
TZOFFSETFROM:-0400
TZOFFSETTO:-0500
TZNAME:EST
DTSTART:20261101T060000
END:STANDARD
BEGIN:DAYLIGHT
TZOFFSETFROM:-0500
TZOFFSETTO:-0400
TZNAME:EDT
DTSTART:20270314T070000
END:DAYLIGHT
BEGIN:STANDARD
TZOFFSETFROM:-0400
TZOFFSETTO:-0500
TZNAME:EST
DTSTART:20271107T060000
END:STANDARD
END:VTIMEZONE
BEGIN:VEVENT
DTSTART;TZID=America/New_York:20260606T110000
DTEND;TZID=America/New_York:20260606T140000
DTSTAMP:20260419T142250
CREATED:20260412T172223Z
LAST-MODIFIED:20260412T172223Z
UID:34027-1780743600-1780754400@elkinsrandolphwv.com
SUMMARY:Blacksmith Demo-Beverly Heritage Center
DESCRIPTION:Part of the America at 250 Semiquincentennial Events
URL:https://elkinsrandolphwv.com/event/blacksmith-demo-beverly-heritage-center/
LOCATION:Beverly Heritage Center\, 4 Court Street\, Beverly\, WV\, 26253\, United States
CATEGORIES:Community,Educational,Outdoor Activities
GEO:38.8405774458;-79.8751789914
X-APPLE-STRUCTURED-LOCATION;VALUE=URI;X-ADDRESS=Beverly Heritage Center 4 Court Street Beverly WV 26253 United States;X-APPLE-RADIUS=500;X-TITLE=4 Court Street:geo:-79.8751789914,38.8405774458
END:VEVENT
BEGIN:VEVENT
DTSTART;TZID=America/New_York:20260613T103000
DTEND;TZID=America/New_York:20260613T133000
DTSTAMP:20260419T142250
CREATED:20260412T172351Z
LAST-MODIFIED:20260412T172351Z
UID:34029-1781346600-1781357400@elkinsrandolphwv.com
SUMMARY:Historic Beverly Walking Tour
DESCRIPTION:Part of the America at 250 events
URL:https://elkinsrandolphwv.com/event/historic-beverly-walking-tour/
LOCATION:Beverly Heritage Center\, 4 Court Street\, Beverly\, WV\, 26253\, United States
CATEGORIES:Community,Educational,Outdoor Activities
GEO:38.8405774458;-79.8751789914
X-APPLE-STRUCTURED-LOCATION;VALUE=URI;X-ADDRESS=Beverly Heritage Center 4 Court Street Beverly WV 26253 United States;X-APPLE-RADIUS=500;X-TITLE=4 Court Street:geo:-79.8751789914,38.8405774458
END:VEVENT
BEGIN:VEVENT
DTSTART;TZID=America/New_York:20260622T093000
DTEND;TZID=America/New_York:20260622T143000
DTSTAMP:20260419T142250
CREATED:20260415T181222Z
LAST-MODIFIED:20260415T181355Z
UID:34049-1782120600-1782138600@elkinsrandolphwv.com
SUMMARY:Quilt Camp - Elkins Sewing Center
DESCRIPTION:
URL:https://elkinsrandolphwv.com/event/quilt-camp-elkins-sewing-center/2026-06-22/
LOCATION:Elkins Sewing Center\, 300 Davis Avenue\, Elkins\, WV\, 26241\, United States
CATEGORIES:Community,Educational
END:VEVENT
BEGIN:VEVENT
DTSTART;TZID=America/New_York:20260623T093000
DTEND;TZID=America/New_York:20260623T143000
DTSTAMP:20260419T142250
CREATED:20260415T181222Z
LAST-MODIFIED:20260415T181358Z
UID:34052-1782207000-1782225000@elkinsrandolphwv.com
SUMMARY:Quilt Camp - Elkins Sewing Center
DESCRIPTION:
URL:https://elkinsrandolphwv.com/event/quilt-camp-elkins-sewing-center/2026-06-23/
LOCATION:Elkins Sewing Center\, 300 Davis Avenue\, Elkins\, WV\, 26241\, United States
CATEGORIES:Community,Educational
END:VEVENT
BEGIN:VEVENT
DTSTART;TZID=America/New_York:20260624T093000
DTEND;TZID=America/New_York:20260624T143000
DTSTAMP:20260419T142250
CREATED:20260415T181222Z
LAST-MODIFIED:20260415T181404Z
UID:34053-1782293400-1782311400@elkinsrandolphwv.com
SUMMARY:Quilt Camp - Elkins Sewing Center
DESCRIPTION:
URL:https://elkinsrandolphwv.com/event/quilt-camp-elkins-sewing-center/2026-06-24/
LOCATION:Elkins Sewing Center\, 300 Davis Avenue\, Elkins\, WV\, 26241\, United States
CATEGORIES:Community,Educational
END:VEVENT
BEGIN:VEVENT
DTSTART;TZID=America/New_York:20260625T093000
DTEND;TZID=America/New_York:20260625T143000
DTSTAMP:20260419T142250
CREATED:20260415T181222Z
LAST-MODIFIED:20260415T181409Z
UID:34054-1782379800-1782397800@elkinsrandolphwv.com
SUMMARY:Quilt Camp - Elkins Sewing Center
DESCRIPTION:
URL:https://elkinsrandolphwv.com/event/quilt-camp-elkins-sewing-center/2026-06-25/
LOCATION:Elkins Sewing Center\, 300 Davis Avenue\, Elkins\, WV\, 26241\, United States
CATEGORIES:Community,Educational
END:VEVENT
BEGIN:VEVENT
DTSTART;TZID=America/New_York:20260626T093000
DTEND;TZID=America/New_York:20260626T143000
DTSTAMP:20260419T142250
CREATED:20260415T181222Z
LAST-MODIFIED:20260415T181415Z
UID:34055-1782466200-1782484200@elkinsrandolphwv.com
SUMMARY:Quilt Camp - Elkins Sewing Center
DESCRIPTION:
URL:https://elkinsrandolphwv.com/event/quilt-camp-elkins-sewing-center/2026-06-26/
LOCATION:Elkins Sewing Center\, 300 Davis Avenue\, Elkins\, WV\, 26241\, United States
CATEGORIES:Community,Educational
END:VEVENT
BEGIN:VEVENT
DTSTART;TZID=America/New_York:20260706T093000
DTEND;TZID=America/New_York:20260706T113000
DTSTAMP:20260419T142250
CREATED:20260415T181911Z
LAST-MODIFIED:20260415T181911Z
UID:34060-1783330200-1783337400@elkinsrandolphwv.com
SUMMARY:Quilt Camps-Elkins Sewing Center
DESCRIPTION:Find the Class that fits  your schedule. \nJuly 6-10\, 2026 \nClasses : 9:30am-11:30am \n12:30pm-2:30pm \n3pm-5pm
URL:https://elkinsrandolphwv.com/event/quilt-camps-elkins-sewing-center/2026-07-06/
CATEGORIES:Community,Educational
END:VEVENT
BEGIN:VEVENT
DTSTART;TZID=America/New_York:20260707T093000
DTEND;TZID=America/New_York:20260707T113000
DTSTAMP:20260419T142250
CREATED:20260415T181911Z
LAST-MODIFIED:20260415T181911Z
UID:34062-1783416600-1783423800@elkinsrandolphwv.com
SUMMARY:Quilt Camps-Elkins Sewing Center
DESCRIPTION:Find the Class that fits  your schedule. \nJuly 6-10\, 2026 \nClasses : 9:30am-11:30am \n12:30pm-2:30pm \n3pm-5pm
URL:https://elkinsrandolphwv.com/event/quilt-camps-elkins-sewing-center/2026-07-07/
CATEGORIES:Community,Educational
END:VEVENT
BEGIN:VEVENT
DTSTART;TZID=America/New_York:20260708T093000
DTEND;TZID=America/New_York:20260708T113000
DTSTAMP:20260419T142250
CREATED:20260415T181911Z
LAST-MODIFIED:20260415T181911Z
UID:34063-1783503000-1783510200@elkinsrandolphwv.com
SUMMARY:Quilt Camps-Elkins Sewing Center
DESCRIPTION:Find the Class that fits  your schedule. \nJuly 6-10\, 2026 \nClasses : 9:30am-11:30am \n12:30pm-2:30pm \n3pm-5pm
URL:https://elkinsrandolphwv.com/event/quilt-camps-elkins-sewing-center/2026-07-08/
CATEGORIES:Community,Educational
END:VEVENT
BEGIN:VEVENT
DTSTART;TZID=America/New_York:20260709T093000
DTEND;TZID=America/New_York:20260709T113000
DTSTAMP:20260419T142250
CREATED:20260415T181911Z
LAST-MODIFIED:20260415T181911Z
UID:34064-1783589400-1783596600@elkinsrandolphwv.com
SUMMARY:Quilt Camps-Elkins Sewing Center
DESCRIPTION:Find the Class that fits  your schedule. \nJuly 6-10\, 2026 \nClasses : 9:30am-11:30am \n12:30pm-2:30pm \n3pm-5pm
URL:https://elkinsrandolphwv.com/event/quilt-camps-elkins-sewing-center/2026-07-09/
CATEGORIES:Community,Educational
END:VEVENT
BEGIN:VEVENT
DTSTART;TZID=America/New_York:20260710T093000
DTEND;TZID=America/New_York:20260710T113000
DTSTAMP:20260419T142250
CREATED:20260415T181911Z
LAST-MODIFIED:20260415T181911Z
UID:34065-1783675800-1783683000@elkinsrandolphwv.com
SUMMARY:Quilt Camps-Elkins Sewing Center
DESCRIPTION:Find the Class that fits  your schedule. \nJuly 6-10\, 2026 \nClasses : 9:30am-11:30am \n12:30pm-2:30pm \n3pm-5pm
URL:https://elkinsrandolphwv.com/event/quilt-camps-elkins-sewing-center/2026-07-10/
CATEGORIES:Community,Educational
END:VEVENT
END:VCALENDAR