BEGIN:VCALENDAR
VERSION:2.0
PRODID:-//Elkins-Randolph County Tourism - ECPv6.15.20//NONSGML v1.0//EN
CALSCALE:GREGORIAN
METHOD:PUBLISH
X-ORIGINAL-URL:https://elkinsrandolphwv.com
X-WR-CALDESC:Events for Elkins-Randolph County Tourism
REFRESH-INTERVAL;VALUE=DURATION:PT1H
X-Robots-Tag:noindex
X-PUBLISHED-TTL:PT1H
BEGIN:VTIMEZONE
TZID:UTC
BEGIN:STANDARD
TZOFFSETFROM:+0000
TZOFFSETTO:+0000
TZNAME:UTC
DTSTART:20240101T000000
END:STANDARD
END:VTIMEZONE
BEGIN:VTIMEZONE
TZID:America/New_York
BEGIN:DAYLIGHT
TZOFFSETFROM:-0500
TZOFFSETTO:-0400
TZNAME:EDT
DTSTART:20240310T070000
END:DAYLIGHT
BEGIN:STANDARD
TZOFFSETFROM:-0400
TZOFFSETTO:-0500
TZNAME:EST
DTSTART:20241103T060000
END:STANDARD
BEGIN:DAYLIGHT
TZOFFSETFROM:-0500
TZOFFSETTO:-0400
TZNAME:EDT
DTSTART:20250309T070000
END:DAYLIGHT
BEGIN:STANDARD
TZOFFSETFROM:-0400
TZOFFSETTO:-0500
TZNAME:EST
DTSTART:20251102T060000
END:STANDARD
BEGIN:DAYLIGHT
TZOFFSETFROM:-0500
TZOFFSETTO:-0400
TZNAME:EDT
DTSTART:20260308T070000
END:DAYLIGHT
BEGIN:STANDARD
TZOFFSETFROM:-0400
TZOFFSETTO:-0500
TZNAME:EST
DTSTART:20261101T060000
END:STANDARD
END:VTIMEZONE
BEGIN:VEVENT
DTSTART;VALUE=DATE:20250719
DTEND;VALUE=DATE:20250728
DTSTAMP:20260424T021007
CREATED:20250709T181425Z
LAST-MODIFIED:20250709T182040Z
UID:30917-1752890400-1753581599@elkinsrandolphwv.com
SUMMARY:Fireman's Festival @ Beverly Volunteer Fire Department
DESCRIPTION:
URL:https://elkinsrandolphwv.com/event/beverly-firemans-festival-beverly-volunteer-fire-department/
LOCATION:Beverly Volunteer Fire Department\, 429 Main St\, Beverly\, WV 26253\, USA\, 25 Main St\, United States
CATEGORIES:Community,Entertainment,Fairs & Festivals
GEO:38.842835;-79.874052
X-APPLE-STRUCTURED-LOCATION;VALUE=URI;X-ADDRESS=Beverly Volunteer Fire Department 429 Main St Beverly WV 26253 USA 25 Main St United States;X-APPLE-RADIUS=500;X-TITLE=25 Main St:geo:-79.874052,38.842835
END:VEVENT
BEGIN:VEVENT
DTSTART;TZID=America/New_York:20250726T100000
DTEND;TZID=America/New_York:20250726T210000
DTSTAMP:20260424T021007
CREATED:20250709T235357Z
LAST-MODIFIED:20250709T235357Z
UID:30960-1753524000-1753563600@elkinsrandolphwv.com
SUMMARY:Chili Cookoff at Big Timber Brewing
DESCRIPTION:Chili Cook-Off at Big Timber Taproom!Big Timber Taproom is hosting its inaugural Chili Cook-Off\, bringing together local culinary talent for a showdown of the best bowls in town.\nThe Chili Cook-Off PrizesEntry Fee: $50 per team Team Limit: 25 Teams Prizes:1st Place: $5002nd Place: $2503rd Place: $100\nMerch Awards for Peoples Choice and Best Presentation!!\nSchedule of Events –\n12:00 PM: Doors open come and sample the best of the best3:00 PM: Hot Pepper Eating Competition!4:00 PM: Final chili samples due to judges5:00 PM: Chili cook off winner announced7:00 PM: Live music with all girl punk band Unmanned!!\nCover Fee: $10 All ages welcome!!\nLive Music- Unmanned @7pm\nSign up Now!!!\nhttps://forms.gle/F5H845PNzrRyX82bA
URL:https://elkinsrandolphwv.com/event/chili-cookoff-at-big-timber-brewing/
LOCATION:Big Timber Brewing\, 2 Davis Avenue\, Elkins\, WV\, 26241\, United States
CATEGORIES:Entertainment,Food & Drink
ATTACH;FMTTYPE=image/jpeg:https://elkinsrandolphwv.com/wp-content/uploads/2019/03/big-timber-1-e1725543945387.jpg
END:VEVENT
END:VCALENDAR