BEGIN:VCALENDAR
VERSION:2.0
PRODID:-//Elkins-Randolph County Tourism - ECPv6.15.20//NONSGML v1.0//EN
CALSCALE:GREGORIAN
METHOD:PUBLISH
X-ORIGINAL-URL:https://elkinsrandolphwv.com
X-WR-CALDESC:Events for Elkins-Randolph County Tourism
REFRESH-INTERVAL;VALUE=DURATION:PT1H
X-Robots-Tag:noindex
X-PUBLISHED-TTL:PT1H
BEGIN:VTIMEZONE
TZID:UTC
BEGIN:STANDARD
TZOFFSETFROM:+0000
TZOFFSETTO:+0000
TZNAME:UTC
DTSTART:20240101T000000
END:STANDARD
END:VTIMEZONE
BEGIN:VEVENT
DTSTART;TZID=UTC:20250802T180000
DTEND;TZID=UTC:20250802T200000
DTSTAMP:20260423T091133
CREATED:20250729T001025Z
LAST-MODIFIED:20250729T001025Z
UID:31113-1754157600-1754164800@elkinsrandolphwv.com
SUMMARY:Aloha from Elvis | Gandy Dancer Theatre
DESCRIPTION:August 1st & 2nd. Matinee on August 2nd\nBack again this year with a full night of entertainment is Robert Keefer. This amazing impersonator will be sure to make you feel like you’re reliving the true days of the ‘The King.’
URL:https://elkinsrandolphwv.com/event/aloha-from-elvis-gandy-dancer-theatre-3/
LOCATION:Gandy Dancer Theatre and Conference Center\, 359 Beverly Pike\, Elkins\, WV 26241\, USA\, United States
CATEGORIES:Entertainment
ATTACH;FMTTYPE=image/jpeg:https://elkinsrandolphwv.com/wp-content/uploads/2019/03/Gandy-Logo-1-480x335-e1727185281650.jpg
GEO:38.918641;-79.842607
END:VEVENT
BEGIN:VEVENT
DTSTART;TZID=UTC:20250802T183000
DTEND;TZID=UTC:20250802T203000
DTSTAMP:20260423T091133
CREATED:20250723T191728Z
LAST-MODIFIED:20250723T191728Z
UID:31048-1754159400-1754166600@elkinsrandolphwv.com
SUMMARY:Movies at the Mill: The Pollinators | Appalachian Forest Discovery Center
DESCRIPTION:Join us at the Appalachian Forest Discovery Center on August 2nd for a free screening of The Pollinators! \nThe Pollinators is a cinematic journey around the United States following migratory beekeepers and their truckloads of honey bees as they pollinate the flowers that become the fruits\, nuts and vegetables we all eat.\nThe many challenges the beekeepers and their bees face en route reveal flaws to our simplified chemically dependent agriculture system. Beekeepers\, farmers\, scientists\, chefs and academics give a broad perspective about the threats to honey bees\, what it means to our food security\, and how we can improve it.\nThe screening will begin at 6:30 pm\, and will be followed with a guided discussion. Light refreshments will be provided.
URL:https://elkinsrandolphwv.com/event/movies-at-the-mill-the-pollinators-appalachian-forest-discovery-center/
LOCATION:Appalachian Forest Discovery Center\, 2 Railroad Avenue\, Elkins\, WV\, 26241\, United States
CATEGORIES:Educational,Entertainment
ATTACH;FMTTYPE=image/jpeg:https://elkinsrandolphwv.com/wp-content/uploads/2023/09/AFNHA-DC-Logo-Round-Color.jpeg
END:VEVENT
END:VCALENDAR