BEGIN:VCALENDAR
VERSION:2.0
PRODID:-//Elkins-Randolph County Tourism - ECPv6.15.20//NONSGML v1.0//EN
CALSCALE:GREGORIAN
METHOD:PUBLISH
X-WR-CALNAME:Elkins-Randolph County Tourism
X-ORIGINAL-URL:https://elkinsrandolphwv.com
X-WR-CALDESC:Events for Elkins-Randolph County Tourism
REFRESH-INTERVAL;VALUE=DURATION:PT1H
X-Robots-Tag:noindex
X-PUBLISHED-TTL:PT1H
BEGIN:VTIMEZONE
TZID:UTC
BEGIN:STANDARD
TZOFFSETFROM:+0000
TZOFFSETTO:+0000
TZNAME:UTC
DTSTART:20220101T000000
END:STANDARD
END:VTIMEZONE
BEGIN:VEVENT
DTSTART;TZID=UTC:20230504T180000
DTEND;TZID=UTC:20230504T200000
DTSTAMP:20260422T230613
CREATED:20230418T180312Z
LAST-MODIFIED:20230418T180915Z
UID:26917-1683223200-1683230400@elkinsrandolphwv.com
SUMMARY:Thursday Night Live & Drive Concerts : Matt Mullins & The Bringdowns
DESCRIPTION:We are really excited to announce the lineup for this year’s summer concerts! \n*FREE ENTRY* \nAs always\, the Mountain State Street Machines a dba of Our Town\, Inc. will be there and we hope you’ll also bring your fun cars \, trucks\, and motorcycles! If you love your ride\, we love it too. There’s no entry fee and cars start arriving at 5.\nWe know that some of our sponsors are planning to have a presence as well as some other organizations and food vendors. You never know what might be there!\nThis is our best lineup yet. We have bands coming from Cincinnati\, Boston\, New York\, as well as some great in state talent and our final concert is an up and coming artist who is super talented and just happens to be from WV!\nDuring our annual 4th of July car show weekend we have THREE free concerts\, starting with the Air National Guard Band of the Northeast on Thursday\, Ryan Cain and the Ables bringing rockabilly for the first night of cars\, and then crowd favorite Rick K’s Road Trip Will be back on Saturday night followed by a huge fireworks display that will be right over our heads at the stage area this year. It’s going to be great!\nWe are hoping to see some big crowds. So\, Please share this and watch for this poster around the area.
URL:https://elkinsrandolphwv.com/event/thursday-night-live-drive-concerts-matt-mullins-the-bringdowns/
LOCATION:Rotary Ampitheatre in Elkins Town Square\, 315 Railroad Avenue\, Elkins\, WV\, 26241\, United States\, 2 Railroad Ave\, United States
CATEGORIES:Community,Entertainment,Food & Drink,Kids & Family,Music,Outdoor Activities
ATTACH;FMTTYPE=image/jpeg:https://elkinsrandolphwv.com/wp-content/uploads/2023/04/342176186_181057261483900_938230252328596213_n-e1681826870928.jpg
GEO:38.92313;-79.851004
X-APPLE-STRUCTURED-LOCATION;VALUE=URI;X-ADDRESS=Rotary Ampitheatre in Elkins Town Square 315 Railroad Avenue Elkins WV 26241 United States 2 Railroad Ave United States;X-APPLE-RADIUS=500;X-TITLE=2 Railroad Ave:geo:-79.851004,38.92313
END:VEVENT
BEGIN:VEVENT
DTSTART;TZID=UTC:20230518T180000
DTEND;TZID=UTC:20230518T200000
DTSTAMP:20260422T230613
CREATED:20230418T180804Z
LAST-MODIFIED:20230418T180804Z
UID:26920-1684432800-1684440000@elkinsrandolphwv.com
SUMMARY:Thursday Night Live & Drive Concerts : The New Relics
DESCRIPTION:We are really excited to announce the lineup for this year’s summer concerts! \n*FREE ENTRY* \nAs always\, the Mountain State Street Machines a dba of Our Town\, Inc. will be there and we hope you’ll also bring your fun cars \, trucks\, and motorcycles! If you love your ride\, we love it too. There’s no entry fee and cars start arriving at 5.\nWe know that some of our sponsors are planning to have a presence as well as some other organizations and food vendors. You never know what might be there!\nThis is our best lineup yet. We have bands coming from Cincinnati\, Boston\, New York\, as well as some great in state talent and our final concert is an up and coming artist who is super talented and just happens to be from WV!\nDuring our annual 4th of July car show weekend we have THREE free concerts\, starting with the Air National Guard Band of the Northeast on Thursday\, Ryan Cain and the Ables bringing rockabilly for the first night of cars\, and then crowd favorite Rick K’s Road Trip Will be back on Saturday night followed by a huge fireworks display that will be right over our heads at the stage area this year. It’s going to be great!\nWe are hoping to see some big crowds. So\, Please share this and watch for this poster around the area.
URL:https://elkinsrandolphwv.com/event/thursday-night-live-drive-concerts-the-new-relics/
LOCATION:Rotary Ampitheatre in Elkins Town Square\, 315 Railroad Avenue\, Elkins\, WV\, 26241\, United States\, 2 Railroad Ave\, United States
CATEGORIES:Community,Entertainment,Food & Drink,Kids & Family,Music,Outdoor Activities
ATTACH;FMTTYPE=image/jpeg:https://elkinsrandolphwv.com/wp-content/uploads/2023/04/342176186_181057261483900_938230252328596213_n-e1681826870928.jpg
GEO:38.92313;-79.851004
X-APPLE-STRUCTURED-LOCATION;VALUE=URI;X-ADDRESS=Rotary Ampitheatre in Elkins Town Square 315 Railroad Avenue Elkins WV 26241 United States 2 Railroad Ave United States;X-APPLE-RADIUS=500;X-TITLE=2 Railroad Ave:geo:-79.851004,38.92313
END:VEVENT
BEGIN:VEVENT
DTSTART;TZID=UTC:20230519T173000
DTEND;TZID=UTC:20230519T210000
DTSTAMP:20260422T230613
CREATED:20230516T221420Z
LAST-MODIFIED:20230518T193425Z
UID:27073-1684517400-1684530000@elkinsrandolphwv.com
SUMMARY:The Gandy Dancer Theatre: Tribute Show
DESCRIPTION:The Gandy Dancer Theatre\n\nThe Gandy Dancer Theatre\nfeatures group performances from highly talented musicians and dancers who incorporate comedy and passion into their Branson-style shows.\nIn addition to receiving the ABA’s “BEST OF THE BEST” award from 2017 to 2022\, they have also received the Crystal Award from 2016 to 2022\, recognizing them as the best live theater in Elkins from 2019 to 2022.\n“The Certificate of Excellence” from Trip Advisor was awarded to them for 2015\, 2016\, 2017\, 2018 \,2019\, 2020\, 2021\, and 2022.\n  \n\n\nAfter a wonderful plated dinner\, sit back and listen to the fabulous Mountain Memories Show Band as they serve up a 2 hour Branson-style show with music from the 50’s- today featuring Country\, Pop\, Motown\, Gospel\, and Patriotic along with family- friendly comedy and amazing dancers.\nThe Gandy Dancer offers a show that’s guaranteed to have you dancing in your seat\, laughing ‘til you cry\, touch your heart and give you memories that will last a lifetime.\n \n\nEvening\n~ Arrive at 5:30 pm ~\n~ Dinner at 6:00 pm ~\n~ Show Only arrive at 6:30 pm ~\n~ Show at 7:00 pm ~ \n\n\nMeal includes:\nChicken cordon bleu\, hamburger steak with gravy\, coleslaw\,\nbaked potato\, dinner roll\, dessert and beverage. \n\nRates (do not include tax or fees):\n\n\n\n\nShow and Meal\n\n\nAdult\n$42.95 per person\n\n\nSenior (55 yrs +)\n$40.95 per person\n\n\nYouth 4-11 yrs\n$23.95 per youth\n\n\nChildren 3 yrs and under\nFree\n\n\nAdult Military\n$38.66 per person\n\n\nSenior (55+) Military\n$36.86 per person\n\n\n\n\n\n\nShow Only\n\n\nAdult\n$27.95 per person\n\n\nSenior (55 yrs +)\n$26.95 per person\n\n\nYouth 4-11 yrs\n$15.95 per youth\n\n\nChildren 3 yrs and under\nFree\n\n\n\n\n\nCALENDAR & BOOK TICKETS \n\n\n  \n\n\n\nContact Us\n\n304-636-4935 or 855-426-3998 \n359 Beverly Pike\, Elkins\, WV 26241 \n\nSpeciality Shows\n\n\nWe also offer several Specialty shows throughout the year. Please visit the page on our website for more information. We offer The Aloha with Elvis\, Murder Mystery Dinner\, Mountain Memories Christmas and New Years with Elvis. \n\nMurder Mystery Dinner\nAloha from Elvis\nMountain Memories Christmas\nNew Years with Elvis\nFrom Broadway to Gospel\nThe Case of the Unwanted Ghost\n\n\nConference Center\n\n\nConference Center!\n \nThe Gandy Dancer Theatre and Conference Center provides the finest in meeting and conference space. This is our specially. With the state of the art technology top notch experts with our audio and visual capabilities\, combined with our 16’ video projection screen and multi-tiered seating. Add a breakfast\, lunch\, dinner or show to your next event. The Gandy Dancer can make any event easy and stress free. \nReunions are delightful at our facility. We have plenty of room to visit and possibly enjoy a show together. We can host groups up to 250 or more with ease. Leave the cooking\, setup and cleanup to us. We can even supply the entertainment. \nWeddings and receptions are spectacular in our 11\,000 square foot theatre. With plenty of room to dine and dance\, the Gandy Dancer makes every wedding and/or reception a memory to last a lifetime. Let our on-site wedding coordinator assist you with everything from table decorations\, dining options\, photographers\, music and more. \nOur staff is equipped to handle the smallest to the greatest needs.
URL:https://elkinsrandolphwv.com/event/the-gandy-dancer-theratre/2023-05-19/
LOCATION:Gandy Dancer Theatre and Conference Center\, 359 Beverly Pike\, Elkins\, WV 26241\, USA\, United States
CATEGORIES:Art & Culture,Community,Entertainment,Food,Food & Drink,Kids & Family,Music
ATTACH;FMTTYPE=image/jpeg:https://elkinsrandolphwv.com/wp-content/uploads/2023/05/gandy-dancer.jpg
GEO:38.918641;-79.842607
END:VEVENT
BEGIN:VEVENT
DTSTART;TZID=UTC:20230520T173000
DTEND;TZID=UTC:20230520T210000
DTSTAMP:20260422T230613
CREATED:20230518T193947Z
LAST-MODIFIED:20230518T193947Z
UID:27159-1684603800-1684616400@elkinsrandolphwv.com
SUMMARY:The Gandy Dancer Theatre: Premier Show
DESCRIPTION:After a wonderful plated dinner\, sit back and listen to the fabulous Mountain Memories Show Band as they serve up a 2 hour Branson-style show with music from the 50’s- today featuring Country\, Pop\, Motown\, Gospel\, and Patriotic along with family- friendly comedy and amazing dancers.\nThe Gandy Dancer offers a show that’s guaranteed to have you dancing in your seat\, laughing ‘til you cry\, touch your heart and give you memories that will last a lifetime.\nEvening\n~ Arrive at 5:30 pm ~\n~ Dinner at 6:00 pm ~\n~ Show Only arrive at 6:30 pm ~\n~ Show at 7:00 pm ~ \n\n\nMeal includes:\nChicken cordon bleu\, hamburger steak with gravy\, coleslaw\,\nbaked potato\, dinner roll\, dessert and beverage. \n\nRates (do not include tax or fees):\n\n\n\n\nShow and Meal\n\n\nAdult\n$42.95 per person\n\n\nSenior (55 yrs +)\n$40.95 per person\n\n\nYouth 4-11 yrs\n$23.95 per youth\n\n\nChildren 3 yrs and under\nFree\n\n\nAdult Military\n$38.66 per person\n\n\nSenior (55+) Military\n$36.86 per person\n\n\n\n\n\n\nShow Only\n\n\nAdult\n$27.95 per person\n\n\nSenior (55 yrs +)\n$26.95 per person\n\n\nYouth 4-11 yrs\n$15.95 per youth\n\n\nChildren 3 yrs and under\nFree\n\n\n\n\n 
URL:https://elkinsrandolphwv.com/event/the-gandy-dancer-theatre-premier-show/2023-05-20/
LOCATION:Gandy Dancer Theatre and Conference Center\, 359 Beverly Pike\, Elkins\, WV 26241\, USA\, United States
CATEGORIES:Art & Culture,Entertainment,Food & Drink,Kids & Family,Music
ATTACH;FMTTYPE=image/jpeg:https://elkinsrandolphwv.com/wp-content/uploads/2023/05/gandy-dancer.jpg
GEO:38.918641;-79.842607
END:VEVENT
BEGIN:VEVENT
DTSTART;TZID=UTC:20230522T180000
DTEND;TZID=UTC:20230522T200000
DTSTAMP:20260422T230613
CREATED:20230201T012116Z
LAST-MODIFIED:20230201T012116Z
UID:26652-1684778400-1684785600@elkinsrandolphwv.com
SUMMARY:Cooking in Community: Arepas - Venezuela’s Cornbread
DESCRIPTION:Augusta is presenting a new series of foodways classes in Elkins\, WV! The classes will be taught by experienced chefs and home cooks from a variety of cultures represented in Appalachia today. Classes will cover specific dishes such as arepas\, adobo\, tomato sauce\, meatballs\, pizzelles\, pepperoni rolls\, dumplings\, fried chicken\, and collard greens\, as well as addressing topics such as cooking fresh in food deserts\, using local seasonal ingredients and canning and pickling techniques. Students can expect to come away from each class with hands-on knowledge about how to make a dish and hopefully a deeper understanding of the importance of that dish to the people whose kitchens it sprang from. \nWhat are foodways?\nFoodways are more than food itself — they are the beliefs and context surrounding food\, the person-to-person teaching of its preparation\, as well as the community in which the food is enjoyed. The passing down of food traditions from one generation to the next is an integral piece of a community’s identity and culture. We use food to deepen community ties\, celebrate important holidays\, mark milestones\, and enrich our lives. A community’s values are readily communicated in the ways that food is celebrated and shared within it. \nRegistration link – https://augustaartsandculture.org/cooking-in-community…/ \nThis project is made possible by Mid Atlantic Arts’ Central Appalachia Living Traditions program.
URL:https://elkinsrandolphwv.com/event/cooking-in-community-arepas-venezuelas-cornbread/
LOCATION:Phil Gainer Community Center\, 142 Robert E Lee Ave Ext\, Elkins\, WV 26241\, USA\, 149 Robert E Lee Ave Exd\, United States
CATEGORIES:Community,Entertainment,Food & Drink,Information,Kids & Family
ATTACH;FMTTYPE=image/jpeg:https://elkinsrandolphwv.com/wp-content/uploads/2023/01/327061963_505284974981670_5763047358390977939_n.jpg
GEO:38.925764;-79.864059
X-APPLE-STRUCTURED-LOCATION;VALUE=URI;X-ADDRESS=Phil Gainer Community Center 142 Robert E Lee Ave Ext Elkins WV 26241 USA 149 Robert E Lee Ave Exd United States;X-APPLE-RADIUS=500;X-TITLE=149 Robert E Lee Ave Exd:geo:-79.864059,38.925764
END:VEVENT
END:VCALENDAR