BEGIN:VCALENDAR
VERSION:2.0
PRODID:-//Elkins-Randolph County Tourism - ECPv6.15.20//NONSGML v1.0//EN
CALSCALE:GREGORIAN
METHOD:PUBLISH
X-WR-CALNAME:Elkins-Randolph County Tourism
X-ORIGINAL-URL:https://elkinsrandolphwv.com
X-WR-CALDESC:Events for Elkins-Randolph County Tourism
REFRESH-INTERVAL;VALUE=DURATION:PT1H
X-Robots-Tag:noindex
X-PUBLISHED-TTL:PT1H
BEGIN:VTIMEZONE
TZID:UTC
BEGIN:STANDARD
TZOFFSETFROM:+0000
TZOFFSETTO:+0000
TZNAME:UTC
DTSTART:20220101T000000
END:STANDARD
END:VTIMEZONE
BEGIN:VEVENT
DTSTART;TZID=UTC:20230601T180000
DTEND;TZID=UTC:20230601T200000
DTSTAMP:20260424T222148
CREATED:20230418T181118Z
LAST-MODIFIED:20230418T181118Z
UID:26918-1685642400-1685649600@elkinsrandolphwv.com
SUMMARY:Thursday Night Live & Drive Concerts : Cross Town Traffic
DESCRIPTION:We are really excited to announce the lineup for this year’s summer concerts! \n*FREE ENTRY* \nAs always\, the Mountain State Street Machines a dba of Our Town\, Inc. will be there and we hope you’ll also bring your fun cars \, trucks\, and motorcycles! If you love your ride\, we love it too. There’s no entry fee and cars start arriving at 5.\nWe know that some of our sponsors are planning to have a presence as well as some other organizations and food vendors. You never know what might be there!\nThis is our best lineup yet. We have bands coming from Cincinnati\, Boston\, New York\, as well as some great in state talent and our final concert is an up and coming artist who is super talented and just happens to be from WV!\nDuring our annual 4th of July car show weekend we have THREE free concerts\, starting with the Air National Guard Band of the Northeast on Thursday\, Ryan Cain and the Ables bringing rockabilly for the first night of cars\, and then crowd favorite Rick K’s Road Trip Will be back on Saturday night followed by a huge fireworks display that will be right over our heads at the stage area this year. It’s going to be great!\nWe are hoping to see some big crowds. So\, Please share this and watch for this poster around the area.
URL:https://elkinsrandolphwv.com/event/thursday-night-live-drive-concerts-cross-town-traffic/
LOCATION:Rotary Ampitheatre in Elkins Town Square\, 315 Railroad Avenue\, Elkins\, WV\, 26241\, United States\, 2 Railroad Ave\, United States
CATEGORIES:Community,Entertainment,Food & Drink,Kids & Family,Music,Outdoor Activities
ATTACH;FMTTYPE=image/jpeg:https://elkinsrandolphwv.com/wp-content/uploads/2023/04/342176186_181057261483900_938230252328596213_n-e1681826870928.jpg
GEO:38.92313;-79.851004
X-APPLE-STRUCTURED-LOCATION;VALUE=URI;X-ADDRESS=Rotary Ampitheatre in Elkins Town Square 315 Railroad Avenue Elkins WV 26241 United States 2 Railroad Ave United States;X-APPLE-RADIUS=500;X-TITLE=2 Railroad Ave:geo:-79.851004,38.92313
END:VEVENT
BEGIN:VEVENT
DTSTART;TZID=UTC:20230603T180000
DTEND;TZID=UTC:20230603T210000
DTSTAMP:20260424T222148
CREATED:20230518T215533Z
LAST-MODIFIED:20230518T215533Z
UID:27164-1685815200-1685826000@elkinsrandolphwv.com
SUMMARY:Gandy Dancer Theatre: Murder Mystery
DESCRIPTION:Murder Mystery Dinner “The Return of Bing LaFayette”\n\n\nMurder Mystery Dinner “The Return of Bing LaFayette”\nJune 3th and June 4th\n \nAfter many failed attempts to return to his legend (in his mind) status\, Bing LaFayette makes his comeback at the Gandy Dancer Theatre. Chase Whitmore\, Bing’s manager works tirelessly to put this show together and faces his worst crisis as Bing is murdered. The show must go on so Bing’s backup singers\, sisters Cherry Berry and Holly Berry jump at the chance to move up to stardom and do their own show. Many other guilty characters are around but which one did it? This crazy show will have you laughing until you die\, I mean cry\, of course…\n\nEvening\n~ Arrive at 5:30 pm ~\n~ Dinner/Show at 6:00 pm ~\n~ Show Only arrive at 6:30 pm ~\n~ Show at 7:00 pm ~ \nDinner includes:\nChicken cordon bleu\, hamburger steak\, green beans\, baked potato\, side salad\, dinner roll\, dessert and beverage. \n\nRates (do not include tax or fees):\n\n\n\n\nShow and Meal\n\n\nAdult\n$42.95 per person\n\n\nSenior (55 yrs +)\n$40.95 per person\n\n\nYouth 4-11 yrs\n$23.95 per youth\n\n\nChildren 3 yrs and under\nFree\n\n\nAdult Military\n$38.66 per person\n\n\nSenior (55+) Military\n$36.86 per person
URL:https://elkinsrandolphwv.com/event/gandy-dancer-theatre-murder-mystery/
LOCATION:Gandy Dancer Theatre and Conference Center\, 359 Beverly Pike\, Elkins\, WV 26241\, USA\, United States
CATEGORIES:Art & Culture,Entertainment,Food,Food & Drink,Kids & Family,Music
ATTACH;FMTTYPE=image/jpeg:https://elkinsrandolphwv.com/wp-content/uploads/2023/05/murder.jpg
GEO:38.918641;-79.842607
END:VEVENT
BEGIN:VEVENT
DTSTART;TZID=UTC:20230604T180000
DTEND;TZID=UTC:20230604T210000
DTSTAMP:20260424T222148
CREATED:20230519T231933Z
LAST-MODIFIED:20230519T231933Z
UID:27318-1685901600-1685912400@elkinsrandolphwv.com
SUMMARY:Gandy Dancer Theatre: Murder Mystery
DESCRIPTION:Murder Mystery Dinner “The Return of Bing LaFayette”\n\n\nMurder Mystery Dinner “The Return of Bing LaFayette”\nJune 3th and June 4th\n \nAfter many failed attempts to return to his legend (in his mind) status\, Bing LaFayette makes his comeback at the Gandy Dancer Theatre. Chase Whitmore\, Bing’s manager works tirelessly to put this show together and faces his worst crisis as Bing is murdered. The show must go on so Bing’s backup singers\, sisters Cherry Berry and Holly Berry jump at the chance to move up to stardom and do their own show. Many other guilty characters are around but which one did it? This crazy show will have you laughing until you die\, I mean cry\, of course…\n\nEvening\n~ Arrive at 5:30 pm ~\n~ Dinner/Show at 6:00 pm ~\n~ Show Only arrive at 6:30 pm ~\n~ Show at 7:00 pm ~ \nDinner includes:\nChicken cordon bleu\, hamburger steak\, green beans\, baked potato\, side salad\, dinner roll\, dessert and beverage. \n\nRates (do not include tax or fees):\n\n\n\n\nShow and Meal\n\n\nAdult\n$42.95 per person\n\n\nSenior (55 yrs +)\n$40.95 per person\n\n\nYouth 4-11 yrs\n$23.95 per youth\n\n\nChildren 3 yrs and under\nFree\n\n\nAdult Military\n$38.66 per person\n\n\nSenior (55+) Military\n$36.86 per person\n\n\n\n\n\nCALENDAR & BOOK TICKETS
URL:https://elkinsrandolphwv.com/event/gandy-dancer-theatre-murder-mystery-2/
LOCATION:Gandy Dancer Theatre and Conference Center\, 359 Beverly Pike\, Elkins\, WV 26241\, USA\, United States
CATEGORIES:Art & Culture,Entertainment,Food,Food & Drink,Kids & Family,Music
ATTACH;FMTTYPE=image/jpeg:https://elkinsrandolphwv.com/wp-content/uploads/2023/05/murder.jpg
GEO:38.918641;-79.842607
END:VEVENT
BEGIN:VEVENT
DTSTART;TZID=UTC:20230610T180000
DTEND;TZID=UTC:20230610T180000
DTSTAMP:20260424T222148
CREATED:20230518T220238Z
LAST-MODIFIED:20230518T220238Z
UID:27166-1686420000-1686420000@elkinsrandolphwv.com
SUMMARY:Gandy Dancer Theatre: Premier Show
DESCRIPTION:Premier Show\n\n\nAfter a wonderful plated dinner\, sit back and listen to the fabulous Mountain Memories Show Band as they serve up a 2 hour Branson-style show with music from the 50’s- today featuring Country\, Pop\, Motown\, Gospel\, and Patriotic along with family- friendly comedy and amazing dancers.\nThe Gandy Dancer offers a show that’s guaranteed to have you dancing in your seat\, laughing ‘til you cry\, touch your heart and give you memories that will last a lifetime.\n  \n\nEvening\n~ Arrive at 5:30 pm ~\n~ Dinner at 6:00 pm ~\n~ Show Only arrive at 6:30 pm ~\n~ Show at 7:00 pm ~ \n\n\nMeal includes:\nChicken cordon bleu\, hamburger steak with gravy\, coleslaw\,\nbaked potato\, dinner roll\, dessert and beverage. \n\nRates (do not include tax or fees):\n\n\n\n\nShow and Meal\n\n\nAdult\n$42.95 per person\n\n\nSenior (55 yrs +)\n$40.95 per person\n\n\nYouth 4-11 yrs\n$23.95 per youth\n\n\nChildren 3 yrs and under\nFree\n\n\nAdult Military\n$38.66 per person\n\n\nSenior (55+) Military\n$36.86 per person\n\n\n\n\n\n\nShow Only\n\n\nAdult\n$27.95 per person\n\n\nSenior (55 yrs +)\n$26.95 per person\n\n\nYouth 4-11 yrs\n$15.95 per youth\n\n\nChildren 3 yrs and under\nFree
URL:https://elkinsrandolphwv.com/event/gandy-dancer-theatre-premier-show/2023-06-10/
CATEGORIES:Art & Culture,Entertainment,Food,Food & Drink,Kids & Family,Music
ATTACH;FMTTYPE=image/jpeg:https://elkinsrandolphwv.com/wp-content/uploads/2023/05/Gandy-Dancer-Premier-Show.jpg
END:VEVENT
BEGIN:VEVENT
DTSTART;TZID=UTC:20230615T180000
DTEND;TZID=UTC:20230615T200000
DTSTAMP:20260424T222148
CREATED:20230418T181401Z
LAST-MODIFIED:20230418T181401Z
UID:26919-1686852000-1686859200@elkinsrandolphwv.com
SUMMARY:Thursday Night Live & Drive Concerts : Buffalo Wabs & The Price Hill Hustle
DESCRIPTION:We are really excited to announce the lineup for this year’s summer concerts! \n*FREE ENTRY* \nAs always\, the Mountain State Street Machines a dba of Our Town\, Inc. will be there and we hope you’ll also bring your fun cars \, trucks\, and motorcycles! If you love your ride\, we love it too. There’s no entry fee and cars start arriving at 5.\nWe know that some of our sponsors are planning to have a presence as well as some other organizations and food vendors. You never know what might be there!\nThis is our best lineup yet. We have bands coming from Cincinnati\, Boston\, New York\, as well as some great in state talent and our final concert is an up and coming artist who is super talented and just happens to be from WV!\nDuring our annual 4th of July car show weekend we have THREE free concerts\, starting with the Air National Guard Band of the Northeast on Thursday\, Ryan Cain and the Ables bringing rockabilly for the first night of cars\, and then crowd favorite Rick K’s Road Trip Will be back on Saturday night followed by a huge fireworks display that will be right over our heads at the stage area this year. It’s going to be great!\nWe are hoping to see some big crowds. So\, Please share this and watch for this poster around the area.
URL:https://elkinsrandolphwv.com/event/thursday-night-live-drive-concerts-buffalo-wabs-the-price-hill-hustle/
LOCATION:Rotary Ampitheatre in Elkins Town Square\, 315 Railroad Avenue\, Elkins\, WV\, 26241\, United States\, 2 Railroad Ave\, United States
CATEGORIES:Community,Entertainment,Food & Drink,Kids & Family,Music,Outdoor Activities
ATTACH;FMTTYPE=image/jpeg:https://elkinsrandolphwv.com/wp-content/uploads/2023/04/342176186_181057261483900_938230252328596213_n-e1681826870928.jpg
GEO:38.92313;-79.851004
X-APPLE-STRUCTURED-LOCATION;VALUE=URI;X-ADDRESS=Rotary Ampitheatre in Elkins Town Square 315 Railroad Avenue Elkins WV 26241 United States 2 Railroad Ave United States;X-APPLE-RADIUS=500;X-TITLE=2 Railroad Ave:geo:-79.851004,38.92313
END:VEVENT
BEGIN:VEVENT
DTSTART;TZID=UTC:20230617T090000
DTEND;TZID=UTC:20230617T200000
DTSTAMP:20260424T222148
CREATED:20230213T202519Z
LAST-MODIFIED:20230213T203019Z
UID:26678-1686992400-1687032000@elkinsrandolphwv.com
SUMMARY:West Virginia Wild and Wonderful Celtic Festival and Highland Games Inc.
DESCRIPTION:West Virginia Wild and Wonderful Celtic Festival and Highland Games Inc will be holding the first annual Celtic Festival and Highland Games in Beverly\, WV at Camp Pioneer! There will be entertainment and activities for all ages\, such as a Clan Village\, Highland dancers\, pipe and drum bands\, Highland games\, 5k race\, live entertainment\, beer garden\, and much more. \n\n\n\n\nTickets are $10 if purchased ahead of the event\, or $15 at the gate. Children under 5\, senior adults (over 70)\, and first responders/military/veterans can purchase discounted tickets\, detailed below. \n– For children under 5 or adults over 70: Use code FREE for $10 off your ticket purchase (we reserve the right to question age at the gate). \n– For first responders or veteran/active military: use code HALF for $5 off your ticket purchase (subject to ID check at gate). \nGet Tickets Here \n\n\n\n\nA special thanks to our generous sponsors: \n\n\nPlatinum – Randolph County Commission of West Virginia \nGold – Town of Beverly \nSilver – Clan Ferguson Society of North America \nBronze – Broken Caber \n  \n\n\n\n\nPartner Hotels and Lodging: \nSpecial rates and discounts for festival visitors are available for Hampton Inn Elkins (code CHHKF1) and Iron Road Inn | Railroad Themed Motel
URL:https://elkinsrandolphwv.com/event/west-virginia-wild-and-wonderful-celtic-festival-and-highland-games-inc/
LOCATION:Camp Pioneer\, 38 Pioneer Circle\, Kings Run Rd\, Beverly\, WV 26253\, USA\, 38 Pioneer Circle\, Kings Run Road\, Beverly\, WV\, United States
CATEGORIES:Art & Culture,Community,Educational,Entertainment,Fairs & Festivals,Food & Drink,Kids & Family,Music,Outdoor Activities,Sports & Recreations
ATTACH;FMTTYPE=image/png:https://elkinsrandolphwv.com/wp-content/uploads/2023/02/Screenshot-2023-02-13-at-10.23.40-AM.png
ORGANIZER;CN="WV Wild and Wonderful Celtic Festival and Highland Games":MAILTO:wvcelticfestandgames@gmail.com ‭
GEO:38.818697;-79.853493
X-APPLE-STRUCTURED-LOCATION;VALUE=URI;X-ADDRESS=Camp Pioneer 38 Pioneer Circle Kings Run Rd Beverly WV 26253 USA 38 Pioneer Circle Kings Run Road Beverly WV United States;X-APPLE-RADIUS=500;X-TITLE=38 Pioneer Circle\, Kings Run Road:geo:-79.853493,38.818697
END:VEVENT
BEGIN:VEVENT
DTSTART;TZID=UTC:20230629T180000
DTEND;TZID=UTC:20230629T200000
DTSTAMP:20260424T222148
CREATED:20230418T182002Z
LAST-MODIFIED:20230418T182002Z
UID:26923-1688061600-1688068800@elkinsrandolphwv.com
SUMMARY:Thursday Night Live & Drive Concerts : The Air National Guard Touring Band of the Northeast
DESCRIPTION:We are really excited to announce the lineup for this year’s summer concerts! \n*FREE ENTRY* \nAs always\, the Mountain State Street Machines a dba of Our Town\, Inc. will be there and we hope you’ll also bring your fun cars \, trucks\, and motorcycles! If you love your ride\, we love it too. There’s no entry fee and cars start arriving at 5.\nWe know that some of our sponsors are planning to have a presence as well as some other organizations and food vendors. You never know what might be there!\nThis is our best lineup yet. We have bands coming from Cincinnati\, Boston\, New York\, as well as some great in state talent and our final concert is an up and coming artist who is super talented and just happens to be from WV!\nDuring our annual 4th of July car show weekend we have THREE free concerts\, starting with the Air National Guard Band of the Northeast on Thursday\, Ryan Cain and the Ables bringing rockabilly for the first night of cars\, and then crowd favorite Rick K’s Road Trip Will be back on Saturday night followed by a huge fireworks display that will be right over our heads at the stage area this year. It’s going to be great!\nWe are hoping to see some big crowds. So\, Please share this and watch for this poster around the area.
URL:https://elkinsrandolphwv.com/event/thursday-night-live-drive-concerts-the-air-national-guard-touring-band-of-the-northeast/
LOCATION:Rotary Ampitheatre in Elkins Town Square\, 315 Railroad Avenue\, Elkins\, WV\, 26241\, United States\, 2 Railroad Ave\, United States
CATEGORIES:Community,Entertainment,Food & Drink,Kids & Family,Music,Outdoor Activities
ATTACH;FMTTYPE=image/jpeg:https://elkinsrandolphwv.com/wp-content/uploads/2023/04/342176186_181057261483900_938230252328596213_n-e1681826870928.jpg
GEO:38.92313;-79.851004
X-APPLE-STRUCTURED-LOCATION;VALUE=URI;X-ADDRESS=Rotary Ampitheatre in Elkins Town Square 315 Railroad Avenue Elkins WV 26241 United States 2 Railroad Ave United States;X-APPLE-RADIUS=500;X-TITLE=2 Railroad Ave:geo:-79.851004,38.92313
END:VEVENT
BEGIN:VEVENT
DTSTART;TZID=UTC:20230630T180000
DTEND;TZID=UTC:20230630T200000
DTSTAMP:20260424T222148
CREATED:20230418T143023Z
LAST-MODIFIED:20230418T182408Z
UID:26922-1688148000-1688155200@elkinsrandolphwv.com
SUMMARY:Thursday Night Live & Drive Concerts : Ryan Cain & The Ables
DESCRIPTION:We are really excited to announce the lineup for this year’s summer concerts! \n*FREE ENTRY* \nAs always\, the Mountain State Street Machines a dba of Our Town\, Inc. will be there and we hope you’ll also bring your fun cars \, trucks\, and motorcycles! If you love your ride\, we love it too. There’s no entry fee and cars start arriving at 5.\nWe know that some of our sponsors are planning to have a presence as well as some other organizations and food vendors. You never know what might be there!\nThis is our best lineup yet. We have bands coming from Cincinnati\, Boston\, New York\, as well as some great in state talent and our final concert is an up and coming artist who is super talented and just happens to be from WV!\nDuring our annual 4th of July car show weekend we have THREE free concerts\, starting with the Air National Guard Band of the Northeast on Thursday\, Ryan Cain and the Ables bringing rockabilly for the first night of cars\, and then crowd favorite Rick K’s Road Trip Will be back on Saturday night followed by a huge fireworks display that will be right over our heads at the stage area this year. It’s going to be great!\nWe are hoping to see some big crowds. So\, Please share this and watch for this poster around the area.
URL:https://elkinsrandolphwv.com/event/thursday-night-live-drive-concerts-ryan-cain-the-ables/
LOCATION:Rotary Ampitheatre in Elkins Town Square\, 315 Railroad Avenue\, Elkins\, WV\, 26241\, United States\, 2 Railroad Ave\, United States
CATEGORIES:Community,Entertainment,Food & Drink,Kids & Family,Music,Outdoor Activities
ATTACH;FMTTYPE=image/jpeg:https://elkinsrandolphwv.com/wp-content/uploads/2023/04/342176186_181057261483900_938230252328596213_n-e1681826870928.jpg
GEO:38.92313;-79.851004
X-APPLE-STRUCTURED-LOCATION;VALUE=URI;X-ADDRESS=Rotary Ampitheatre in Elkins Town Square 315 Railroad Avenue Elkins WV 26241 United States 2 Railroad Ave United States;X-APPLE-RADIUS=500;X-TITLE=2 Railroad Ave:geo:-79.851004,38.92313
END:VEVENT
END:VCALENDAR