BEGIN:VCALENDAR
VERSION:2.0
PRODID:-//Elkins-Randolph County Tourism - ECPv6.15.20//NONSGML v1.0//EN
CALSCALE:GREGORIAN
METHOD:PUBLISH
X-ORIGINAL-URL:https://elkinsrandolphwv.com
X-WR-CALDESC:Events for Elkins-Randolph County Tourism
REFRESH-INTERVAL;VALUE=DURATION:PT1H
X-Robots-Tag:noindex
X-PUBLISHED-TTL:PT1H
BEGIN:VTIMEZONE
TZID:UTC
BEGIN:STANDARD
TZOFFSETFROM:+0000
TZOFFSETTO:+0000
TZNAME:UTC
DTSTART:20220101T000000
END:STANDARD
END:VTIMEZONE
BEGIN:VEVENT
DTSTART;TZID=UTC:20230908T180000
DTEND;TZID=UTC:20230908T180000
DTSTAMP:20260423T175130
CREATED:20230518T224917Z
LAST-MODIFIED:20230518T224917Z
UID:27205-1694196000-1694196000@elkinsrandolphwv.com
SUMMARY:Gandy Dancer Theatre: Premier Show
DESCRIPTION:Premier Show\n\n\nAfter a wonderful plated dinner\, sit back and listen to the fabulous Mountain Memories Show Band as they serve up a 2 hour Branson-style show with music from the 50’s- today featuring Country\, Pop\, Motown\, Gospel\, and Patriotic along with family- friendly comedy and amazing dancers.\nThe Gandy Dancer offers a show that’s guaranteed to have you dancing in your seat\, laughing ‘til you cry\, touch your heart and give you memories that will last a lifetime.\n \n\nEvening\n~ Arrive at 5:30 pm ~\n~ Dinner at 6:00 pm ~\n~ Show Only arrive at 6:30 pm ~\n~ Show at 7:00 pm ~ \n\n\nMeal includes:\nChicken cordon bleu\, hamburger steak with gravy\, coleslaw\,\nbaked potato\, dinner roll\, dessert and beverage. \n\nRates (do not include tax or fees):\n\n\n\n\nShow and Meal\n\n\nAdult\n$42.95 per person\n\n\nSenior (55 yrs +)\n$40.95 per person\n\n\nYouth 4-11 yrs\n$23.95 per youth\n\n\nChildren 3 yrs and under\nFree\n\n\nAdult Military\n$38.66 per person\n\n\nSenior (55+) Military\n$36.86 per person\n\n\n\n\n\n\nShow Only\n\n\nAdult\n$27.95 per person\n\n\nSenior (55 yrs +)\n$26.95 per person\n\n\nYouth 4-11 yrs\n$15.95 per youth\n\n\nChildren 3 yrs and under\nFree\n\n\n\n\n\nCALENDAR & BOOK TICKETS
URL:https://elkinsrandolphwv.com/event/gandy-dancer-theatre-premier-show-5/2023-09-08/
LOCATION:Gandy Dancer Theatre and Conference Center\, 359 Beverly Pike\, Elkins\, WV 26241\, USA\, United States
CATEGORIES:Art & Culture,Entertainment,Food,Food & Drink,Kids & Family,Music
ATTACH;FMTTYPE=image/jpeg:https://elkinsrandolphwv.com/wp-content/uploads/2023/05/Gandy-Dancer-Premier-Show.jpg
GEO:38.918641;-79.842607
END:VEVENT
BEGIN:VEVENT
DTSTART;VALUE=DATE:20230910
DTEND;VALUE=DATE:20230912
DTSTAMP:20260423T175130
CREATED:20221222T220835Z
LAST-MODIFIED:20221222T220835Z
UID:26608-1694311200-1694397599@elkinsrandolphwv.com
SUMMARY:Helvetia Community Fair
DESCRIPTION:The Helvetia Community Fair celebrates the rich culture and history of Helvetia\, WV\, a small Swiss community located in Randolph County. One of the oldest agricultural fairs (since 1917) in West Virginia\, the Helvetia Community Fair encourages local families\, friends\, and visitors to celebrate our harvest and our heritage. \nFestivities include a parade\, Swiss folk dancing\, Fahnenschwingen (Swiss flag swinging)\, Alphorn playing\, yodeling\, field games\, relays\, concessions\, arts and crafts\, and a square dance.\nHelvetia’s original settlers proved they could withstand harsh winters and rugged terrain while retaining the traditions of their mother country\, Switzerland. \nThe Helvetia Community Fair reflects our Swiss character\, celebrates our ancestry\, and encourages our children and visitors to embrace our traditions.
URL:https://elkinsrandolphwv.com/event/helvetia-community-fair/
LOCATION:Helvetia\, WV 26234\, USA\, 100 Old Helvetia Rd\, United States
CATEGORIES:Art & Culture,Community,Entertainment,Fairs & Festivals,Food & Drink,Kids & Family,Outdoor Activities
GEO:38.760148;-80.25278
X-APPLE-STRUCTURED-LOCATION;VALUE=URI;X-ADDRESS=Helvetia WV 26234 USA 100 Old Helvetia Rd United States;X-APPLE-RADIUS=500;X-TITLE=100 Old Helvetia Rd:geo:-80.25278,38.760148
END:VEVENT
BEGIN:VEVENT
DTSTART;TZID=UTC:20230918T180000
DTEND;TZID=UTC:20230918T200000
DTSTAMP:20260423T175130
CREATED:20230201T012633Z
LAST-MODIFIED:20230201T012633Z
UID:26654-1695060000-1695067200@elkinsrandolphwv.com
SUMMARY:Cooking in Community: Pancit Noodles - The Ultimate Comfort Food
DESCRIPTION:Augusta is presenting a new series of foodways classes in Elkins\, WV! The classes will be taught by experienced chefs and home cooks from a variety of cultures represented in Appalachia today. Classes will cover specific dishes such as arepas\, adobo\, tomato sauce\, meatballs\, pizzelles\, pepperoni rolls\, dumplings\, fried chicken\, and collard greens\, as well as addressing topics such as cooking fresh in food deserts\, using local seasonal ingredients and canning and pickling techniques. Students can expect to come away from each class with hands-on knowledge about how to make a dish and hopefully a deeper understanding of the importance of that dish to the people whose kitchens it sprang from. \nWhat are foodways?\nFoodways are more than food itself — they are the beliefs and context surrounding food\, the person-to-person teaching of its preparation\, as well as the community in which the food is enjoyed. The passing down of food traditions from one generation to the next is an integral piece of a community’s identity and culture. We use food to deepen community ties\, celebrate important holidays\, mark milestones\, and enrich our lives. A community’s values are readily communicated in the ways that food is celebrated and shared within it. \nRegistration link – https://augustaartsandculture.org/cooking-in-community…/ \nThis project is made possible by Mid Atlantic Arts’ Central Appalachia Living Traditions program.
URL:https://elkinsrandolphwv.com/event/cooking-in-community-pancit-noodles-the-ultimate-comfort-food/
LOCATION:Phil Gainer Community Center\, 142 Robert E Lee Ave Ext\, Elkins\, WV 26241\, USA\, 149 Robert E Lee Ave Exd\, United States
CATEGORIES:Community,Entertainment,Food & Drink,Information,Kids & Family
ATTACH;FMTTYPE=image/jpeg:https://elkinsrandolphwv.com/wp-content/uploads/2023/01/327061963_505284974981670_5763047358390977939_n.jpg
GEO:38.925764;-79.864059
X-APPLE-STRUCTURED-LOCATION;VALUE=URI;X-ADDRESS=Phil Gainer Community Center 142 Robert E Lee Ave Ext Elkins WV 26241 USA 149 Robert E Lee Ave Exd United States;X-APPLE-RADIUS=500;X-TITLE=149 Robert E Lee Ave Exd:geo:-79.864059,38.925764
END:VEVENT
BEGIN:VEVENT
DTSTART;TZID=UTC:20230922T180000
DTEND;TZID=UTC:20230922T180000
DTSTAMP:20260423T175130
CREATED:20230518T224354Z
LAST-MODIFIED:20230518T224354Z
UID:27199-1695405600-1695405600@elkinsrandolphwv.com
SUMMARY:Gandy Dancer Theatre: Tribute Show
DESCRIPTION:Tribute to Musical Legends\n\n\nEnjoy this amazing show where our performers pay their tribute to such musical legends as Dolly Parton\, Kenny Rogers\, John and June Cash\, Elvis and many more.\n \n\nEvening\n~ Arrive at 5:30 pm ~\n~ Dinner at 6:00 pm ~\n~ Show Only arrive at 6:30 pm ~\n~ Show at 7:00 pm ~\n \n\nRotisserie chicken breast\, barbeque pulled pork\, parsley potatoes\, coleslaw\,\ncorn\, dinner roll\, dessert and beverage. \n\nRates (do not include tax or fees):\n\n\n\n\nShow and Meal\n\n\nAdult\n$42.95 per person\n\n\nSenior (55 yrs +)\n$40.95 per person\n\n\nYouth 4-11 yrs\n$23.95 per youth\n\n\nChildren 3 yrs and under\nFree\n\n\nAdult Military\n$38.66 per person\n\n\nSenior (55+) Military\n$36.86 per person\n\n\n\n\n\n\nShow Only\n\n\nAdult\n$27.95 per person\n\n\nSenior (55 yrs +)\n$26.95 per person\n\n\nYouth 4-11 yrs\n$15.95 per youth\n\n\nChildren 3 yrs and under\nFree\n\n\n\n\n\nCALENDAR & BOOK TICKETS
URL:https://elkinsrandolphwv.com/event/gandy-dancer-theatre-tribute-show-4/2023-09-22/
LOCATION:Gandy Dancer Theatre and Conference Center\, 359 Beverly Pike\, Elkins\, WV 26241\, USA\, United States
CATEGORIES:Art & Culture,Entertainment,Food,Food & Drink,Kids & Family,Music
ATTACH;FMTTYPE=image/png:https://elkinsrandolphwv.com/wp-content/uploads/2023/05/Tribute-to-Musical-Legends-Gandy-Dancer.png
GEO:38.918641;-79.842607
END:VEVENT
BEGIN:VEVENT
DTSTART;VALUE=DATE:20230930
DTEND;VALUE=DATE:20231010
DTSTAMP:20260423T175130
CREATED:20221231T225422Z
LAST-MODIFIED:20230330T231213Z
UID:26610-1696039200-1696816799@elkinsrandolphwv.com
SUMMARY:Mountain State Forest Festival
DESCRIPTION:85th annual Mountain State Forest Festival \nSeptember 30th – October 8th 2023 save the dates! The start of the Mountain State Forest Festival has been announced! Once we get closer to the date\, we will have more information on what is going on!
URL:https://elkinsrandolphwv.com/event/mountain-state-forest-festival-4/
CATEGORIES:Community,Educational,Entertainment,Fairs & Festivals,Food & Drink,Kids & Family,Music,Outdoor Activities
ATTACH;FMTTYPE=image/jpeg:https://elkinsrandolphwv.com/wp-content/uploads/2019/10/MSFF-e1661781904912.jpg
END:VEVENT
END:VCALENDAR