BEGIN:VCALENDAR
VERSION:2.0
PRODID:-//Elkins-Randolph County Tourism - ECPv6.15.17.1//NONSGML v1.0//EN
CALSCALE:GREGORIAN
METHOD:PUBLISH
X-ORIGINAL-URL:https://elkinsrandolphwv.com
X-WR-CALDESC:Events for Elkins-Randolph County Tourism
REFRESH-INTERVAL;VALUE=DURATION:PT1H
X-Robots-Tag:noindex
X-PUBLISHED-TTL:PT1H
BEGIN:VTIMEZONE
TZID:UTC
BEGIN:STANDARD
TZOFFSETFROM:+0000
TZOFFSETTO:+0000
TZNAME:UTC
DTSTART:20230101T000000
END:STANDARD
END:VTIMEZONE
BEGIN:VEVENT
DTSTART;TZID=UTC:20240906T200000
DTEND;TZID=UTC:20240906T220000
DTSTAMP:20260421T104907
CREATED:20240827T190336Z
LAST-MODIFIED:20240827T190336Z
UID:29123-1725652800-1725660000@elkinsrandolphwv.com
SUMMARY:80's Night at Jimbo's Place
DESCRIPTION:Jimbo’s Place is having an 80’s themed party including a live DJ (DJ Princess)\, themed cocktail specials\, complimentary snacks\, and full service bar. \nThe party will be located at Elkins Jimbo’s Place in our NEW 304 party room. There will be a $5 cover fee to enter. Must enter through separate 304 entrance. A tab will be opened specifically for the party at our 304 room bar.
URL:https://elkinsrandolphwv.com/event/80s-night-at-jimbos-place/
LOCATION:Jimbo’s Place\, 302 Davis Avenue\, Elkins\, WV\, 26241\, United States
CATEGORIES:Entertainment,Food & Drink,Music
END:VEVENT
BEGIN:VEVENT
DTSTART;TZID=UTC:20240907T070000
DTEND;TZID=UTC:20240907T120000
DTSTAMP:20260421T104907
CREATED:20240903T223127Z
LAST-MODIFIED:20240903T223310Z
UID:29129-1725692400-1725710400@elkinsrandolphwv.com
SUMMARY:Buckwheat / Pancake Breakfast
DESCRIPTION:Hosted by the Home of the Soul Family Worship in partnership with the Tygart Valley Homestead Association. \nWhen: September 7\, 2024 from 7am to noon. \nWhere: Homestead Community Event Center \nPrice: $10.00 All You Can Eat \nMenu: Sourdough Buckwheat Pancakes\, Regular Pancakes\, Eggs (fried of scrambled)\, Pork Sausage\, Coffee\, Orange Juice\, or Milk
URL:https://elkinsrandolphwv.com/event/buckwheat-pancake-breakfast-2/
LOCATION:Homestead Community Center\, Dailey\, WV\, United States
CATEGORIES:Community,Food,Food & Drink
END:VEVENT
BEGIN:VEVENT
DTSTART;TZID=UTC:20240907T103000
DTEND;TZID=UTC:20240907T153000
DTSTAMP:20260421T104907
CREATED:20240903T222706Z
LAST-MODIFIED:20240903T222706Z
UID:29128-1725705000-1725723000@elkinsrandolphwv.com
SUMMARY:Lions Club of Elkins Chicken Barbecue:
DESCRIPTION:The Lions Club of Elkins will have a Chicken Barbecue on Saturday September 7\, 2024\, at the parking lot across from Davis Electrical Service on Randolph Avenue (former IGA).   The meal will include half a chicken\, 2 side items\, roll\, dessert\, and bottled water.  The meals will be ready for drive-thru and walk-up pickup by 10:30am.
URL:https://elkinsrandolphwv.com/event/lions-club-of-elkins-chicken-barbecue/
LOCATION:Old IGA Parking Lot\, 32 Randolph Ave\, Elkins\, WV\, 26241\, United States
CATEGORIES:Community,Food,Food & Drink
END:VEVENT
BEGIN:VEVENT
DTSTART;TZID=UTC:20240908T160000
DTEND;TZID=UTC:20240908T180000
DTSTAMP:20260421T104907
CREATED:20240904T234231Z
LAST-MODIFIED:20240904T234318Z
UID:29138-1725811200-1725818400@elkinsrandolphwv.com
SUMMARY:Live Music @ Clementines Cantina | Kelsey Jeffries
DESCRIPTION:Kelsey is excited to make her debut performance at Clementine’s Cantina in downtown Elkins\, WV! Come out on Sunday\, September 8th from 4pm-6pm and listen to some local music while enjoying some tasty food!
URL:https://elkinsrandolphwv.com/event/live-music-clementines-cantina-kelsey-jeffries/
LOCATION:Clementine’s Cantina\, 112 Davis Avenue\, Elkins\, WV
CATEGORIES:Art & Culture,Community,Entertainment,Food & Drink,Music
ATTACH;FMTTYPE=image/png:https://elkinsrandolphwv.com/wp-content/uploads/2024/08/Screenshot-2024-08-08-11.58.42-AM-e1725478991780.png
END:VEVENT
BEGIN:VEVENT
DTSTART;TZID=UTC:20240913T200000
DTEND;TZID=UTC:20240913T220000
DTSTAMP:20260421T104907
CREATED:20240912T053247Z
LAST-MODIFIED:20240912T053247Z
UID:29276-1726257600-1726264800@elkinsrandolphwv.com
SUMMARY:Live Music
DESCRIPTION:Danny and Jaime of The Soda Pop Gypsies
URL:https://elkinsrandolphwv.com/event/live-music/
LOCATION:El Gran Sabor\, 413 Kerens Ave\, Elkins\, WV 26241\, USA\, 155 Kerens Ave\, United States
CATEGORIES:Community,Entertainment,Food & Drink,Kids & Family,Music
ATTACH;FMTTYPE=image/jpeg:https://elkinsrandolphwv.com/wp-content/uploads/2019/07/el-gran-sabor-e1726104755868.jpg
GEO:38.92349;-79.848286
X-APPLE-STRUCTURED-LOCATION;VALUE=URI;X-ADDRESS=El Gran Sabor 413 Kerens Ave Elkins WV 26241 USA 155 Kerens Ave United States;X-APPLE-RADIUS=500;X-TITLE=155 Kerens Ave:geo:-79.848286,38.92349
END:VEVENT
BEGIN:VEVENT
DTSTART;TZID=UTC:20240913T210000
DTEND;TZID=UTC:20240913T230000
DTSTAMP:20260421T104907
CREATED:20240905T174507Z
LAST-MODIFIED:20240905T174555Z
UID:29145-1726261200-1726268400@elkinsrandolphwv.com
SUMMARY:Live Music @ Big Timber Brewing | An Evening with Jeremy Short
DESCRIPTION:Jeremy ShortFREE!!Doors @ 8:00PM
URL:https://elkinsrandolphwv.com/event/live-music-big-timber-brewing-an-evening-with-jeremy-short/
LOCATION:Big Timber Brewing\, 2 Davis Avenue\, Elkins\, WV\, 26241\, United States
CATEGORIES:Community,Food & Drink,Music
ATTACH;FMTTYPE=image/jpeg:https://elkinsrandolphwv.com/wp-content/uploads/2019/03/big-timber-1-e1725543945387.jpg
END:VEVENT
BEGIN:VEVENT
DTSTART;VALUE=DATE:20240914
DTEND;VALUE=DATE:20240916
DTSTAMP:20260421T104907
CREATED:20240710T214346Z
LAST-MODIFIED:20240710T220625Z
UID:28935-1726279200-1726365599@elkinsrandolphwv.com
SUMMARY:Helvetia Community Fair
DESCRIPTION:The Helvetia Community Fair celebrates the rich culture and history of Helvetia\, WV\, a small Swiss community located in Randolph County.
URL:https://elkinsrandolphwv.com/event/helvetia-community-fair-2/
LOCATION:Helvetia\, WV 26234\, USA\, 100 Old Helvetia Rd\, United States
CATEGORIES:Community,Fairs & Festivals,Food & Drink,Kids & Family,Outdoor Activities
ATTACH;FMTTYPE=image/jpeg:https://elkinsrandolphwv.com/wp-content/uploads/2019/03/IMG_0040.jpg
GEO:38.760148;-80.25278
X-APPLE-STRUCTURED-LOCATION;VALUE=URI;X-ADDRESS=Helvetia WV 26234 USA 100 Old Helvetia Rd United States;X-APPLE-RADIUS=500;X-TITLE=100 Old Helvetia Rd:geo:-80.25278,38.760148
END:VEVENT
BEGIN:VEVENT
DTSTART;TZID=UTC:20240914T130000
DTEND;TZID=UTC:20240914T160000
DTSTAMP:20260421T104907
CREATED:20240910T175909Z
LAST-MODIFIED:20240910T175909Z
UID:29188-1726318800-1726329600@elkinsrandolphwv.com
SUMMARY:Shoot & Sip
DESCRIPTION:The event will be focused on teaching the rules and enjoyment of trap shooting with an emphasis on safety. All guns\, ammo\, and safety equipment will be provided\, however\, if you desire you may bring your own. \nAfter enjoying the shooting event\, the group will retire to the clubhouse for a time of fellowship & refreshments. The cost of the event is $25 per person. Limited to 20 people per event. \nParticipants must be at least 21 years of age. \nFor further information\, please contact Charlie Friddle\, Shooting Sports Coordinator\, 304-704-9254
URL:https://elkinsrandolphwv.com/event/shoot-sip/
LOCATION:trap\, Files Creek Rd\, Beverly\, West Virginia\, 26253
CATEGORIES:Community,Entertainment,Food & Drink,Outdoors
END:VEVENT
BEGIN:VEVENT
DTSTART;TZID=UTC:20240920T173000
DTEND;TZID=UTC:20240920T190000
DTSTAMP:20260421T104907
CREATED:20240917T044944Z
LAST-MODIFIED:20240917T044944Z
UID:29448-1726853400-1726858800@elkinsrandolphwv.com
SUMMARY:Smoked Cocktail Class | Oxley House
DESCRIPTION:$80 Returning participants \n$100 New participants
URL:https://elkinsrandolphwv.com/event/smoked-cocktail-class-oxley-house/
LOCATION:Oxley House\, 206 Davis Avenue\, Elkins\, WV
CATEGORIES:Community,Entertainment,Food & Drink
ATTACH;FMTTYPE=image/png:https://elkinsrandolphwv.com/wp-content/uploads/2024/05/Oxley-House-Profile-Pic-e1726534174518.png
ORGANIZER;CN="Tygart Hotel":MAILTO:fd.tygart@taylorhospitality.com
END:VEVENT
BEGIN:VEVENT
DTSTART;TZID=UTC:20240920T190000
DTEND;TZID=UTC:20240920T220000
DTSTAMP:20260421T104907
CREATED:20240919T224537Z
LAST-MODIFIED:20240919T224537Z
UID:29475-1726858800-1726869600@elkinsrandolphwv.com
SUMMARY:Crazy Hat Party @ Beanders Restaurant & Tavern
DESCRIPTION:
URL:https://elkinsrandolphwv.com/event/crazy-hat-party-beanders-restaurant-tavern/
LOCATION:Beanders\, 314 Davis Ave\, Elkins\, WV 26241\, USA\, 200 Boundary St\, United States\, 1801 Boundary Dr\, United States
CATEGORIES:Community,Food & Drink
GEO:37.995412;-90.55455
X-APPLE-STRUCTURED-LOCATION;VALUE=URI;X-ADDRESS=Beanders 314 Davis Ave Elkins WV 26241 USA 200 Boundary St United States 1801 Boundary Dr United States;X-APPLE-RADIUS=500;X-TITLE=1801 Boundary Dr:geo:-90.55455,37.995412
END:VEVENT
BEGIN:VEVENT
DTSTART;TZID=UTC:20240920T200000
DTEND;TZID=UTC:20240920T220000
DTSTAMP:20260421T104907
CREATED:20240918T183956Z
LAST-MODIFIED:20240918T183956Z
UID:29466-1726862400-1726869600@elkinsrandolphwv.com
SUMMARY:Live Music at El Gran Sabor | Black Market Shine
DESCRIPTION:Music begins at 8pm
URL:https://elkinsrandolphwv.com/event/live-music-at-el-gran-sabor-black-market-shine/
LOCATION:El Gran Sabor\, 413 Kerens Ave\, Elkins\, WV 26241\, USA\, 155 Kerens Ave\, United States
CATEGORIES:Entertainment,Food & Drink,Music
GEO:38.92349;-79.848286
X-APPLE-STRUCTURED-LOCATION;VALUE=URI;X-ADDRESS=El Gran Sabor 413 Kerens Ave Elkins WV 26241 USA 155 Kerens Ave United States;X-APPLE-RADIUS=500;X-TITLE=155 Kerens Ave:geo:-79.848286,38.92349
END:VEVENT
BEGIN:VEVENT
DTSTART;TZID=UTC:20240921T190000
DTEND;TZID=UTC:20240921T220000
DTSTAMP:20260421T104907
CREATED:20240918T184721Z
LAST-MODIFIED:20240918T184721Z
UID:29468-1726945200-1726956000@elkinsrandolphwv.com
SUMMARY:Open Mic Night at Beander's Resaurant and Tavern
DESCRIPTION:
URL:https://elkinsrandolphwv.com/event/open-mic-night-at-beanders-resaurant-and-tavern/
LOCATION:Beander’s Restaurant & Tavern\, 314 Davis Ave\, Elkins\, WV\, 26241\, United States
CATEGORIES:Food & Drink,Music
GEO:38.944536;-79.85025
X-APPLE-STRUCTURED-LOCATION;VALUE=URI;X-ADDRESS=Beander’s Restaurant & Tavern 314 Davis Ave Elkins WV 26241 United States;X-APPLE-RADIUS=500;X-TITLE=314 Davis Ave:geo:-79.85025,38.944536
END:VEVENT
BEGIN:VEVENT
DTSTART;TZID=UTC:20240928T120000
DTEND;TZID=UTC:20240928T210000
DTSTAMP:20260421T104907
CREATED:20240926T184446Z
LAST-MODIFIED:20240926T184901Z
UID:29549-1727524800-1727557200@elkinsrandolphwv.com
SUMMARY:Corn Maze and Pumpkin Patch @ Snyder Farms
DESCRIPTION:Fridays – 6-9pm (Sept 27 & Oct 4\, 11\, 18 & 25) \nSaturdays – 12 – 9pm (Sept 28 & Oct 5\, 12\, 19 & 26) \nSundays – 12 – 6pm (Sept 29 & Oct 6\, 13\, 20 & 27) \nAdmission:\nChildren (3-12) – $5\nAdults (13+) – $7\nGroups (20+) – $5 \nCards and Cash Accepted.
URL:https://elkinsrandolphwv.com/event/corn-maze-and-pumpkin-patch-snyder-farms/2024-09-28/
LOCATION:Snyder Farms\, 15631 Seneca Trail\, Huttonsville\, WV\, 26273\, United States
CATEGORIES:Food,Food & Drink,Kids & Family,Outdoor Activities,Outdoors
ATTACH;FMTTYPE=image/jpeg:https://elkinsrandolphwv.com/wp-content/uploads/2024/08/snyder-farms-corn-maze.jpg
END:VEVENT
BEGIN:VEVENT
DTSTART;TZID=UTC:20240928T130000
DTEND;TZID=UTC:20240928T160000
DTSTAMP:20260421T104907
CREATED:20240906T225328Z
LAST-MODIFIED:20240906T225328Z
UID:29155-1727528400-1727539200@elkinsrandolphwv.com
SUMMARY:MSFF - Irish Road Bowling - Georgetown Road Course
DESCRIPTION:Registration 12:00 PM / Post Game Awards\, Big Timber Brewing Co.\, 2 Davis Ave\, Shuttle Service
URL:https://elkinsrandolphwv.com/event/msff-irish-road-bowling-georgetown-road-course-2/
LOCATION:Big Timber Brewing\, 2 Davis Avenue\, Elkins\, WV\, 26241\, United States
CATEGORIES:Community,Competition,Food & Drink,Sports & Recreations
ATTACH;FMTTYPE=image/jpeg:https://elkinsrandolphwv.com/wp-content/uploads/2019/10/MSFF-e1661781904912.jpg
END:VEVENT
BEGIN:VEVENT
DTSTART;TZID=UTC:20240928T160000
DTEND;TZID=UTC:20240928T200000
DTSTAMP:20260421T104907
CREATED:20240906T230719Z
LAST-MODIFIED:20240906T230719Z
UID:29161-1727539200-1727553600@elkinsrandolphwv.com
SUMMARY:MSFF - Forest Festival Kickoff Party
DESCRIPTION:Elkins Town Square Festival Feud Game Show starts at 4:00! \nLive Music by Vegas McGraw – 6:00 PM \n*Inclement Weather Phil Gainer Community Center
URL:https://elkinsrandolphwv.com/event/msff-forest-festival-kickoff-party/
LOCATION:Elkins Town Square Ampitheatre\, 315 Railroad Avenue\, Elkins\, WV\, 26241\, United States
CATEGORIES:Community,Entertainment,Food & Drink,Kids & Family,Music,Outdoors
ATTACH;FMTTYPE=image/jpeg:https://elkinsrandolphwv.com/wp-content/uploads/2019/10/MSFF-e1661781904912.jpg
END:VEVENT
BEGIN:VEVENT
DTSTART;TZID=UTC:20240929T180000
DTEND;TZID=UTC:20240929T210000
DTSTAMP:20260421T104907
CREATED:20240926T185834Z
LAST-MODIFIED:20240926T185834Z
UID:29569-1727632800-1727643600@elkinsrandolphwv.com
SUMMARY:Havana in the Hills: A Cuban Chef's Table | The Forks
DESCRIPTION:Embark on a Culinary Journey: A Seven-Course Cuban Chef’s Table \nJoin us on September 29th\, as The Forks brings the vibrant flavors of Cuba to the heart of Appalachia. For $100\, you’ll experience seven courses of authentic Cuban cuisine\, each crafted with care and respect for the ingredients and the stories behind them. From citrus-simmered shrimp to slow-roasted pork marinated in mojo\, each dish transports you to Havana while grounded in Appalachian hospitality. With an optional wine pairing\, this is more than just a meal—it’s a celebration of shared values like family\, hospitality\, and the belief that food is meant to be savored. Seating is limited\, so don’t miss out on this unforgettable night where two cultures come together in the most delicious way. \n  \nReserve your seat: https://www.exploretock.com/theforksrestaurantandinn/event/503710/havana-in-the-hills-a-cuban-chefs-…
URL:https://elkinsrandolphwv.com/event/havana-in-the-hills-a-cuban-chefs-table-the-forks/
LOCATION:The Forks\, 35 Scenic Ridge Rd\, Elkins\, 26241\, United States
CATEGORIES:Food & Drink
ATTACH;FMTTYPE=image/jpeg:https://elkinsrandolphwv.com/wp-content/uploads/2024/09/Forks-Logo.jpg
END:VEVENT
END:VCALENDAR