BEGIN:VCALENDAR
VERSION:2.0
PRODID:-//Elkins-Randolph County Tourism - ECPv6.15.17.1//NONSGML v1.0//EN
CALSCALE:GREGORIAN
METHOD:PUBLISH
X-ORIGINAL-URL:https://elkinsrandolphwv.com
X-WR-CALDESC:Events for Elkins-Randolph County Tourism
REFRESH-INTERVAL;VALUE=DURATION:PT1H
X-Robots-Tag:noindex
X-PUBLISHED-TTL:PT1H
BEGIN:VTIMEZONE
TZID:UTC
BEGIN:STANDARD
TZOFFSETFROM:+0000
TZOFFSETTO:+0000
TZNAME:UTC
DTSTART:20230101T000000
END:STANDARD
END:VTIMEZONE
BEGIN:VEVENT
DTSTART;TZID=UTC:20241205T160000
DTEND;TZID=UTC:20241205T200000
DTSTAMP:20260421T223622
CREATED:20241121T205447Z
LAST-MODIFIED:20241121T205447Z
UID:29741-1733414400-1733428800@elkinsrandolphwv.com
SUMMARY:Pint Night at Big Timber Brewing for Interact Children's Museum
DESCRIPTION:Please join us Thursday\, December 5\, 2024\, from 4:00-8:00 PM at Big Timber Brewing! BTB is donating to our Open the Doors Capital Campaign! ICM will earn $1.00 from every beer purchased from 4-8!\n Our friends at Clementine’s Cantina will be providing coupons for free chips & salsa! Additionally\, they will also be donating ALL of their tips to ICM on 12.5.24!\n Our friends at Gino’s Pizza of Elkins have also partnered with us on 12.5.24! Gino’s will have 50 tickets to give away. They are valid for any of the following: pepperoni bites\, 6 wings\, breadsticks w/cheese\, & 1 topping large pizza!Any purchase of these items with a ticket\, Ginos will donate 20% of the total bill to ICM!\n Please join us to support local small businesses & help ICM Open the Doors at a permanent location!
URL:https://elkinsrandolphwv.com/event/pint-night-at-big-timber-brewing-for-interact-childrens-museum/
LOCATION:Big Timber Brewing\, 2 Davis Avenue\, Elkins\, WV\, 26241\, United States
CATEGORIES:Community,Food & Drink
ORGANIZER;CN="Interact Children's Museum":MAILTO:interactmuseum@gmail.com
END:VEVENT
BEGIN:VEVENT
DTSTART;TZID=UTC:20241206T180000
DTEND;TZID=UTC:20241206T210000
DTSTAMP:20260421T223622
CREATED:20241001T230037Z
LAST-MODIFIED:20241001T230037Z
UID:29602-1733508000-1733518800@elkinsrandolphwv.com
SUMMARY:Mountain Memories Christmas Dinner Show
DESCRIPTION:After a fabulous plated Christmas dinner of teriyaki chicken and ham and all the trimmings\, celebrate the “Reason for the Season” at the Gandy Dancer Theatre! This incredible cast includes talented singers\, beautiful costumed dancers\, comedians and the finest musicians around. \nArrive at 5:30 pm  ~ Dinner at 6:00 pm  ~ Show Only arrive at 6:30 pm  ~ Show at 7:00 pm
URL:https://elkinsrandolphwv.com/event/mountain-memories-christmas-dinner-show-3/
LOCATION:Gandy Dancer Theatre and Conference Center\, 359 Beverly Pike\, Elkins\, WV 26241\, USA\, United States
CATEGORIES:Community,Entertainment,Food & Drink,Kids & Family
ATTACH;FMTTYPE=image/jpeg:https://elkinsrandolphwv.com/wp-content/uploads/2019/03/Gandy-Logo-1-480x335-e1727185281650.jpg
GEO:38.918641;-79.842607
END:VEVENT
BEGIN:VEVENT
DTSTART;TZID=UTC:20241207T070000
DTEND;TZID=UTC:20241207T120000
DTSTAMP:20260421T223622
CREATED:20240903T223721Z
LAST-MODIFIED:20240903T223721Z
UID:29133-1733554800-1733572800@elkinsrandolphwv.com
SUMMARY:Buckwheat / Pancake Breakfast
DESCRIPTION:Hosted by the Home of the Soul Family Worship in partnership with the Tygart Valley Homestead Association. \nWhen: December 7\, 2024 from 7am to noon. \nWhere: Homestead Community Event Center \nPrice: $10.00 All You Can Eat \nMenu May Vary: Sourdough Buckwheat Pancakes\, Regular Pancakes\, Eggs (fried of scrambled)\, Pork Sausage\, Coffee\, Orange Juice\, or Milk
URL:https://elkinsrandolphwv.com/event/buckwheat-pancake-breakfast-5/
LOCATION:Homestead Community Center\, Dailey\, WV\, United States
CATEGORIES:Community,Food,Food & Drink
END:VEVENT
BEGIN:VEVENT
DTSTART;TZID=UTC:20241207T080000
DTEND;TZID=UTC:20241207T110000
DTSTAMP:20260421T223622
CREATED:20240930T180929Z
LAST-MODIFIED:20240930T180929Z
UID:29588-1733558400-1733569200@elkinsrandolphwv.com
SUMMARY:Breakfast with Santa and Friends @ Beverly Fire Dept
DESCRIPTION:Come and support the EHS Class of 2025 and have pancakes\, sausage\, and drinks with Santa\, Mrs Claus and friends. All proceeds support the 2025 EHS Project Safe Graduation Party. Tickets will go on sale in November 2024 thru any EHS senior that signed up to sell tickets. Tickets may also be purchased online starting in October and go thru November 30th at www.eventbrite.com. Tickets will be available for purchase at the door the day of the event.
URL:https://elkinsrandolphwv.com/event/breakfast-with-santa-and-friends-beverly-fire-dept/
LOCATION:Beverly Volunteer Fire Department\, 429 Main St\, Beverly\, WV 26253\, USA\, 25 Main St\, United States
CATEGORIES:Community,Entertainment,Food & Drink,Kids & Family
GEO:38.842835;-79.874052
X-APPLE-STRUCTURED-LOCATION;VALUE=URI;X-ADDRESS=Beverly Volunteer Fire Department 429 Main St Beverly WV 26253 USA 25 Main St United States;X-APPLE-RADIUS=500;X-TITLE=25 Main St:geo:-79.874052,38.842835
END:VEVENT
BEGIN:VEVENT
DTSTART;TZID=UTC:20241207T120000
DTEND;TZID=UTC:20241207T143000
DTSTAMP:20260421T223622
CREATED:20241001T230207Z
LAST-MODIFIED:20241001T230207Z
UID:29603-1733572800-1733581800@elkinsrandolphwv.com
SUMMARY:Mountain Memories Christmas Matinee
DESCRIPTION:Celebrate the “Reason for the Season” at the Gandy Dancer Theatre! This incredible cast includes talented singers\, beautiful costumed dancers\, comedians and the finest musicians around. \nArrive at 11:30 am  ~ Lunch at 12:00 pm  ~ Show Only arrive at 12:30 pm  ~  \nShow at 1:00 pm
URL:https://elkinsrandolphwv.com/event/mountain-memories-christmas-matinee/
LOCATION:Gandy Dancer Theatre and Conference Center\, 359 Beverly Pike\, Elkins\, WV 26241\, USA\, United States
CATEGORIES:Community,Entertainment,Food & Drink,Kids & Family
ATTACH;FMTTYPE=image/jpeg:https://elkinsrandolphwv.com/wp-content/uploads/2019/03/Gandy-Logo-1-480x335-e1727185281650.jpg
GEO:38.918641;-79.842607
END:VEVENT
BEGIN:VEVENT
DTSTART;TZID=UTC:20241207T180000
DTEND;TZID=UTC:20241207T210000
DTSTAMP:20260421T223622
CREATED:20241001T230334Z
LAST-MODIFIED:20241001T230334Z
UID:29604-1733594400-1733605200@elkinsrandolphwv.com
SUMMARY:Mountain Memories Christmas Dinner Show
DESCRIPTION:After a fabulous plated Christmas dinner of teriyaki chicken and ham and all the trimmings\, celebrate the “Reason for the Season” at the Gandy Dancer Theatre! This incredible cast includes talented singers\, beautiful costumed dancers\, comedians and the finest musicians around. \nArrive at 5:30 pm  ~ Dinner at 6:00 pm  ~ Show Only arrive at 6:30 pm  ~ Show at 7:00 pm
URL:https://elkinsrandolphwv.com/event/mountain-memories-christmas-dinner-show-4/
LOCATION:Gandy Dancer Theatre and Conference Center\, 359 Beverly Pike\, Elkins\, WV 26241\, USA\, United States
CATEGORIES:Community,Entertainment,Food & Drink,Kids & Family
ATTACH;FMTTYPE=image/jpeg:https://elkinsrandolphwv.com/wp-content/uploads/2019/03/Gandy-Logo-1-480x335-e1727185281650.jpg
GEO:38.918641;-79.842607
END:VEVENT
BEGIN:VEVENT
DTSTART;TZID=UTC:20241213T180000
DTEND;TZID=UTC:20241213T210000
DTSTAMP:20260421T223622
CREATED:20241001T230506Z
LAST-MODIFIED:20241001T230506Z
UID:29605-1734112800-1734123600@elkinsrandolphwv.com
SUMMARY:Mountain Memories Christmas Dinner Show
DESCRIPTION:After a fabulous plated Christmas dinner of teriyaki chicken and ham and all the trimmings\, celebrate the “Reason for the Season” at the Gandy Dancer Theatre! This incredible cast includes talented singers\, beautiful costumed dancers\, comedians and the finest musicians around. \nArrive at 5:30 pm  ~ Dinner at 6:00 pm  ~ Show Only arrive at 6:30 pm  ~ Show at 7:00 pm
URL:https://elkinsrandolphwv.com/event/mountain-memories-christmas-dinner-show-5/
LOCATION:Gandy Dancer Theatre and Conference Center\, 359 Beverly Pike\, Elkins\, WV 26241\, USA\, United States
CATEGORIES:Community,Entertainment,Food & Drink,Kids & Family,Music
ATTACH;FMTTYPE=image/jpeg:https://elkinsrandolphwv.com/wp-content/uploads/2019/03/Gandy-Logo-1-480x335-e1727185281650.jpg
GEO:38.918641;-79.842607
END:VEVENT
BEGIN:VEVENT
DTSTART;TZID=UTC:20241213T200000
DTEND;TZID=UTC:20241213T200000
DTSTAMP:20260421T223622
CREATED:20240930T180017Z
LAST-MODIFIED:20240930T180017Z
UID:29586-1734120000-1734120000@elkinsrandolphwv.com
SUMMARY:10th Annual Winter Gala @ Elks Lodge
DESCRIPTION:This 21 & over adult semi-formal/formal dance is being hosted by the GFWC Junior Woman’s Club of Elkins. Dress for the ladies is semi formal attire\, cocktail dresses or long formal gowns and for the men dress is a dress pants and a nice shirt\, nice suit or a tux. NO JEANS PLEASE.\nTicket prices are as follows: Table of 10 is $245 via PayPal is $250\, Table of 8 is $195 via PayPal is $200\, Couple is $65 via PayPal is $70\, and Single is $45 via PayPal is $50. There will only be 200 tickets sold and tickets wil go on sale in August 2024. If you would like to pre reserve a table please let me know.\nHeavy H’ordeavors will be served and a cash bar will be provided by the Elks Lodge.
URL:https://elkinsrandolphwv.com/event/10th-annual-winter-gala-elks-lodge/
LOCATION:Elks Lodge\, 1135 Beverly Pike\, Elkins\, WV 26241\, USA\, 101 Beverly Pike\, United States
CATEGORIES:Community,Entertainment,Food & Drink
GEO:39.021631;-79.933385
X-APPLE-STRUCTURED-LOCATION;VALUE=URI;X-ADDRESS=Elks Lodge 1135 Beverly Pike Elkins WV 26241 USA 101 Beverly Pike United States;X-APPLE-RADIUS=500;X-TITLE=101 Beverly Pike:geo:-79.933385,39.021631
END:VEVENT
BEGIN:VEVENT
DTSTART;TZID=UTC:20241213T200000
DTEND;TZID=UTC:20241213T233000
DTSTAMP:20260421T223622
CREATED:20241010T230551Z
LAST-MODIFIED:20241010T230551Z
UID:29620-1734120000-1734132600@elkinsrandolphwv.com
SUMMARY:90s & 00s Night at Big Timber
DESCRIPTION:It’s 90s & 00s Night at Big Timber featuring MDB!\nMotorcycle Drive By makes their return to Big Timber for a night of all of your favorite 90s and 00s songs along with the one hit wonders you forgot about
URL:https://elkinsrandolphwv.com/event/90s-00s-night-at-big-timber/
LOCATION:Big Timber Brewing\, 2 Davis Avenue\, Elkins\, WV\, 26241\, United States
CATEGORIES:Community,Entertainment,Food & Drink,Music
ATTACH;FMTTYPE=image/jpeg:https://elkinsrandolphwv.com/wp-content/uploads/2019/03/big-timber-1-e1725543945387.jpg
END:VEVENT
BEGIN:VEVENT
DTSTART;TZID=UTC:20241214T120000
DTEND;TZID=UTC:20241214T143000
DTSTAMP:20260421T223622
CREATED:20241001T231030Z
LAST-MODIFIED:20241001T231030Z
UID:29607-1734177600-1734186600@elkinsrandolphwv.com
SUMMARY:Mountain Memories Christmas Matinee
DESCRIPTION:Celebrate the “Reason for the Season” at the Gandy Dancer Theatre! This incredible cast includes talented singers\, beautiful costumed dancers\, comedians and the finest musicians around. \nArrive at 11:30 am  ~ Lunch at 12:00 pm  ~ Show Only arrive at 12:30 pm  ~  \nShow at 1:00 pm
URL:https://elkinsrandolphwv.com/event/mountain-memories-christmas-matinee-2/
LOCATION:Gandy Dancer Theatre and Conference Center\, 359 Beverly Pike\, Elkins\, WV 26241\, USA\, United States
CATEGORIES:Community,Entertainment,Food & Drink,Kids & Family
ATTACH;FMTTYPE=image/jpeg:https://elkinsrandolphwv.com/wp-content/uploads/2019/03/Gandy-Logo-1-480x335-e1727185281650.jpg
GEO:38.918641;-79.842607
END:VEVENT
BEGIN:VEVENT
DTSTART;TZID=UTC:20241214T180000
DTEND;TZID=UTC:20241214T210000
DTSTAMP:20260421T223622
CREATED:20241001T231148Z
LAST-MODIFIED:20241001T231148Z
UID:29608-1734199200-1734210000@elkinsrandolphwv.com
SUMMARY:Mountain Memories Christmas Dinner Show
DESCRIPTION:After a fabulous plated Christmas dinner of teriyaki chicken and ham and all the trimmings\, celebrate the “Reason for the Season” at the Gandy Dancer Theatre! This incredible cast includes talented singers\, beautiful costumed dancers\, comedians and the finest musicians around. \nArrive at 5:30 pm  ~ Dinner at 6:00 pm  ~ Show Only arrive at 6:30 pm  ~ Show at 7:00 pm
URL:https://elkinsrandolphwv.com/event/mountain-memories-christmas-dinner-show-6/
LOCATION:Gandy Dancer Theatre and Conference Center\, 359 Beverly Pike\, Elkins\, WV 26241\, USA\, United States
CATEGORIES:Community,Entertainment,Food & Drink,Kids & Family
ATTACH;FMTTYPE=image/jpeg:https://elkinsrandolphwv.com/wp-content/uploads/2019/03/Gandy-Logo-1-480x335-e1727185281650.jpg
GEO:38.918641;-79.842607
END:VEVENT
BEGIN:VEVENT
DTSTART;TZID=UTC:20241215T180000
DTEND;TZID=UTC:20241215T210000
DTSTAMP:20260421T223622
CREATED:20241001T231313Z
LAST-MODIFIED:20241001T231313Z
UID:29609-1734285600-1734296400@elkinsrandolphwv.com
SUMMARY:Mountain Memories Christmas Dinner Show
DESCRIPTION:After a fabulous plated Christmas dinner of teriyaki chicken and ham and all the trimmings\, celebrate the “Reason for the Season” at the Gandy Dancer Theatre! This incredible cast includes talented singers\, beautiful costumed dancers\, comedians and the finest musicians around. \nArrive at 5:30 pm  ~ Dinner at 6:00 pm  ~ Show Only arrive at 6:30 pm  ~ Show at 7:00 pm
URL:https://elkinsrandolphwv.com/event/mountain-memories-christmas-dinner-show-7/
LOCATION:Gandy Dancer Theatre and Conference Center\, 359 Beverly Pike\, Elkins\, WV 26241\, USA\, United States
CATEGORIES:Community,Entertainment,Food & Drink,Kids & Family
ATTACH;FMTTYPE=image/jpeg:https://elkinsrandolphwv.com/wp-content/uploads/2019/03/Gandy-Logo-1-480x335-e1727185281650.jpg
GEO:38.918641;-79.842607
END:VEVENT
BEGIN:VEVENT
DTSTART;TZID=UTC:20241219T180000
DTEND;TZID=UTC:20241219T210000
DTSTAMP:20260421T223622
CREATED:20241001T231437Z
LAST-MODIFIED:20241001T231437Z
UID:29610-1734631200-1734642000@elkinsrandolphwv.com
SUMMARY:Mountain Memories Christmas Dinner Show
DESCRIPTION:After a fabulous plated Christmas dinner of teriyaki chicken and ham and all the trimmings\, celebrate the “Reason for the Season” at the Gandy Dancer Theatre! This incredible cast includes talented singers\, beautiful costumed dancers\, comedians and the finest musicians around. \nArrive at 5:30 pm  ~ Dinner at 6:00 pm  ~ Show Only arrive at 6:30 pm  ~ Show at 7:00 pm
URL:https://elkinsrandolphwv.com/event/mountain-memories-christmas-dinner-show-8/
LOCATION:Gandy Dancer Theatre and Conference Center\, 359 Beverly Pike\, Elkins\, WV 26241\, USA\, United States
CATEGORIES:Community,Entertainment,Food & Drink,Kids & Family
ATTACH;FMTTYPE=image/jpeg:https://elkinsrandolphwv.com/wp-content/uploads/2019/03/Gandy-Logo-1-480x335-e1727185281650.jpg
GEO:38.918641;-79.842607
END:VEVENT
BEGIN:VEVENT
DTSTART;TZID=UTC:20241220T180000
DTEND;TZID=UTC:20241220T210000
DTSTAMP:20260421T223622
CREATED:20241001T231556Z
LAST-MODIFIED:20241001T231556Z
UID:29611-1734717600-1734728400@elkinsrandolphwv.com
SUMMARY:Mountain Memories Christmas Dinner Show
DESCRIPTION:After a fabulous plated Christmas dinner of teriyaki chicken and ham and all the trimmings\, celebrate the “Reason for the Season” at the Gandy Dancer Theatre! This incredible cast includes talented singers\, beautiful costumed dancers\, comedians and the finest musicians around. \nArrive at 5:30 pm  ~ Dinner at 6:00 pm  ~ Show Only arrive at 6:30 pm  ~ Show at 7:00 pm
URL:https://elkinsrandolphwv.com/event/mountain-memories-christmas-dinner-show-9/
LOCATION:Gandy Dancer Theatre and Conference Center\, 359 Beverly Pike\, Elkins\, WV 26241\, USA\, United States
CATEGORIES:Community,Entertainment,Food & Drink,Kids & Family
ATTACH;FMTTYPE=image/jpeg:https://elkinsrandolphwv.com/wp-content/uploads/2019/03/Gandy-Logo-1-480x335-e1727185281650.jpg
GEO:38.918641;-79.842607
END:VEVENT
BEGIN:VEVENT
DTSTART;TZID=UTC:20241221T120000
DTEND;TZID=UTC:20241221T143000
DTSTAMP:20260421T223622
CREATED:20241001T231727Z
LAST-MODIFIED:20241001T231727Z
UID:29612-1734782400-1734791400@elkinsrandolphwv.com
SUMMARY:Mountain Memories Christmas Matinee
DESCRIPTION:Celebrate the “Reason for the Season” at the Gandy Dancer Theatre! This incredible cast includes talented singers\, beautiful costumed dancers\, comedians and the finest musicians around. \nArrive at 11:30 am  ~ Lunch at 12:00 pm  ~ Show Only arrive at 12:30 pm  ~  \nShow at 1:00 pm
URL:https://elkinsrandolphwv.com/event/mountain-memories-christmas-matinee-3/
LOCATION:Gandy Dancer Theatre and Conference Center\, 359 Beverly Pike\, Elkins\, WV 26241\, USA\, United States
CATEGORIES:Community,Entertainment,Food & Drink,Kids & Family
ATTACH;FMTTYPE=image/jpeg:https://elkinsrandolphwv.com/wp-content/uploads/2019/03/Gandy-Logo-1-480x335-e1727185281650.jpg
GEO:38.918641;-79.842607
END:VEVENT
BEGIN:VEVENT
DTSTART;TZID=UTC:20241221T180000
DTEND;TZID=UTC:20241221T210000
DTSTAMP:20260421T223622
CREATED:20241001T231853Z
LAST-MODIFIED:20241001T231853Z
UID:29613-1734804000-1734814800@elkinsrandolphwv.com
SUMMARY:Mountain Memories Christmas Dinner Show
DESCRIPTION:After a fabulous plated Christmas dinner of teriyaki chicken and ham and all the trimmings\, celebrate the “Reason for the Season” at the Gandy Dancer Theatre! This incredible cast includes talented singers\, beautiful costumed dancers\, comedians and the finest musicians around. \nArrive at 5:30 pm  ~ Dinner at 6:00 pm  ~ Show Only arrive at 6:30 pm  ~ Show at 7:00 pm
URL:https://elkinsrandolphwv.com/event/mountain-memories-christmas-dinner-show-10/
LOCATION:Gandy Dancer Theatre and Conference Center\, 359 Beverly Pike\, Elkins\, WV 26241\, USA\, United States
CATEGORIES:Community,Entertainment,Food & Drink,Kids & Family,Music
ATTACH;FMTTYPE=image/jpeg:https://elkinsrandolphwv.com/wp-content/uploads/2019/03/Gandy-Logo-1-480x335-e1727185281650.jpg
GEO:38.918641;-79.842607
END:VEVENT
BEGIN:VEVENT
DTSTART;TZID=UTC:20241222T180000
DTEND;TZID=UTC:20241222T210000
DTSTAMP:20260421T223622
CREATED:20241001T232021Z
LAST-MODIFIED:20241001T232021Z
UID:29614-1734890400-1734901200@elkinsrandolphwv.com
SUMMARY:Mountain Memories Christmas Dinner Show
DESCRIPTION:After a fabulous plated Christmas dinner of teriyaki chicken and ham and all the trimmings\, celebrate the “Reason for the Season” at the Gandy Dancer Theatre! This incredible cast includes talented singers\, beautiful costumed dancers\, comedians and the finest musicians around. \nArrive at 5:30 pm  ~ Dinner at 6:00 pm  ~ Show Only arrive at 6:30 pm  ~ Show at 7:00 pm
URL:https://elkinsrandolphwv.com/event/mountain-memories-christmas-dinner-show-11/
LOCATION:Gandy Dancer Theatre and Conference Center\, 359 Beverly Pike\, Elkins\, WV 26241\, USA\, United States
CATEGORIES:Community,Entertainment,Food & Drink,Kids & Family,Music
ATTACH;FMTTYPE=image/jpeg:https://elkinsrandolphwv.com/wp-content/uploads/2019/03/Gandy-Logo-1-480x335-e1727185281650.jpg
GEO:38.918641;-79.842607
END:VEVENT
END:VCALENDAR