BEGIN:VCALENDAR
VERSION:2.0
PRODID:-//Elkins-Randolph County Tourism - ECPv6.15.20//NONSGML v1.0//EN
CALSCALE:GREGORIAN
METHOD:PUBLISH
X-WR-CALNAME:Elkins-Randolph County Tourism
X-ORIGINAL-URL:https://elkinsrandolphwv.com
X-WR-CALDESC:Events for Elkins-Randolph County Tourism
REFRESH-INTERVAL;VALUE=DURATION:PT1H
X-Robots-Tag:noindex
X-PUBLISHED-TTL:PT1H
BEGIN:VTIMEZONE
TZID:UTC
BEGIN:STANDARD
TZOFFSETFROM:+0000
TZOFFSETTO:+0000
TZNAME:UTC
DTSTART:20220101T000000
END:STANDARD
END:VTIMEZONE
BEGIN:VEVENT
DTSTART;TZID=UTC:20230811T180000
DTEND;TZID=UTC:20230811T210000
DTSTAMP:20260425T070004
CREATED:20230518T222123Z
LAST-MODIFIED:20230518T222123Z
UID:27193-1691776800-1691787600@elkinsrandolphwv.com
SUMMARY:Gandy Dancer Theatre: Tribute Show
DESCRIPTION:Tribute to Musical Legends\n\n\nEnjoy this amazing show where our performers pay their tribute to such musical legends as Dolly Parton\, Kenny Rogers\, John and June Cash\, Elvis and many more.\n \n\nEvening\n~ Arrive at 5:30 pm ~\n~ Dinner at 6:00 pm ~\n~ Show Only arrive at 6:30 pm ~\n~ Show at 7:00 pm ~\n \n\nRotisserie chicken breast\, barbeque pulled pork\, parsley potatoes\, coleslaw\,\ncorn\, dinner roll\, dessert and beverage. \n\nRates (do not include tax or fees):\n\n\n\n\nShow and Meal\n\n\nAdult\n$42.95 per person\n\n\nSenior (55 yrs +)\n$40.95 per person\n\n\nYouth 4-11 yrs\n$23.95 per youth\n\n\nChildren 3 yrs and under\nFree\n\n\nAdult Military\n$38.66 per person\n\n\nSenior (55+) Military\n$36.86 per person\n\n\n\n\n\n\nShow Only\n\n\nAdult\n$27.95 per person\n\n\nSenior (55 yrs +)\n$26.95 per person\n\n\nYouth 4-11 yrs\n$15.95 per youth\n\n\nChildren 3 yrs and under\nFree\n\n\n\n\n\nCALENDAR & BOOK TICKETS
URL:https://elkinsrandolphwv.com/event/gandy-dancer-theatre-tribute-show-2/2023-08-11/
CATEGORIES:Art & Culture,Entertainment,Food,Food & Drink,Kids & Family,Music
ATTACH;FMTTYPE=image/png:https://elkinsrandolphwv.com/wp-content/uploads/2023/05/Tribute-to-Musical-Legends-Gandy-Dancer.png
END:VEVENT
BEGIN:VEVENT
DTSTART;TZID=UTC:20230811T200000
DTEND;TZID=UTC:20230811T220000
DTSTAMP:20260425T070004
CREATED:20230809T002821Z
LAST-MODIFIED:20230809T002821Z
UID:27543-1691784000-1691791200@elkinsrandolphwv.com
SUMMARY:El Gran Sabor Live Music: The Juggling Suns
DESCRIPTION:El Gran Sabor is a casual Venezuelan restaurant that features pan-Latin dishes served in a converted house with a bar & live music. El Gran Sabor has live music Wednesday & Friday evenings starting around 8pm every week.\nFor more information visit https://elgransabor.com/.
URL:https://elkinsrandolphwv.com/event/el-gran-sabor-live-music-the-juggling-suns/2023-08-11/
LOCATION:El Gran Sabor\, 413 Kerens Ave\, Elkins\, WV 26241\, USA\, 155 Kerens Ave\, United States
CATEGORIES:Food & Drink,Music
ATTACH;FMTTYPE=image/jpeg:https://elkinsrandolphwv.com/wp-content/uploads/2023/08/El-Gran-Image.jpeg
GEO:38.92349;-79.848286
X-APPLE-STRUCTURED-LOCATION;VALUE=URI;X-ADDRESS=El Gran Sabor 413 Kerens Ave Elkins WV 26241 USA 155 Kerens Ave United States;X-APPLE-RADIUS=500;X-TITLE=155 Kerens Ave:geo:-79.848286,38.92349
END:VEVENT
END:VCALENDAR