BEGIN:VCALENDAR
VERSION:2.0
PRODID:-//Elkins-Randolph County Tourism - ECPv6.15.20//NONSGML v1.0//EN
CALSCALE:GREGORIAN
METHOD:PUBLISH
X-ORIGINAL-URL:https://elkinsrandolphwv.com
X-WR-CALDESC:Events for Elkins-Randolph County Tourism
REFRESH-INTERVAL;VALUE=DURATION:PT1H
X-Robots-Tag:noindex
X-PUBLISHED-TTL:PT1H
BEGIN:VTIMEZONE
TZID:UTC
BEGIN:STANDARD
TZOFFSETFROM:+0000
TZOFFSETTO:+0000
TZNAME:UTC
DTSTART:20220101T000000
END:STANDARD
END:VTIMEZONE
BEGIN:VEVENT
DTSTART;TZID=UTC:20230824T200000
DTEND;TZID=UTC:20230824T220000
DTSTAMP:20260424T023541
CREATED:20230809T004823Z
LAST-MODIFIED:20230809T004823Z
UID:27548-1692907200-1692914400@elkinsrandolphwv.com
SUMMARY:El Gran Sabor Live Music: Shane Meade & The Sound
DESCRIPTION:El Gran Sabor is a casual Venezuelan restaurant that features pan-Latin dishes served in a converted house with a bar & live music. El Gran Sabor has live music Wednesday & Friday evenings starting around 8pm every week.\nFor more information visit https://elgransabor.com/
URL:https://elkinsrandolphwv.com/event/el-gran-sabor-live-music-shane-meade-the-sound/
LOCATION:El Gran Sabor\, 413 Kerens Ave\, Elkins\, WV 26241\, USA\, 155 Kerens Ave\, United States
CATEGORIES:Food & Drink,Music
ATTACH;FMTTYPE=image/jpeg:https://elkinsrandolphwv.com/wp-content/uploads/2023/08/El-Gran-Image.jpeg
GEO:38.92349;-79.848286
X-APPLE-STRUCTURED-LOCATION;VALUE=URI;X-ADDRESS=El Gran Sabor 413 Kerens Ave Elkins WV 26241 USA 155 Kerens Ave United States;X-APPLE-RADIUS=500;X-TITLE=155 Kerens Ave:geo:-79.848286,38.92349
END:VEVENT
END:VCALENDAR