BEGIN:VCALENDAR
VERSION:2.0
PRODID:-//Elkins-Randolph County Tourism - ECPv6.15.20//NONSGML v1.0//EN
CALSCALE:GREGORIAN
METHOD:PUBLISH
X-ORIGINAL-URL:https://elkinsrandolphwv.com
X-WR-CALDESC:Events for Elkins-Randolph County Tourism
REFRESH-INTERVAL;VALUE=DURATION:PT1H
X-Robots-Tag:noindex
X-PUBLISHED-TTL:PT1H
BEGIN:VTIMEZONE
TZID:UTC
BEGIN:STANDARD
TZOFFSETFROM:+0000
TZOFFSETTO:+0000
TZNAME:UTC
DTSTART:20220101T000000
END:STANDARD
END:VTIMEZONE
BEGIN:VEVENT
DTSTART;TZID=UTC:20230830T180000
DTEND;TZID=UTC:20230830T210000
DTSTAMP:20260424T055422
CREATED:20230518T223554Z
LAST-MODIFIED:20230518T223554Z
UID:27198-1693418400-1693429200@elkinsrandolphwv.com
SUMMARY:Gandy Dancer Theatre: Tribute Show
DESCRIPTION:Tribute to Musical Legends\n\n\nEnjoy this amazing show where our performers pay their tribute to such musical legends as Dolly Parton\, Kenny Rogers\, John and June Cash\, Elvis and many more.\n \n\nEvening\n~ Arrive at 5:30 pm ~\n~ Dinner at 6:00 pm ~\n~ Show Only arrive at 6:30 pm ~\n~ Show at 7:00 pm ~\n \n\nRotisserie chicken breast\, barbeque pulled pork\, parsley potatoes\, coleslaw\,\ncorn\, dinner roll\, dessert and beverage. \n\nRates (do not include tax or fees):\n\n\n\n\nShow and Meal\n\n\nAdult\n$42.95 per person\n\n\nSenior (55 yrs +)\n$40.95 per person\n\n\nYouth 4-11 yrs\n$23.95 per youth\n\n\nChildren 3 yrs and under\nFree\n\n\nAdult Military\n$38.66 per person\n\n\nSenior (55+) Military\n$36.86 per person\n\n\n\n\n\n\nShow Only\n\n\nAdult\n$27.95 per person\n\n\nSenior (55 yrs +)\n$26.95 per person\n\n\nYouth 4-11 yrs\n$15.95 per youth\n\n\nChildren 3 yrs and under\nFree\n\n\n\n\n\nCALENDAR & BOOK TICKETS
URL:https://elkinsrandolphwv.com/event/gandy-dancer-theatre-tribute-show-3/
LOCATION:Gandy Dancer Theatre and Conference Center\, 359 Beverly Pike\, Elkins\, WV 26241\, USA\, United States
CATEGORIES:Art & Culture,Entertainment,Food,Food & Drink,Kids & Family,Music
ATTACH;FMTTYPE=image/png:https://elkinsrandolphwv.com/wp-content/uploads/2023/05/Tribute-to-Musical-Legends-Gandy-Dancer.png
GEO:38.918641;-79.842607
END:VEVENT
BEGIN:VEVENT
DTSTART;TZID=UTC:20230830T200000
DTEND;TZID=UTC:20230830T220000
DTSTAMP:20260424T055422
CREATED:20230809T005336Z
LAST-MODIFIED:20230809T005336Z
UID:27550-1693425600-1693432800@elkinsrandolphwv.com
SUMMARY:El Gran Sabor Live Music: Dealain
DESCRIPTION:El Gran Sabor is a casual Venezuelan restaurant that features pan-Latin dishes served in a converted house with a bar & live music. El Gran Sabor has live music Wednesday & Friday evenings starting around 8pm every week.\nFor more information visit https://elgransabor.com/
URL:https://elkinsrandolphwv.com/event/el-gran-sabor-live-music-dealain/
LOCATION:El Gran Sabor\, 413 Kerens Ave\, Elkins\, WV 26241\, USA\, 155 Kerens Ave\, United States
CATEGORIES:Food & Drink,Music
ATTACH;FMTTYPE=image/jpeg:https://elkinsrandolphwv.com/wp-content/uploads/2023/08/El-Gran-Image.jpeg
GEO:38.92349;-79.848286
X-APPLE-STRUCTURED-LOCATION;VALUE=URI;X-ADDRESS=El Gran Sabor 413 Kerens Ave Elkins WV 26241 USA 155 Kerens Ave United States;X-APPLE-RADIUS=500;X-TITLE=155 Kerens Ave:geo:-79.848286,38.92349
END:VEVENT
END:VCALENDAR